BEGIN:VCALENDAR
VERSION:2.0
PRODID:-//Lambda Center Houston - ECPv6.15.16//NONSGML v1.0//EN
CALSCALE:GREGORIAN
METHOD:PUBLISH
X-WR-CALNAME:Lambda Center Houston
X-ORIGINAL-URL:https://lambdahouston.org
X-WR-CALDESC:Events for Lambda Center Houston
REFRESH-INTERVAL;VALUE=DURATION:PT1H
X-Robots-Tag:noindex
X-PUBLISHED-TTL:PT1H
BEGIN:VTIMEZONE
TZID:America/Chicago
BEGIN:DAYLIGHT
TZOFFSETFROM:-0600
TZOFFSETTO:-0500
TZNAME:CDT
DTSTART:20240310T080000
END:DAYLIGHT
BEGIN:STANDARD
TZOFFSETFROM:-0500
TZOFFSETTO:-0600
TZNAME:CST
DTSTART:20241103T070000
END:STANDARD
BEGIN:DAYLIGHT
TZOFFSETFROM:-0600
TZOFFSETTO:-0500
TZNAME:CDT
DTSTART:20250309T080000
END:DAYLIGHT
BEGIN:STANDARD
TZOFFSETFROM:-0500
TZOFFSETTO:-0600
TZNAME:CST
DTSTART:20251102T070000
END:STANDARD
BEGIN:DAYLIGHT
TZOFFSETFROM:-0600
TZOFFSETTO:-0500
TZNAME:CDT
DTSTART:20260308T080000
END:DAYLIGHT
BEGIN:STANDARD
TZOFFSETFROM:-0500
TZOFFSETTO:-0600
TZNAME:CST
DTSTART:20261101T070000
END:STANDARD
END:VTIMEZONE
BEGIN:VEVENT
DTSTART;TZID=America/Chicago:20251213T080000
DTEND;TZID=America/Chicago:20251213T080000
DTSTAMP:20260425T055210
CREATED:20240715T034549Z
LAST-MODIFIED:20240715T135408Z
UID:10022128-1765612800-1765612800@lambdahouston.org
SUMMARY:Lambda Center Opens
DESCRIPTION:
URL:https://lambdahouston.org/events/lambda-center-opens-2/2025-12-13
LOCATION:Lambda Center Houston\, West Clay Street\, Houston\, TX\, 77019\, United States
GEO:29.7551684;-95.3940619
X-APPLE-STRUCTURED-LOCATION;VALUE=URI;X-ADDRESS=Lambda Center Houston West Clay Street Houston TX 77019 United States;X-APPLE-RADIUS=500;X-TITLE=West Clay Street:geo:-95.3940619,29.7551684
END:VEVENT
BEGIN:VEVENT
DTSTART;TZID=America/Chicago:20251213T083000
DTEND;TZID=America/Chicago:20251213T093000
DTSTAMP:20260425T055210
CREATED:20240715T024602Z
LAST-MODIFIED:20240715T024602Z
UID:10017430-1765614600-1765618200@lambdahouston.org
SUMMARY:Early Bird
DESCRIPTION:
URL:https://lambdahouston.org/events/early-bird/2025-12-13
LOCATION:Lambda Center Houston\, West Clay Street\, Houston\, TX\, 77019\, United States
CATEGORIES:AA
GEO:29.7551684;-95.3940619
X-APPLE-STRUCTURED-LOCATION;VALUE=URI;X-ADDRESS=Lambda Center Houston West Clay Street Houston TX 77019 United States;X-APPLE-RADIUS=500;X-TITLE=West Clay Street:geo:-95.3940619,29.7551684
END:VEVENT
BEGIN:VEVENT
DTSTART;TZID=America/Chicago:20251213T100000
DTEND;TZID=America/Chicago:20251213T110000
DTSTAMP:20260425T055210
CREATED:20240715T024855Z
LAST-MODIFIED:20240715T024855Z
UID:10017691-1765620000-1765623600@lambdahouston.org
SUMMARY:The 11th Step Group
DESCRIPTION:
URL:https://lambdahouston.org/events/the-11th-step-group/2025-12-13
LOCATION:Lambda Center Houston\, West Clay Street\, Houston\, TX\, 77019\, United States
CATEGORIES:AA
GEO:29.7551684;-95.3940619
X-APPLE-STRUCTURED-LOCATION;VALUE=URI;X-ADDRESS=Lambda Center Houston West Clay Street Houston TX 77019 United States;X-APPLE-RADIUS=500;X-TITLE=West Clay Street:geo:-95.3940619,29.7551684
END:VEVENT
BEGIN:VEVENT
DTSTART;TZID=America/Chicago:20251213T100000
DTEND;TZID=America/Chicago:20251213T110000
DTSTAMP:20260425T055210
CREATED:20240715T025304Z
LAST-MODIFIED:20240715T025304Z
UID:10017952-1765620000-1765623600@lambdahouston.org
SUMMARY:4th Dimension (Women's Discussion)
DESCRIPTION:
URL:https://lambdahouston.org/events/4th-dimension-womens-discussion/2025-12-13
LOCATION:Lambda Center Houston\, West Clay Street\, Houston\, TX\, 77019\, United States
CATEGORIES:AA
GEO:29.7551684;-95.3940619
X-APPLE-STRUCTURED-LOCATION;VALUE=URI;X-ADDRESS=Lambda Center Houston West Clay Street Houston TX 77019 United States;X-APPLE-RADIUS=500;X-TITLE=West Clay Street:geo:-95.3940619,29.7551684
END:VEVENT
BEGIN:VEVENT
DTSTART;TZID=America/Chicago:20251213T113000
DTEND;TZID=America/Chicago:20251213T123000
DTSTAMP:20260425T055210
CREATED:20240715T025611Z
LAST-MODIFIED:20240715T025611Z
UID:10018213-1765625400-1765629000@lambdahouston.org
SUMMARY:Eye Opener
DESCRIPTION:
URL:https://lambdahouston.org/events/eye-opener/2025-12-13
LOCATION:Lambda Center Houston\, West Clay Street\, Houston\, TX\, 77019\, United States
CATEGORIES:AA
GEO:29.7551684;-95.3940619
X-APPLE-STRUCTURED-LOCATION;VALUE=URI;X-ADDRESS=Lambda Center Houston West Clay Street Houston TX 77019 United States;X-APPLE-RADIUS=500;X-TITLE=West Clay Street:geo:-95.3940619,29.7551684
END:VEVENT
BEGIN:VEVENT
DTSTART;TZID=America/Chicago:20251213T113000
DTEND;TZID=America/Chicago:20251213T130000
DTSTAMP:20260425T055210
CREATED:20240715T030301Z
LAST-MODIFIED:20240715T030301Z
UID:10018474-1765625400-1765630800@lambdahouston.org
SUMMARY:Loving Parent Guidebook (90 mins)
DESCRIPTION:
URL:https://lambdahouston.org/events/loving-parent-guidebook-90-mins/2025-12-13
LOCATION:Lambda Center Houston\, West Clay Street\, Houston\, TX\, 77019\, United States
CATEGORIES:ACA
GEO:29.7551684;-95.3940619
X-APPLE-STRUCTURED-LOCATION;VALUE=URI;X-ADDRESS=Lambda Center Houston West Clay Street Houston TX 77019 United States;X-APPLE-RADIUS=500;X-TITLE=West Clay Street:geo:-95.3940619,29.7551684
END:VEVENT
BEGIN:VEVENT
DTSTART;TZID=America/Chicago:20251213T150000
DTEND;TZID=America/Chicago:20251213T160000
DTSTAMP:20260425T055210
CREATED:20240715T030647Z
LAST-MODIFIED:20240715T030647Z
UID:10018735-1765638000-1765641600@lambdahouston.org
SUMMARY:Meditate & Create
DESCRIPTION:
URL:https://lambdahouston.org/events/meditate-create/2025-12-13
LOCATION:Lambda Center Houston\, West Clay Street\, Houston\, TX\, 77019\, United States
CATEGORIES:AA
GEO:29.7551684;-95.3940619
X-APPLE-STRUCTURED-LOCATION;VALUE=URI;X-ADDRESS=Lambda Center Houston West Clay Street Houston TX 77019 United States;X-APPLE-RADIUS=500;X-TITLE=West Clay Street:geo:-95.3940619,29.7551684
END:VEVENT
BEGIN:VEVENT
DTSTART;TZID=America/Chicago:20251213T190000
DTEND;TZID=America/Chicago:20251213T200000
DTSTAMP:20260425T055210
CREATED:20240715T031101Z
LAST-MODIFIED:20240715T031135Z
UID:10018979-1765652400-1765656000@lambdahouston.org
SUMMARY:Saturday Night Live
DESCRIPTION:Every Saturday except for the last Saturday of the month.
URL:https://lambdahouston.org/events/saturday-night-live/2025-12-13
LOCATION:Lambda Center Houston\, West Clay Street\, Houston\, TX\, 77019\, United States
CATEGORIES:AA
GEO:29.7551684;-95.3940619
X-APPLE-STRUCTURED-LOCATION;VALUE=URI;X-ADDRESS=Lambda Center Houston West Clay Street Houston TX 77019 United States;X-APPLE-RADIUS=500;X-TITLE=West Clay Street:geo:-95.3940619,29.7551684
END:VEVENT
BEGIN:VEVENT
DTSTART;TZID=America/Chicago:20251213T203000
DTEND;TZID=America/Chicago:20251213T213000
DTSTAMP:20260425T055210
CREATED:20240715T032739Z
LAST-MODIFIED:20250601T152213Z
UID:10028840-1765657800-1765661400@lambdahouston.org
SUMMARY:Candlelight Meeting
DESCRIPTION:
URL:https://lambdahouston.org/events/candlelight-meeting/2025-12-13
LOCATION:Lambda Center Houston\, West Clay Street\, Houston\, TX\, 77019\, United States
CATEGORIES:CMA
GEO:29.7551684;-95.3940619
X-APPLE-STRUCTURED-LOCATION;VALUE=URI;X-ADDRESS=Lambda Center Houston West Clay Street Houston TX 77019 United States;X-APPLE-RADIUS=500;X-TITLE=West Clay Street:geo:-95.3940619,29.7551684
END:VEVENT
BEGIN:VEVENT
DTSTART;TZID=America/Chicago:20251213T230000
DTEND;TZID=America/Chicago:20251213T230000
DTSTAMP:20260425T055210
CREATED:20240715T034712Z
LAST-MODIFIED:20240715T135633Z
UID:10022389-1765666800-1765666800@lambdahouston.org
SUMMARY:Lambda Center Closes
DESCRIPTION:
URL:https://lambdahouston.org/events/lambda-center-closes-2/2025-12-13
LOCATION:Lambda Center Houston\, West Clay Street\, Houston\, TX\, 77019\, United States
GEO:29.7551684;-95.3940619
X-APPLE-STRUCTURED-LOCATION;VALUE=URI;X-ADDRESS=Lambda Center Houston West Clay Street Houston TX 77019 United States;X-APPLE-RADIUS=500;X-TITLE=West Clay Street:geo:-95.3940619,29.7551684
END:VEVENT
END:VCALENDAR