BEGIN:VCALENDAR
VERSION:2.0
PRODID:-//Lambda Center Houston - ECPv6.15.16//NONSGML v1.0//EN
CALSCALE:GREGORIAN
METHOD:PUBLISH
X-WR-CALNAME:Lambda Center Houston
X-ORIGINAL-URL:https://lambdahouston.org
X-WR-CALDESC:Events for Lambda Center Houston
REFRESH-INTERVAL;VALUE=DURATION:PT1H
X-Robots-Tag:noindex
X-PUBLISHED-TTL:PT1H
BEGIN:VTIMEZONE
TZID:America/Chicago
BEGIN:DAYLIGHT
TZOFFSETFROM:-0600
TZOFFSETTO:-0500
TZNAME:CDT
DTSTART:20240310T080000
END:DAYLIGHT
BEGIN:STANDARD
TZOFFSETFROM:-0500
TZOFFSETTO:-0600
TZNAME:CST
DTSTART:20241103T070000
END:STANDARD
BEGIN:DAYLIGHT
TZOFFSETFROM:-0600
TZOFFSETTO:-0500
TZNAME:CDT
DTSTART:20250309T080000
END:DAYLIGHT
BEGIN:STANDARD
TZOFFSETFROM:-0500
TZOFFSETTO:-0600
TZNAME:CST
DTSTART:20251102T070000
END:STANDARD
BEGIN:DAYLIGHT
TZOFFSETFROM:-0600
TZOFFSETTO:-0500
TZNAME:CDT
DTSTART:20260308T080000
END:DAYLIGHT
BEGIN:STANDARD
TZOFFSETFROM:-0500
TZOFFSETTO:-0600
TZNAME:CST
DTSTART:20261101T070000
END:STANDARD
END:VTIMEZONE
BEGIN:VEVENT
DTSTART;TZID=America/Chicago:20251214T093000
DTEND;TZID=America/Chicago:20251214T100000
DTSTAMP:20260425T223002
CREATED:20240714T150551Z
LAST-MODIFIED:20240714T150711Z
UID:10000725-1765704600-1765706400@lambdahouston.org
SUMMARY:Came to Believe
DESCRIPTION:
URL:https://lambdahouston.org/events/came-to-believe/2025-12-14
LOCATION:Lambda Center Houston\, West Clay Street\, Houston\, TX\, 77019\, United States
CATEGORIES:AA
GEO:29.7551684;-95.3940619
X-APPLE-STRUCTURED-LOCATION;VALUE=URI;X-ADDRESS=Lambda Center Houston West Clay Street Houston TX 77019 United States;X-APPLE-RADIUS=500;X-TITLE=West Clay Street:geo:-95.3940619,29.7551684
END:VEVENT
BEGIN:VEVENT
DTSTART;TZID=America/Chicago:20251214T093000
DTEND;TZID=America/Chicago:20251214T103000
DTSTAMP:20260425T223002
CREATED:20240719T141047Z
LAST-MODIFIED:20240719T141047Z
UID:10024999-1765704600-1765708200@lambdahouston.org
SUMMARY:Virtual Came to Believe
DESCRIPTION:Sunday 9:30 AM\nOpen AA Discussion\nbit.ly/lambdasun930\nMeeting ID: 236-304-186 | Passcode: 878696 \nJOIN MEETING
URL:https://lambdahouston.org/events/virtual-came-to-believe/2025-12-14
LOCATION:Zoom
CATEGORIES:AA
END:VEVENT
BEGIN:VEVENT
DTSTART;TZID=America/Chicago:20251214T110000
DTEND;TZID=America/Chicago:20251214T120000
DTSTAMP:20260425T223002
CREATED:20240714T195040Z
LAST-MODIFIED:20240714T195040Z
UID:10001248-1765710000-1765713600@lambdahouston.org
SUMMARY:Hang Loose Grapevine
DESCRIPTION:
URL:https://lambdahouston.org/events/hang-loose-grapevine/2025-12-14
LOCATION:Lambda Center Houston\, West Clay Street\, Houston\, TX\, 77019\, United States
CATEGORIES:AA
GEO:29.7551684;-95.3940619
X-APPLE-STRUCTURED-LOCATION;VALUE=URI;X-ADDRESS=Lambda Center Houston West Clay Street Houston TX 77019 United States;X-APPLE-RADIUS=500;X-TITLE=West Clay Street:geo:-95.3940619,29.7551684
END:VEVENT
BEGIN:VEVENT
DTSTART;TZID=America/Chicago:20251214T170000
DTEND;TZID=America/Chicago:20251214T180000
DTSTAMP:20260425T223002
CREATED:20240714T230656Z
LAST-MODIFIED:20240714T230656Z
UID:10001509-1765731600-1765735200@lambdahouston.org
SUMMARY:Stretch & Surrender (Yoga & Discussion)
DESCRIPTION:
URL:https://lambdahouston.org/events/stretch-surrender-yoga-discussion/2025-12-14
LOCATION:Lambda Center Houston\, West Clay Street\, Houston\, TX\, 77019\, United States
CATEGORIES:AA
GEO:29.7551684;-95.3940619
X-APPLE-STRUCTURED-LOCATION;VALUE=URI;X-ADDRESS=Lambda Center Houston West Clay Street Houston TX 77019 United States;X-APPLE-RADIUS=500;X-TITLE=West Clay Street:geo:-95.3940619,29.7551684
END:VEVENT
BEGIN:VEVENT
DTSTART;TZID=America/Chicago:20251214T190000
DTEND;TZID=America/Chicago:20251214T200000
DTSTAMP:20260425T223002
CREATED:20240714T231512Z
LAST-MODIFIED:20240714T232212Z
UID:10002031-1765738800-1765742400@lambdahouston.org
SUMMARY:Sunday Evening
DESCRIPTION:
URL:https://lambdahouston.org/events/sunday-evening/2025-12-14
LOCATION:Lambda Center Houston\, West Clay Street\, Houston\, TX\, 77019\, United States
CATEGORIES:AA
GEO:29.7551684;-95.3940619
X-APPLE-STRUCTURED-LOCATION;VALUE=URI;X-ADDRESS=Lambda Center Houston West Clay Street Houston TX 77019 United States;X-APPLE-RADIUS=500;X-TITLE=West Clay Street:geo:-95.3940619,29.7551684
END:VEVENT
BEGIN:VEVENT
DTSTART;TZID=America/Chicago:20251214T203000
DTEND;TZID=America/Chicago:20251214T213000
DTSTAMP:20260425T223002
CREATED:20250623T201137Z
LAST-MODIFIED:20250623T205043Z
UID:10031653-1765744200-1765747800@lambdahouston.org
SUMMARY:Last Call for Serenity Sunday
DESCRIPTION:
URL:https://lambdahouston.org/events/last-call-for-serenity-sunday-2/2025-12-14
LOCATION:Lambda Center Houston\, West Clay Street\, Houston\, TX\, 77019\, United States
CATEGORIES:AA
GEO:29.7551684;-95.3940619
X-APPLE-STRUCTURED-LOCATION;VALUE=URI;X-ADDRESS=Lambda Center Houston West Clay Street Houston TX 77019 United States;X-APPLE-RADIUS=500;X-TITLE=West Clay Street:geo:-95.3940619,29.7551684
END:VEVENT
END:VCALENDAR