BEGIN:VCALENDAR
VERSION:2.0
PRODID:-//Lambda Center Houston - ECPv6.15.16//NONSGML v1.0//EN
CALSCALE:GREGORIAN
METHOD:PUBLISH
X-WR-CALNAME:Lambda Center Houston
X-ORIGINAL-URL:https://lambdahouston.org
X-WR-CALDESC:Events for Lambda Center Houston
REFRESH-INTERVAL;VALUE=DURATION:PT1H
X-Robots-Tag:noindex
X-PUBLISHED-TTL:PT1H
BEGIN:VTIMEZONE
TZID:America/Chicago
BEGIN:DAYLIGHT
TZOFFSETFROM:-0600
TZOFFSETTO:-0500
TZNAME:CDT
DTSTART:20250309T080000
END:DAYLIGHT
BEGIN:STANDARD
TZOFFSETFROM:-0500
TZOFFSETTO:-0600
TZNAME:CST
DTSTART:20251102T070000
END:STANDARD
BEGIN:DAYLIGHT
TZOFFSETFROM:-0600
TZOFFSETTO:-0500
TZNAME:CDT
DTSTART:20260308T080000
END:DAYLIGHT
BEGIN:STANDARD
TZOFFSETFROM:-0500
TZOFFSETTO:-0600
TZNAME:CST
DTSTART:20261101T070000
END:STANDARD
BEGIN:DAYLIGHT
TZOFFSETFROM:-0600
TZOFFSETTO:-0500
TZNAME:CDT
DTSTART:20270314T080000
END:DAYLIGHT
BEGIN:STANDARD
TZOFFSETFROM:-0500
TZOFFSETTO:-0600
TZNAME:CST
DTSTART:20271107T070000
END:STANDARD
END:VTIMEZONE
BEGIN:VEVENT
DTSTART;TZID=America/Chicago:20260414T121500
DTEND;TZID=America/Chicago:20260414T131500
DTSTAMP:20260424T055730
CREATED:20240714T234530Z
LAST-MODIFIED:20240714T234633Z
UID:10007712-1776168900-1776172500@lambdahouston.org
SUMMARY:The 12:15 Group
DESCRIPTION:
URL:https://lambdahouston.org/events/the-1215-group/2026-04-14
LOCATION:Lambda Center Houston\, West Clay Street\, Houston\, TX\, 77019\, United States
CATEGORIES:AA
GEO:29.7551684;-95.3940619
X-APPLE-STRUCTURED-LOCATION;VALUE=URI;X-ADDRESS=Lambda Center Houston West Clay Street Houston TX 77019 United States;X-APPLE-RADIUS=500;X-TITLE=West Clay Street:geo:-95.3940619,29.7551684
END:VEVENT
BEGIN:VEVENT
DTSTART;TZID=America/Chicago:20260414T171500
DTEND;TZID=America/Chicago:20260414T181500
DTSTAMP:20260424T055730
CREATED:20240715T011450Z
LAST-MODIFIED:20240715T011848Z
UID:10011967-1776186900-1776190500@lambdahouston.org
SUMMARY:Unwound
DESCRIPTION:
URL:https://lambdahouston.org/events/unwound/2026-04-14
LOCATION:Lambda Center Houston\, West Clay Street\, Houston\, TX\, 77019\, United States
CATEGORIES:AA
GEO:29.7551684;-95.3940619
X-APPLE-STRUCTURED-LOCATION;VALUE=URI;X-ADDRESS=Lambda Center Houston West Clay Street Houston TX 77019 United States;X-APPLE-RADIUS=500;X-TITLE=West Clay Street:geo:-95.3940619,29.7551684
END:VEVENT
BEGIN:VEVENT
DTSTART;TZID=America/Chicago:20260414T183000
DTEND;TZID=America/Chicago:20260414T193000
DTSTAMP:20260424T055730
CREATED:20240715T013044Z
LAST-MODIFIED:20240715T013044Z
UID:10012489-1776191400-1776195000@lambdahouston.org
SUMMARY:Double Digit
DESCRIPTION:
URL:https://lambdahouston.org/events/double-digit/2026-04-14
LOCATION:Lambda Center Houston\, West Clay Street\, Houston\, TX\, 77019\, United States
CATEGORIES:AA
GEO:29.7551684;-95.3940619
X-APPLE-STRUCTURED-LOCATION;VALUE=URI;X-ADDRESS=Lambda Center Houston West Clay Street Houston TX 77019 United States;X-APPLE-RADIUS=500;X-TITLE=West Clay Street:geo:-95.3940619,29.7551684
END:VEVENT
BEGIN:VEVENT
DTSTART;TZID=America/Chicago:20260414T213000
DTEND;TZID=America/Chicago:20260414T223000
DTSTAMP:20260424T055730
CREATED:20250623T200839Z
LAST-MODIFIED:20250623T205152Z
UID:10032105-1776202200-1776205800@lambdahouston.org
SUMMARY:Last Call for Serenity
DESCRIPTION:
URL:https://lambdahouston.org/events/last-call-for-serenity-2/2026-04-14
LOCATION:Lambda Center Houston\, West Clay Street\, Houston\, TX\, 77019\, United States
CATEGORIES:AA
GEO:29.7551684;-95.3940619
X-APPLE-STRUCTURED-LOCATION;VALUE=URI;X-ADDRESS=Lambda Center Houston West Clay Street Houston TX 77019 United States;X-APPLE-RADIUS=500;X-TITLE=West Clay Street:geo:-95.3940619,29.7551684
END:VEVENT
BEGIN:VEVENT
DTSTART;TZID=America/Chicago:20260415T063000
DTEND;TZID=America/Chicago:20260415T073000
DTSTAMP:20260424T055730
CREATED:20240714T233421Z
LAST-MODIFIED:20240714T233729Z
UID:10003536-1776234600-1776238200@lambdahouston.org
SUMMARY:Eyes Wide Shut
DESCRIPTION:
URL:https://lambdahouston.org/events/eyes-wide-shut/2026-04-15
LOCATION:Lambda Center Houston\, West Clay Street\, Houston\, TX\, 77019\, United States
CATEGORIES:AA
GEO:29.7551684;-95.3940619
X-APPLE-STRUCTURED-LOCATION;VALUE=URI;X-ADDRESS=Lambda Center Houston West Clay Street Houston TX 77019 United States;X-APPLE-RADIUS=500;X-TITLE=West Clay Street:geo:-95.3940619,29.7551684
END:VEVENT
BEGIN:VEVENT
DTSTART;TZID=America/Chicago:20260415T063000
DTEND;TZID=America/Chicago:20260415T073000
DTSTAMP:20260424T055730
CREATED:20240719T140125Z
LAST-MODIFIED:20240719T140125Z
UID:10023552-1776234600-1776238200@lambdahouston.org
SUMMARY:Virtual Eyes Wide Shut
DESCRIPTION:Monday-Friday 6:30 AM\nOpen AA Discussion\nbit.ly/lambdavirtualews\nMeeting ID: 199-058-948 | Passcode: 364724 \n  \nJOIN 6:30 AM MEETING
URL:https://lambdahouston.org/events/virtual-eyes-wide-shut/2026-04-15
LOCATION:Lambda Center Houston\, West Clay Street\, Houston\, TX\, 77019\, United States
CATEGORIES:AA
GEO:29.7551684;-95.3940619
X-APPLE-STRUCTURED-LOCATION;VALUE=URI;X-ADDRESS=Lambda Center Houston West Clay Street Houston TX 77019 United States;X-APPLE-RADIUS=500;X-TITLE=West Clay Street:geo:-95.3940619,29.7551684
END:VEVENT
BEGIN:VEVENT
DTSTART;TZID=America/Chicago:20260415T121500
DTEND;TZID=America/Chicago:20260415T131500
DTSTAMP:20260424T055730
CREATED:20240715T013955Z
LAST-MODIFIED:20240715T013955Z
UID:10013272-1776255300-1776258900@lambdahouston.org
SUMMARY:The 12:15 Group (Speaker)
DESCRIPTION:
URL:https://lambdahouston.org/events/the-1215-group-speaker/2026-04-15
LOCATION:Lambda Center Houston\, West Clay Street\, Houston\, TX\, 77019\, United States
CATEGORIES:AA
GEO:29.7551684;-95.3940619
X-APPLE-STRUCTURED-LOCATION;VALUE=URI;X-ADDRESS=Lambda Center Houston West Clay Street Houston TX 77019 United States;X-APPLE-RADIUS=500;X-TITLE=West Clay Street:geo:-95.3940619,29.7551684
END:VEVENT
BEGIN:VEVENT
DTSTART;TZID=America/Chicago:20260415T171500
DTEND;TZID=America/Chicago:20260415T181500
DTSTAMP:20260424T055730
CREATED:20240715T014337Z
LAST-MODIFIED:20240715T014337Z
UID:10013533-1776273300-1776276900@lambdahouston.org
SUMMARY:The Promises
DESCRIPTION:
URL:https://lambdahouston.org/events/the-promises/2026-04-15
LOCATION:Lambda Center Houston\, West Clay Street\, Houston\, TX\, 77019\, United States
CATEGORIES:AA
GEO:29.7551684;-95.3940619
X-APPLE-STRUCTURED-LOCATION;VALUE=URI;X-ADDRESS=Lambda Center Houston West Clay Street Houston TX 77019 United States;X-APPLE-RADIUS=500;X-TITLE=West Clay Street:geo:-95.3940619,29.7551684
END:VEVENT
BEGIN:VEVENT
DTSTART;TZID=America/Chicago:20260415T183000
DTEND;TZID=America/Chicago:20260415T193000
DTSTAMP:20260424T055730
CREATED:20240715T015640Z
LAST-MODIFIED:20240715T015640Z
UID:10014316-1776277800-1776281400@lambdahouston.org
SUMMARY:Women on Wednesday
DESCRIPTION:
URL:https://lambdahouston.org/events/women-on-wednesday/2026-04-15
LOCATION:Lambda Center Houston\, West Clay Street\, Houston\, TX\, 77019\, United States
CATEGORIES:AA
GEO:29.7551684;-95.3940619
X-APPLE-STRUCTURED-LOCATION;VALUE=URI;X-ADDRESS=Lambda Center Houston West Clay Street Houston TX 77019 United States;X-APPLE-RADIUS=500;X-TITLE=West Clay Street:geo:-95.3940619,29.7551684
END:VEVENT
BEGIN:VEVENT
DTSTART;TZID=America/Chicago:20260415T200000
DTEND;TZID=America/Chicago:20260415T210000
DTSTAMP:20260424T055730
CREATED:20241120T215947Z
LAST-MODIFIED:20241120T215948Z
UID:10014577-1776283200-1776286800@lambdahouston.org
SUMMARY:Secular\, Atheists\, and Free-thinkers
DESCRIPTION:Formerly Atheists & Agnostics Group and Humanist Group
URL:https://lambdahouston.org/events/secular-atheists-and-free-thinkers/2026-04-15
LOCATION:Lambda Center Houston\, West Clay Street\, Houston\, TX\, 77019\, United States
CATEGORIES:AA
GEO:29.7551684;-95.3940619
X-APPLE-STRUCTURED-LOCATION;VALUE=URI;X-ADDRESS=Lambda Center Houston West Clay Street Houston TX 77019 United States;X-APPLE-RADIUS=500;X-TITLE=West Clay Street:geo:-95.3940619,29.7551684
END:VEVENT
BEGIN:VEVENT
DTSTART;TZID=America/Chicago:20260415T213000
DTEND;TZID=America/Chicago:20260415T223000
DTSTAMP:20260424T055730
CREATED:20250623T200839Z
LAST-MODIFIED:20250623T205152Z
UID:10032106-1776288600-1776292200@lambdahouston.org
SUMMARY:Last Call for Serenity
DESCRIPTION:
URL:https://lambdahouston.org/events/last-call-for-serenity-2/2026-04-15
LOCATION:Lambda Center Houston\, West Clay Street\, Houston\, TX\, 77019\, United States
CATEGORIES:AA
GEO:29.7551684;-95.3940619
X-APPLE-STRUCTURED-LOCATION;VALUE=URI;X-ADDRESS=Lambda Center Houston West Clay Street Houston TX 77019 United States;X-APPLE-RADIUS=500;X-TITLE=West Clay Street:geo:-95.3940619,29.7551684
END:VEVENT
BEGIN:VEVENT
DTSTART;TZID=America/Chicago:20260416T063000
DTEND;TZID=America/Chicago:20260416T073000
DTSTAMP:20260424T055730
CREATED:20240714T233421Z
LAST-MODIFIED:20240714T233729Z
UID:10003537-1776321000-1776324600@lambdahouston.org
SUMMARY:Eyes Wide Shut
DESCRIPTION:
URL:https://lambdahouston.org/events/eyes-wide-shut/2026-04-16
LOCATION:Lambda Center Houston\, West Clay Street\, Houston\, TX\, 77019\, United States
CATEGORIES:AA
GEO:29.7551684;-95.3940619
X-APPLE-STRUCTURED-LOCATION;VALUE=URI;X-ADDRESS=Lambda Center Houston West Clay Street Houston TX 77019 United States;X-APPLE-RADIUS=500;X-TITLE=West Clay Street:geo:-95.3940619,29.7551684
END:VEVENT
BEGIN:VEVENT
DTSTART;TZID=America/Chicago:20260416T063000
DTEND;TZID=America/Chicago:20260416T073000
DTSTAMP:20260424T055730
CREATED:20240719T140125Z
LAST-MODIFIED:20240719T140125Z
UID:10023553-1776321000-1776324600@lambdahouston.org
SUMMARY:Virtual Eyes Wide Shut
DESCRIPTION:Monday-Friday 6:30 AM\nOpen AA Discussion\nbit.ly/lambdavirtualews\nMeeting ID: 199-058-948 | Passcode: 364724 \n  \nJOIN 6:30 AM MEETING
URL:https://lambdahouston.org/events/virtual-eyes-wide-shut/2026-04-16
LOCATION:Lambda Center Houston\, West Clay Street\, Houston\, TX\, 77019\, United States
CATEGORIES:AA
GEO:29.7551684;-95.3940619
X-APPLE-STRUCTURED-LOCATION;VALUE=URI;X-ADDRESS=Lambda Center Houston West Clay Street Houston TX 77019 United States;X-APPLE-RADIUS=500;X-TITLE=West Clay Street:geo:-95.3940619,29.7551684
END:VEVENT
BEGIN:VEVENT
DTSTART;TZID=America/Chicago:20260416T121500
DTEND;TZID=America/Chicago:20260416T131500
DTSTAMP:20260424T055730
CREATED:20240714T234530Z
LAST-MODIFIED:20240714T234633Z
UID:10007713-1776341700-1776345300@lambdahouston.org
SUMMARY:The 12:15 Group
DESCRIPTION:
URL:https://lambdahouston.org/events/the-1215-group/2026-04-16
LOCATION:Lambda Center Houston\, West Clay Street\, Houston\, TX\, 77019\, United States
CATEGORIES:AA
GEO:29.7551684;-95.3940619
X-APPLE-STRUCTURED-LOCATION;VALUE=URI;X-ADDRESS=Lambda Center Houston West Clay Street Houston TX 77019 United States;X-APPLE-RADIUS=500;X-TITLE=West Clay Street:geo:-95.3940619,29.7551684
END:VEVENT
BEGIN:VEVENT
DTSTART;TZID=America/Chicago:20260416T171500
DTEND;TZID=America/Chicago:20260416T181500
DTSTAMP:20260424T055730
CREATED:20240715T020422Z
LAST-MODIFIED:20240715T020503Z
UID:10014838-1776359700-1776363300@lambdahouston.org
SUMMARY:I Want to Scream!
DESCRIPTION:
URL:https://lambdahouston.org/events/i-want-to-scream/2026-04-16
LOCATION:Lambda Center Houston\, West Clay Street\, Houston\, TX\, 77019\, United States
CATEGORIES:AA
GEO:29.7551684;-95.3940619
X-APPLE-STRUCTURED-LOCATION;VALUE=URI;X-ADDRESS=Lambda Center Houston West Clay Street Houston TX 77019 United States;X-APPLE-RADIUS=500;X-TITLE=West Clay Street:geo:-95.3940619,29.7551684
END:VEVENT
BEGIN:VEVENT
DTSTART;TZID=America/Chicago:20260416T183000
DTEND;TZID=America/Chicago:20260416T193000
DTSTAMP:20260424T055730
CREATED:20250506T004416Z
LAST-MODIFIED:20250506T004416Z
UID:10015621-1776364200-1776367800@lambdahouston.org
SUMMARY:Plain Language Big Book
DESCRIPTION:
URL:https://lambdahouston.org/events/plain-language-big-book/2026-04-16
LOCATION:Lambda Center Houston\, West Clay Street\, Houston\, TX\, 77019\, United States
CATEGORIES:AA
GEO:29.7551684;-95.3940619
X-APPLE-STRUCTURED-LOCATION;VALUE=URI;X-ADDRESS=Lambda Center Houston West Clay Street Houston TX 77019 United States;X-APPLE-RADIUS=500;X-TITLE=West Clay Street:geo:-95.3940619,29.7551684
END:VEVENT
BEGIN:VEVENT
DTSTART;TZID=America/Chicago:20260416T213000
DTEND;TZID=America/Chicago:20260416T223000
DTSTAMP:20260424T055730
CREATED:20250623T200839Z
LAST-MODIFIED:20250623T205152Z
UID:10032107-1776375000-1776378600@lambdahouston.org
SUMMARY:Last Call for Serenity
DESCRIPTION:
URL:https://lambdahouston.org/events/last-call-for-serenity-2/2026-04-16
LOCATION:Lambda Center Houston\, West Clay Street\, Houston\, TX\, 77019\, United States
CATEGORIES:AA
GEO:29.7551684;-95.3940619
X-APPLE-STRUCTURED-LOCATION;VALUE=URI;X-ADDRESS=Lambda Center Houston West Clay Street Houston TX 77019 United States;X-APPLE-RADIUS=500;X-TITLE=West Clay Street:geo:-95.3940619,29.7551684
END:VEVENT
BEGIN:VEVENT
DTSTART;TZID=America/Chicago:20260417T063000
DTEND;TZID=America/Chicago:20260417T073000
DTSTAMP:20260424T055730
CREATED:20240714T233421Z
LAST-MODIFIED:20240714T233729Z
UID:10003538-1776407400-1776411000@lambdahouston.org
SUMMARY:Eyes Wide Shut
DESCRIPTION:
URL:https://lambdahouston.org/events/eyes-wide-shut/2026-04-17
LOCATION:Lambda Center Houston\, West Clay Street\, Houston\, TX\, 77019\, United States
CATEGORIES:AA
GEO:29.7551684;-95.3940619
X-APPLE-STRUCTURED-LOCATION;VALUE=URI;X-ADDRESS=Lambda Center Houston West Clay Street Houston TX 77019 United States;X-APPLE-RADIUS=500;X-TITLE=West Clay Street:geo:-95.3940619,29.7551684
END:VEVENT
BEGIN:VEVENT
DTSTART;TZID=America/Chicago:20260417T063000
DTEND;TZID=America/Chicago:20260417T073000
DTSTAMP:20260424T055730
CREATED:20240719T140125Z
LAST-MODIFIED:20240719T140125Z
UID:10023554-1776407400-1776411000@lambdahouston.org
SUMMARY:Virtual Eyes Wide Shut
DESCRIPTION:Monday-Friday 6:30 AM\nOpen AA Discussion\nbit.ly/lambdavirtualews\nMeeting ID: 199-058-948 | Passcode: 364724 \n  \nJOIN 6:30 AM MEETING
URL:https://lambdahouston.org/events/virtual-eyes-wide-shut/2026-04-17
LOCATION:Lambda Center Houston\, West Clay Street\, Houston\, TX\, 77019\, United States
CATEGORIES:AA
GEO:29.7551684;-95.3940619
X-APPLE-STRUCTURED-LOCATION;VALUE=URI;X-ADDRESS=Lambda Center Houston West Clay Street Houston TX 77019 United States;X-APPLE-RADIUS=500;X-TITLE=West Clay Street:geo:-95.3940619,29.7551684
END:VEVENT
BEGIN:VEVENT
DTSTART;TZID=America/Chicago:20260417T121500
DTEND;TZID=America/Chicago:20260417T131500
DTSTAMP:20260424T055730
CREATED:20240714T234530Z
LAST-MODIFIED:20240714T234633Z
UID:10007714-1776428100-1776431700@lambdahouston.org
SUMMARY:The 12:15 Group
DESCRIPTION:
URL:https://lambdahouston.org/events/the-1215-group/2026-04-17
LOCATION:Lambda Center Houston\, West Clay Street\, Houston\, TX\, 77019\, United States
CATEGORIES:AA
GEO:29.7551684;-95.3940619
X-APPLE-STRUCTURED-LOCATION;VALUE=URI;X-ADDRESS=Lambda Center Houston West Clay Street Houston TX 77019 United States;X-APPLE-RADIUS=500;X-TITLE=West Clay Street:geo:-95.3940619,29.7551684
END:VEVENT
BEGIN:VEVENT
DTSTART;TZID=America/Chicago:20260417T171500
DTEND;TZID=America/Chicago:20260417T181500
DTSTAMP:20260424T055730
CREATED:20240715T023311Z
LAST-MODIFIED:20240715T023311Z
UID:10016404-1776446100-1776449700@lambdahouston.org
SUMMARY:Study and Grow
DESCRIPTION:
URL:https://lambdahouston.org/events/study-and-grow/2026-04-17
LOCATION:Lambda Center Houston\, West Clay Street\, Houston\, TX\, 77019\, United States
CATEGORIES:AA
GEO:29.7551684;-95.3940619
X-APPLE-STRUCTURED-LOCATION;VALUE=URI;X-ADDRESS=Lambda Center Houston West Clay Street Houston TX 77019 United States;X-APPLE-RADIUS=500;X-TITLE=West Clay Street:geo:-95.3940619,29.7551684
END:VEVENT
BEGIN:VEVENT
DTSTART;TZID=America/Chicago:20260417T183000
DTEND;TZID=America/Chicago:20260417T193000
DTSTAMP:20260424T055730
CREATED:20240715T023703Z
LAST-MODIFIED:20240715T024155Z
UID:10016665-1776450600-1776454200@lambdahouston.org
SUMMARY:Positive Sobriety
DESCRIPTION:
URL:https://lambdahouston.org/events/positive-sobriety/2026-04-17
LOCATION:Lambda Center Houston\, West Clay Street\, Houston\, TX\, 77019\, United States
CATEGORIES:AA
GEO:29.7551684;-95.3940619
X-APPLE-STRUCTURED-LOCATION;VALUE=URI;X-ADDRESS=Lambda Center Houston West Clay Street Houston TX 77019 United States;X-APPLE-RADIUS=500;X-TITLE=West Clay Street:geo:-95.3940619,29.7551684
END:VEVENT
BEGIN:VEVENT
DTSTART;TZID=America/Chicago:20260417T194500
DTEND;TZID=America/Chicago:20260417T204500
DTSTAMP:20260424T055730
CREATED:20240715T024046Z
LAST-MODIFIED:20240715T024046Z
UID:10016926-1776455100-1776458700@lambdahouston.org
SUMMARY:The 10th Step Group
DESCRIPTION:
URL:https://lambdahouston.org/events/the-10th-step-group/2026-04-17
LOCATION:Lambda Center Houston\, West Clay Street\, Houston\, TX\, 77019\, United States
CATEGORIES:AA
GEO:29.7551684;-95.3940619
X-APPLE-STRUCTURED-LOCATION;VALUE=URI;X-ADDRESS=Lambda Center Houston West Clay Street Houston TX 77019 United States;X-APPLE-RADIUS=500;X-TITLE=West Clay Street:geo:-95.3940619,29.7551684
END:VEVENT
BEGIN:VEVENT
DTSTART;TZID=America/Chicago:20260417T213000
DTEND;TZID=America/Chicago:20260417T223000
DTSTAMP:20260424T055730
CREATED:20250623T200839Z
LAST-MODIFIED:20250623T205152Z
UID:10032108-1776461400-1776465000@lambdahouston.org
SUMMARY:Last Call for Serenity
DESCRIPTION:
URL:https://lambdahouston.org/events/last-call-for-serenity-2/2026-04-17
LOCATION:Lambda Center Houston\, West Clay Street\, Houston\, TX\, 77019\, United States
CATEGORIES:AA
GEO:29.7551684;-95.3940619
X-APPLE-STRUCTURED-LOCATION;VALUE=URI;X-ADDRESS=Lambda Center Houston West Clay Street Houston TX 77019 United States;X-APPLE-RADIUS=500;X-TITLE=West Clay Street:geo:-95.3940619,29.7551684
END:VEVENT
BEGIN:VEVENT
DTSTART;TZID=America/Chicago:20260418T083000
DTEND;TZID=America/Chicago:20260418T093000
DTSTAMP:20260424T055730
CREATED:20240715T024602Z
LAST-MODIFIED:20240715T024602Z
UID:10017448-1776501000-1776504600@lambdahouston.org
SUMMARY:Early Bird
DESCRIPTION:
URL:https://lambdahouston.org/events/early-bird/2026-04-18
LOCATION:Lambda Center Houston\, West Clay Street\, Houston\, TX\, 77019\, United States
CATEGORIES:AA
GEO:29.7551684;-95.3940619
X-APPLE-STRUCTURED-LOCATION;VALUE=URI;X-ADDRESS=Lambda Center Houston West Clay Street Houston TX 77019 United States;X-APPLE-RADIUS=500;X-TITLE=West Clay Street:geo:-95.3940619,29.7551684
END:VEVENT
BEGIN:VEVENT
DTSTART;TZID=America/Chicago:20260418T100000
DTEND;TZID=America/Chicago:20260418T110000
DTSTAMP:20260424T055730
CREATED:20240715T024855Z
LAST-MODIFIED:20240715T024855Z
UID:10017709-1776506400-1776510000@lambdahouston.org
SUMMARY:The 11th Step Group
DESCRIPTION:
URL:https://lambdahouston.org/events/the-11th-step-group/2026-04-18
LOCATION:Lambda Center Houston\, West Clay Street\, Houston\, TX\, 77019\, United States
CATEGORIES:AA
GEO:29.7551684;-95.3940619
X-APPLE-STRUCTURED-LOCATION;VALUE=URI;X-ADDRESS=Lambda Center Houston West Clay Street Houston TX 77019 United States;X-APPLE-RADIUS=500;X-TITLE=West Clay Street:geo:-95.3940619,29.7551684
END:VEVENT
BEGIN:VEVENT
DTSTART;TZID=America/Chicago:20260418T100000
DTEND;TZID=America/Chicago:20260418T110000
DTSTAMP:20260424T055730
CREATED:20240715T025304Z
LAST-MODIFIED:20240715T025304Z
UID:10017970-1776506400-1776510000@lambdahouston.org
SUMMARY:4th Dimension (Women's Discussion)
DESCRIPTION:
URL:https://lambdahouston.org/events/4th-dimension-womens-discussion/2026-04-18
LOCATION:Lambda Center Houston\, West Clay Street\, Houston\, TX\, 77019\, United States
CATEGORIES:AA
GEO:29.7551684;-95.3940619
X-APPLE-STRUCTURED-LOCATION;VALUE=URI;X-ADDRESS=Lambda Center Houston West Clay Street Houston TX 77019 United States;X-APPLE-RADIUS=500;X-TITLE=West Clay Street:geo:-95.3940619,29.7551684
END:VEVENT
BEGIN:VEVENT
DTSTART;TZID=America/Chicago:20260418T113000
DTEND;TZID=America/Chicago:20260418T123000
DTSTAMP:20260424T055730
CREATED:20240715T025611Z
LAST-MODIFIED:20240715T025611Z
UID:10018231-1776511800-1776515400@lambdahouston.org
SUMMARY:Eye Opener
DESCRIPTION:
URL:https://lambdahouston.org/events/eye-opener/2026-04-18
LOCATION:Lambda Center Houston\, West Clay Street\, Houston\, TX\, 77019\, United States
CATEGORIES:AA
GEO:29.7551684;-95.3940619
X-APPLE-STRUCTURED-LOCATION;VALUE=URI;X-ADDRESS=Lambda Center Houston West Clay Street Houston TX 77019 United States;X-APPLE-RADIUS=500;X-TITLE=West Clay Street:geo:-95.3940619,29.7551684
END:VEVENT
BEGIN:VEVENT
DTSTART;TZID=America/Chicago:20260418T150000
DTEND;TZID=America/Chicago:20260418T160000
DTSTAMP:20260424T055730
CREATED:20240715T030647Z
LAST-MODIFIED:20240715T030647Z
UID:10018753-1776524400-1776528000@lambdahouston.org
SUMMARY:Meditate & Create
DESCRIPTION:
URL:https://lambdahouston.org/events/meditate-create/2026-04-18
LOCATION:Lambda Center Houston\, West Clay Street\, Houston\, TX\, 77019\, United States
CATEGORIES:AA
GEO:29.7551684;-95.3940619
X-APPLE-STRUCTURED-LOCATION;VALUE=URI;X-ADDRESS=Lambda Center Houston West Clay Street Houston TX 77019 United States;X-APPLE-RADIUS=500;X-TITLE=West Clay Street:geo:-95.3940619,29.7551684
END:VEVENT
BEGIN:VEVENT
DTSTART;TZID=America/Chicago:20260418T190000
DTEND;TZID=America/Chicago:20260418T200000
DTSTAMP:20260424T055730
CREATED:20240715T031101Z
LAST-MODIFIED:20240715T031135Z
UID:10018993-1776538800-1776542400@lambdahouston.org
SUMMARY:Saturday Night Live
DESCRIPTION:Every Saturday except for the last Saturday of the month.
URL:https://lambdahouston.org/events/saturday-night-live/2026-04-18
LOCATION:Lambda Center Houston\, West Clay Street\, Houston\, TX\, 77019\, United States
CATEGORIES:AA
GEO:29.7551684;-95.3940619
X-APPLE-STRUCTURED-LOCATION;VALUE=URI;X-ADDRESS=Lambda Center Houston West Clay Street Houston TX 77019 United States;X-APPLE-RADIUS=500;X-TITLE=West Clay Street:geo:-95.3940619,29.7551684
END:VEVENT
END:VCALENDAR