BEGIN:VCALENDAR
VERSION:2.0
PRODID:-//Lambda Center Houston - ECPv6.15.16//NONSGML v1.0//EN
CALSCALE:GREGORIAN
METHOD:PUBLISH
X-ORIGINAL-URL:https://lambdahouston.org
X-WR-CALDESC:Events for Lambda Center Houston
REFRESH-INTERVAL;VALUE=DURATION:PT1H
X-Robots-Tag:noindex
X-PUBLISHED-TTL:PT1H
BEGIN:VTIMEZONE
TZID:America/Chicago
BEGIN:DAYLIGHT
TZOFFSETFROM:-0600
TZOFFSETTO:-0500
TZNAME:CDT
DTSTART:20250309T080000
END:DAYLIGHT
BEGIN:STANDARD
TZOFFSETFROM:-0500
TZOFFSETTO:-0600
TZNAME:CST
DTSTART:20251102T070000
END:STANDARD
BEGIN:DAYLIGHT
TZOFFSETFROM:-0600
TZOFFSETTO:-0500
TZNAME:CDT
DTSTART:20260308T080000
END:DAYLIGHT
BEGIN:STANDARD
TZOFFSETFROM:-0500
TZOFFSETTO:-0600
TZNAME:CST
DTSTART:20261101T070000
END:STANDARD
BEGIN:DAYLIGHT
TZOFFSETFROM:-0600
TZOFFSETTO:-0500
TZNAME:CDT
DTSTART:20270314T080000
END:DAYLIGHT
BEGIN:STANDARD
TZOFFSETFROM:-0500
TZOFFSETTO:-0600
TZNAME:CST
DTSTART:20271107T070000
END:STANDARD
END:VTIMEZONE
BEGIN:VEVENT
DTSTART;TZID=America/Chicago:20260214T113000
DTEND;TZID=America/Chicago:20260214T123000
DTSTAMP:20260425T124341
CREATED:20240715T025611Z
LAST-MODIFIED:20240715T025611Z
UID:10018222-1771068600-1771072200@lambdahouston.org
SUMMARY:Eye Opener
DESCRIPTION:
URL:https://lambdahouston.org/events/eye-opener/2026-02-14
LOCATION:Lambda Center Houston\, West Clay Street\, Houston\, TX\, 77019\, United States
CATEGORIES:AA
GEO:29.7551684;-95.3940619
X-APPLE-STRUCTURED-LOCATION;VALUE=URI;X-ADDRESS=Lambda Center Houston West Clay Street Houston TX 77019 United States;X-APPLE-RADIUS=500;X-TITLE=West Clay Street:geo:-95.3940619,29.7551684
END:VEVENT
BEGIN:VEVENT
DTSTART;TZID=America/Chicago:20260214T150000
DTEND;TZID=America/Chicago:20260214T160000
DTSTAMP:20260425T124341
CREATED:20240715T030647Z
LAST-MODIFIED:20240715T030647Z
UID:10018744-1771081200-1771084800@lambdahouston.org
SUMMARY:Meditate & Create
DESCRIPTION:
URL:https://lambdahouston.org/events/meditate-create/2026-02-14
LOCATION:Lambda Center Houston\, West Clay Street\, Houston\, TX\, 77019\, United States
CATEGORIES:AA
GEO:29.7551684;-95.3940619
X-APPLE-STRUCTURED-LOCATION;VALUE=URI;X-ADDRESS=Lambda Center Houston West Clay Street Houston TX 77019 United States;X-APPLE-RADIUS=500;X-TITLE=West Clay Street:geo:-95.3940619,29.7551684
END:VEVENT
BEGIN:VEVENT
DTSTART;TZID=America/Chicago:20260214T190000
DTEND;TZID=America/Chicago:20260214T200000
DTSTAMP:20260425T124341
CREATED:20240715T031101Z
LAST-MODIFIED:20240715T031135Z
UID:10018986-1771095600-1771099200@lambdahouston.org
SUMMARY:Saturday Night Live
DESCRIPTION:Every Saturday except for the last Saturday of the month.
URL:https://lambdahouston.org/events/saturday-night-live/2026-02-14
LOCATION:Lambda Center Houston\, West Clay Street\, Houston\, TX\, 77019\, United States
CATEGORIES:AA
GEO:29.7551684;-95.3940619
X-APPLE-STRUCTURED-LOCATION;VALUE=URI;X-ADDRESS=Lambda Center Houston West Clay Street Houston TX 77019 United States;X-APPLE-RADIUS=500;X-TITLE=West Clay Street:geo:-95.3940619,29.7551684
END:VEVENT
BEGIN:VEVENT
DTSTART;TZID=America/Chicago:20260215T093000
DTEND;TZID=America/Chicago:20260215T100000
DTSTAMP:20260425T124341
CREATED:20240714T150551Z
LAST-MODIFIED:20240714T150711Z
UID:10000734-1771147800-1771149600@lambdahouston.org
SUMMARY:Came to Believe
DESCRIPTION:
URL:https://lambdahouston.org/events/came-to-believe/2026-02-15
LOCATION:Lambda Center Houston\, West Clay Street\, Houston\, TX\, 77019\, United States
CATEGORIES:AA
GEO:29.7551684;-95.3940619
X-APPLE-STRUCTURED-LOCATION;VALUE=URI;X-ADDRESS=Lambda Center Houston West Clay Street Houston TX 77019 United States;X-APPLE-RADIUS=500;X-TITLE=West Clay Street:geo:-95.3940619,29.7551684
END:VEVENT
BEGIN:VEVENT
DTSTART;TZID=America/Chicago:20260215T093000
DTEND;TZID=America/Chicago:20260215T103000
DTSTAMP:20260425T124341
CREATED:20240719T141047Z
LAST-MODIFIED:20240719T141047Z
UID:10025008-1771147800-1771151400@lambdahouston.org
SUMMARY:Virtual Came to Believe
DESCRIPTION:Sunday 9:30 AM\nOpen AA Discussion\nbit.ly/lambdasun930\nMeeting ID: 236-304-186 | Passcode: 878696 \nJOIN MEETING
URL:https://lambdahouston.org/events/virtual-came-to-believe/2026-02-15
LOCATION:Zoom
CATEGORIES:AA
END:VEVENT
BEGIN:VEVENT
DTSTART;TZID=America/Chicago:20260215T110000
DTEND;TZID=America/Chicago:20260215T120000
DTSTAMP:20260425T124341
CREATED:20240714T195040Z
LAST-MODIFIED:20240714T195040Z
UID:10001257-1771153200-1771156800@lambdahouston.org
SUMMARY:Hang Loose Grapevine
DESCRIPTION:
URL:https://lambdahouston.org/events/hang-loose-grapevine/2026-02-15
LOCATION:Lambda Center Houston\, West Clay Street\, Houston\, TX\, 77019\, United States
CATEGORIES:AA
GEO:29.7551684;-95.3940619
X-APPLE-STRUCTURED-LOCATION;VALUE=URI;X-ADDRESS=Lambda Center Houston West Clay Street Houston TX 77019 United States;X-APPLE-RADIUS=500;X-TITLE=West Clay Street:geo:-95.3940619,29.7551684
END:VEVENT
BEGIN:VEVENT
DTSTART;TZID=America/Chicago:20260215T123000
DTEND;TZID=America/Chicago:20260215T133000
DTSTAMP:20260425T124341
CREATED:20260114T214642Z
LAST-MODIFIED:20260114T214642Z
UID:10033372-1771158600-1771162200@lambdahouston.org
SUMMARY:The Principles in Practice
DESCRIPTION:
URL:https://lambdahouston.org/events/the-principles-in-practice/2026-02-15
LOCATION:Lambda Center Houston\, West Clay Street\, Houston\, TX\, 77019\, United States
CATEGORIES:AA
GEO:29.7551684;-95.3940619
X-APPLE-STRUCTURED-LOCATION;VALUE=URI;X-ADDRESS=Lambda Center Houston West Clay Street Houston TX 77019 United States;X-APPLE-RADIUS=500;X-TITLE=West Clay Street:geo:-95.3940619,29.7551684
END:VEVENT
BEGIN:VEVENT
DTSTART;TZID=America/Chicago:20260215T170000
DTEND;TZID=America/Chicago:20260215T180000
DTSTAMP:20260425T124341
CREATED:20240714T230656Z
LAST-MODIFIED:20240714T230656Z
UID:10001518-1771174800-1771178400@lambdahouston.org
SUMMARY:Stretch & Surrender (Yoga & Discussion)
DESCRIPTION:
URL:https://lambdahouston.org/events/stretch-surrender-yoga-discussion/2026-02-15
LOCATION:Lambda Center Houston\, West Clay Street\, Houston\, TX\, 77019\, United States
CATEGORIES:AA
GEO:29.7551684;-95.3940619
X-APPLE-STRUCTURED-LOCATION;VALUE=URI;X-ADDRESS=Lambda Center Houston West Clay Street Houston TX 77019 United States;X-APPLE-RADIUS=500;X-TITLE=West Clay Street:geo:-95.3940619,29.7551684
END:VEVENT
BEGIN:VEVENT
DTSTART;TZID=America/Chicago:20260215T190000
DTEND;TZID=America/Chicago:20260215T200000
DTSTAMP:20260425T124341
CREATED:20240714T231512Z
LAST-MODIFIED:20240714T232212Z
UID:10002040-1771182000-1771185600@lambdahouston.org
SUMMARY:Sunday Evening
DESCRIPTION:
URL:https://lambdahouston.org/events/sunday-evening/2026-02-15
LOCATION:Lambda Center Houston\, West Clay Street\, Houston\, TX\, 77019\, United States
CATEGORIES:AA
GEO:29.7551684;-95.3940619
X-APPLE-STRUCTURED-LOCATION;VALUE=URI;X-ADDRESS=Lambda Center Houston West Clay Street Houston TX 77019 United States;X-APPLE-RADIUS=500;X-TITLE=West Clay Street:geo:-95.3940619,29.7551684
END:VEVENT
BEGIN:VEVENT
DTSTART;TZID=America/Chicago:20260215T203000
DTEND;TZID=America/Chicago:20260215T213000
DTSTAMP:20260425T124341
CREATED:20250623T201137Z
LAST-MODIFIED:20250623T205043Z
UID:10031662-1771187400-1771191000@lambdahouston.org
SUMMARY:Last Call for Serenity Sunday
DESCRIPTION:
URL:https://lambdahouston.org/events/last-call-for-serenity-sunday-2/2026-02-15
LOCATION:Lambda Center Houston\, West Clay Street\, Houston\, TX\, 77019\, United States
CATEGORIES:AA
GEO:29.7551684;-95.3940619
X-APPLE-STRUCTURED-LOCATION;VALUE=URI;X-ADDRESS=Lambda Center Houston West Clay Street Houston TX 77019 United States;X-APPLE-RADIUS=500;X-TITLE=West Clay Street:geo:-95.3940619,29.7551684
END:VEVENT
BEGIN:VEVENT
DTSTART;TZID=America/Chicago:20260216T063000
DTEND;TZID=America/Chicago:20260216T073000
DTSTAMP:20260425T124341
CREATED:20240714T233421Z
LAST-MODIFIED:20240714T233729Z
UID:10002824-1771223400-1771227000@lambdahouston.org
SUMMARY:Eyes Wide Shut
DESCRIPTION:
URL:https://lambdahouston.org/events/eyes-wide-shut/2026-02-16
LOCATION:Lambda Center Houston\, West Clay Street\, Houston\, TX\, 77019\, United States
CATEGORIES:AA
GEO:29.7551684;-95.3940619
X-APPLE-STRUCTURED-LOCATION;VALUE=URI;X-ADDRESS=Lambda Center Houston West Clay Street Houston TX 77019 United States;X-APPLE-RADIUS=500;X-TITLE=West Clay Street:geo:-95.3940619,29.7551684
END:VEVENT
BEGIN:VEVENT
DTSTART;TZID=America/Chicago:20260216T063000
DTEND;TZID=America/Chicago:20260216T073000
DTSTAMP:20260425T124341
CREATED:20240719T140125Z
LAST-MODIFIED:20240719T140125Z
UID:10023510-1771223400-1771227000@lambdahouston.org
SUMMARY:Virtual Eyes Wide Shut
DESCRIPTION:Monday-Friday 6:30 AM\nOpen AA Discussion\nbit.ly/lambdavirtualews\nMeeting ID: 199-058-948 | Passcode: 364724 \n  \nJOIN 6:30 AM MEETING
URL:https://lambdahouston.org/events/virtual-eyes-wide-shut/2026-02-16
LOCATION:Lambda Center Houston\, West Clay Street\, Houston\, TX\, 77019\, United States
CATEGORIES:AA
GEO:29.7551684;-95.3940619
X-APPLE-STRUCTURED-LOCATION;VALUE=URI;X-ADDRESS=Lambda Center Houston West Clay Street Houston TX 77019 United States;X-APPLE-RADIUS=500;X-TITLE=West Clay Street:geo:-95.3940619,29.7551684
END:VEVENT
BEGIN:VEVENT
DTSTART;TZID=America/Chicago:20260216T121500
DTEND;TZID=America/Chicago:20260216T131500
DTSTAMP:20260425T124341
CREATED:20240714T234923Z
LAST-MODIFIED:20240714T234923Z
UID:10009088-1771244100-1771247700@lambdahouston.org
SUMMARY:The 12:15 Group (Step Study)
DESCRIPTION:
URL:https://lambdahouston.org/events/the-1215-group-step-study/2026-02-16
LOCATION:Lambda Center Houston\, West Clay Street\, Houston\, TX\, 77019\, United States
CATEGORIES:AA
GEO:29.7551684;-95.3940619
X-APPLE-STRUCTURED-LOCATION;VALUE=URI;X-ADDRESS=Lambda Center Houston West Clay Street Houston TX 77019 United States;X-APPLE-RADIUS=500;X-TITLE=West Clay Street:geo:-95.3940619,29.7551684
END:VEVENT
BEGIN:VEVENT
DTSTART;TZID=America/Chicago:20260216T171500
DTEND;TZID=America/Chicago:20260216T181500
DTSTAMP:20260425T124341
CREATED:20240715T000011Z
LAST-MODIFIED:20240715T011758Z
UID:10009349-1771262100-1771265700@lambdahouston.org
SUMMARY:Keep Coming Back
DESCRIPTION:
URL:https://lambdahouston.org/events/keep-coming-back/2026-02-16
LOCATION:Lambda Center Houston\, West Clay Street\, Houston\, TX\, 77019\, United States
CATEGORIES:AA
GEO:29.7551684;-95.3940619
X-APPLE-STRUCTURED-LOCATION;VALUE=URI;X-ADDRESS=Lambda Center Houston West Clay Street Houston TX 77019 United States;X-APPLE-RADIUS=500;X-TITLE=West Clay Street:geo:-95.3940619,29.7551684
END:VEVENT
BEGIN:VEVENT
DTSTART;TZID=America/Chicago:20260216T183000
DTEND;TZID=America/Chicago:20260216T193000
DTSTAMP:20260425T124341
CREATED:20240715T003558Z
LAST-MODIFIED:20240715T003558Z
UID:10009610-1771266600-1771270200@lambdahouston.org
SUMMARY:Back to Basics (Women's Discussion)
DESCRIPTION:
URL:https://lambdahouston.org/events/back-to-basics-womens-discussion/2026-02-16
LOCATION:Lambda Center Houston\, West Clay Street\, Houston\, TX\, 77019\, United States
CATEGORIES:AA
GEO:29.7551684;-95.3940619
X-APPLE-STRUCTURED-LOCATION;VALUE=URI;X-ADDRESS=Lambda Center Houston West Clay Street Houston TX 77019 United States;X-APPLE-RADIUS=500;X-TITLE=West Clay Street:geo:-95.3940619,29.7551684
END:VEVENT
BEGIN:VEVENT
DTSTART;TZID=America/Chicago:20260216T200000
DTEND;TZID=America/Chicago:20260216T200000
DTSTAMP:20260425T124341
CREATED:20240715T010609Z
LAST-MODIFIED:20240715T010609Z
UID:10010132-1771272000-1771272000@lambdahouston.org
SUMMARY:Beginners
DESCRIPTION:
URL:https://lambdahouston.org/events/beginners/2026-02-16
LOCATION:Lambda Center Houston\, West Clay Street\, Houston\, TX\, 77019\, United States
CATEGORIES:AA
GEO:29.7551684;-95.3940619
X-APPLE-STRUCTURED-LOCATION;VALUE=URI;X-ADDRESS=Lambda Center Houston West Clay Street Houston TX 77019 United States;X-APPLE-RADIUS=500;X-TITLE=West Clay Street:geo:-95.3940619,29.7551684
END:VEVENT
BEGIN:VEVENT
DTSTART;TZID=America/Chicago:20260216T213000
DTEND;TZID=America/Chicago:20260216T223000
DTSTAMP:20260425T124341
CREATED:20250623T200839Z
LAST-MODIFIED:20250623T205152Z
UID:10010725-1771277400-1771281000@lambdahouston.org
SUMMARY:Last Call for Serenity
DESCRIPTION:
URL:https://lambdahouston.org/events/last-call-for-serenity-2/2026-02-16
LOCATION:Lambda Center Houston\, West Clay Street\, Houston\, TX\, 77019\, United States
CATEGORIES:AA
GEO:29.7551684;-95.3940619
X-APPLE-STRUCTURED-LOCATION;VALUE=URI;X-ADDRESS=Lambda Center Houston West Clay Street Houston TX 77019 United States;X-APPLE-RADIUS=500;X-TITLE=West Clay Street:geo:-95.3940619,29.7551684
END:VEVENT
BEGIN:VEVENT
DTSTART;TZID=America/Chicago:20260217T063000
DTEND;TZID=America/Chicago:20260217T073000
DTSTAMP:20260425T124341
CREATED:20240714T234047Z
LAST-MODIFIED:20240714T234955Z
UID:10006217-1771309800-1771313400@lambdahouston.org
SUMMARY:Eyes Wide Shut (Book Study)
DESCRIPTION:
URL:https://lambdahouston.org/events/eyes-wide-shut-book-study/2026-02-17
LOCATION:Lambda Center Houston\, West Clay Street\, Houston\, TX\, 77019\, United States
CATEGORIES:AA
GEO:29.7551684;-95.3940619
X-APPLE-STRUCTURED-LOCATION;VALUE=URI;X-ADDRESS=Lambda Center Houston West Clay Street Houston TX 77019 United States;X-APPLE-RADIUS=500;X-TITLE=West Clay Street:geo:-95.3940619,29.7551684
END:VEVENT
BEGIN:VEVENT
DTSTART;TZID=America/Chicago:20260217T063000
DTEND;TZID=America/Chicago:20260217T073000
DTSTAMP:20260425T124341
CREATED:20240719T140125Z
LAST-MODIFIED:20240719T140125Z
UID:10023511-1771309800-1771313400@lambdahouston.org
SUMMARY:Virtual Eyes Wide Shut
DESCRIPTION:Monday-Friday 6:30 AM\nOpen AA Discussion\nbit.ly/lambdavirtualews\nMeeting ID: 199-058-948 | Passcode: 364724 \n  \nJOIN 6:30 AM MEETING
URL:https://lambdahouston.org/events/virtual-eyes-wide-shut/2026-02-17
LOCATION:Lambda Center Houston\, West Clay Street\, Houston\, TX\, 77019\, United States
CATEGORIES:AA
GEO:29.7551684;-95.3940619
X-APPLE-STRUCTURED-LOCATION;VALUE=URI;X-ADDRESS=Lambda Center Houston West Clay Street Houston TX 77019 United States;X-APPLE-RADIUS=500;X-TITLE=West Clay Street:geo:-95.3940619,29.7551684
END:VEVENT
BEGIN:VEVENT
DTSTART;TZID=America/Chicago:20260217T121500
DTEND;TZID=America/Chicago:20260217T131500
DTSTAMP:20260425T124341
CREATED:20240714T234530Z
LAST-MODIFIED:20240714T234633Z
UID:10007688-1771330500-1771334100@lambdahouston.org
SUMMARY:The 12:15 Group
DESCRIPTION:
URL:https://lambdahouston.org/events/the-1215-group/2026-02-17
LOCATION:Lambda Center Houston\, West Clay Street\, Houston\, TX\, 77019\, United States
CATEGORIES:AA
GEO:29.7551684;-95.3940619
X-APPLE-STRUCTURED-LOCATION;VALUE=URI;X-ADDRESS=Lambda Center Houston West Clay Street Houston TX 77019 United States;X-APPLE-RADIUS=500;X-TITLE=West Clay Street:geo:-95.3940619,29.7551684
END:VEVENT
BEGIN:VEVENT
DTSTART;TZID=America/Chicago:20260217T171500
DTEND;TZID=America/Chicago:20260217T181500
DTSTAMP:20260425T124341
CREATED:20240715T011450Z
LAST-MODIFIED:20240715T011848Z
UID:10011959-1771348500-1771352100@lambdahouston.org
SUMMARY:Unwound
DESCRIPTION:
URL:https://lambdahouston.org/events/unwound/2026-02-17
LOCATION:Lambda Center Houston\, West Clay Street\, Houston\, TX\, 77019\, United States
CATEGORIES:AA
GEO:29.7551684;-95.3940619
X-APPLE-STRUCTURED-LOCATION;VALUE=URI;X-ADDRESS=Lambda Center Houston West Clay Street Houston TX 77019 United States;X-APPLE-RADIUS=500;X-TITLE=West Clay Street:geo:-95.3940619,29.7551684
END:VEVENT
BEGIN:VEVENT
DTSTART;TZID=America/Chicago:20260217T183000
DTEND;TZID=America/Chicago:20260217T193000
DTSTAMP:20260425T124341
CREATED:20240715T013044Z
LAST-MODIFIED:20240715T013044Z
UID:10012481-1771353000-1771356600@lambdahouston.org
SUMMARY:Double Digit
DESCRIPTION:
URL:https://lambdahouston.org/events/double-digit/2026-02-17
LOCATION:Lambda Center Houston\, West Clay Street\, Houston\, TX\, 77019\, United States
CATEGORIES:AA
GEO:29.7551684;-95.3940619
X-APPLE-STRUCTURED-LOCATION;VALUE=URI;X-ADDRESS=Lambda Center Houston West Clay Street Houston TX 77019 United States;X-APPLE-RADIUS=500;X-TITLE=West Clay Street:geo:-95.3940619,29.7551684
END:VEVENT
BEGIN:VEVENT
DTSTART;TZID=America/Chicago:20260217T213000
DTEND;TZID=America/Chicago:20260217T223000
DTSTAMP:20260425T124341
CREATED:20250623T200839Z
LAST-MODIFIED:20250623T205152Z
UID:10032073-1771363800-1771367400@lambdahouston.org
SUMMARY:Last Call for Serenity
DESCRIPTION:
URL:https://lambdahouston.org/events/last-call-for-serenity-2/2026-02-17
LOCATION:Lambda Center Houston\, West Clay Street\, Houston\, TX\, 77019\, United States
CATEGORIES:AA
GEO:29.7551684;-95.3940619
X-APPLE-STRUCTURED-LOCATION;VALUE=URI;X-ADDRESS=Lambda Center Houston West Clay Street Houston TX 77019 United States;X-APPLE-RADIUS=500;X-TITLE=West Clay Street:geo:-95.3940619,29.7551684
END:VEVENT
BEGIN:VEVENT
DTSTART;TZID=America/Chicago:20260218T063000
DTEND;TZID=America/Chicago:20260218T073000
DTSTAMP:20260425T124341
CREATED:20240714T233421Z
LAST-MODIFIED:20240714T233729Z
UID:10003512-1771396200-1771399800@lambdahouston.org
SUMMARY:Eyes Wide Shut
DESCRIPTION:
URL:https://lambdahouston.org/events/eyes-wide-shut/2026-02-18
LOCATION:Lambda Center Houston\, West Clay Street\, Houston\, TX\, 77019\, United States
CATEGORIES:AA
GEO:29.7551684;-95.3940619
X-APPLE-STRUCTURED-LOCATION;VALUE=URI;X-ADDRESS=Lambda Center Houston West Clay Street Houston TX 77019 United States;X-APPLE-RADIUS=500;X-TITLE=West Clay Street:geo:-95.3940619,29.7551684
END:VEVENT
BEGIN:VEVENT
DTSTART;TZID=America/Chicago:20260218T063000
DTEND;TZID=America/Chicago:20260218T073000
DTSTAMP:20260425T124341
CREATED:20240719T140125Z
LAST-MODIFIED:20240719T140125Z
UID:10023512-1771396200-1771399800@lambdahouston.org
SUMMARY:Virtual Eyes Wide Shut
DESCRIPTION:Monday-Friday 6:30 AM\nOpen AA Discussion\nbit.ly/lambdavirtualews\nMeeting ID: 199-058-948 | Passcode: 364724 \n  \nJOIN 6:30 AM MEETING
URL:https://lambdahouston.org/events/virtual-eyes-wide-shut/2026-02-18
LOCATION:Lambda Center Houston\, West Clay Street\, Houston\, TX\, 77019\, United States
CATEGORIES:AA
GEO:29.7551684;-95.3940619
X-APPLE-STRUCTURED-LOCATION;VALUE=URI;X-ADDRESS=Lambda Center Houston West Clay Street Houston TX 77019 United States;X-APPLE-RADIUS=500;X-TITLE=West Clay Street:geo:-95.3940619,29.7551684
END:VEVENT
BEGIN:VEVENT
DTSTART;TZID=America/Chicago:20260218T121500
DTEND;TZID=America/Chicago:20260218T131500
DTSTAMP:20260425T124341
CREATED:20240715T013955Z
LAST-MODIFIED:20240715T013955Z
UID:10013264-1771416900-1771420500@lambdahouston.org
SUMMARY:The 12:15 Group (Speaker)
DESCRIPTION:
URL:https://lambdahouston.org/events/the-1215-group-speaker/2026-02-18
LOCATION:Lambda Center Houston\, West Clay Street\, Houston\, TX\, 77019\, United States
CATEGORIES:AA
GEO:29.7551684;-95.3940619
X-APPLE-STRUCTURED-LOCATION;VALUE=URI;X-ADDRESS=Lambda Center Houston West Clay Street Houston TX 77019 United States;X-APPLE-RADIUS=500;X-TITLE=West Clay Street:geo:-95.3940619,29.7551684
END:VEVENT
BEGIN:VEVENT
DTSTART;TZID=America/Chicago:20260218T171500
DTEND;TZID=America/Chicago:20260218T181500
DTSTAMP:20260425T124341
CREATED:20240715T014337Z
LAST-MODIFIED:20240715T014337Z
UID:10013525-1771434900-1771438500@lambdahouston.org
SUMMARY:The Promises
DESCRIPTION:
URL:https://lambdahouston.org/events/the-promises/2026-02-18
LOCATION:Lambda Center Houston\, West Clay Street\, Houston\, TX\, 77019\, United States
CATEGORIES:AA
GEO:29.7551684;-95.3940619
X-APPLE-STRUCTURED-LOCATION;VALUE=URI;X-ADDRESS=Lambda Center Houston West Clay Street Houston TX 77019 United States;X-APPLE-RADIUS=500;X-TITLE=West Clay Street:geo:-95.3940619,29.7551684
END:VEVENT
BEGIN:VEVENT
DTSTART;TZID=America/Chicago:20260218T183000
DTEND;TZID=America/Chicago:20260218T193000
DTSTAMP:20260425T124341
CREATED:20240715T015640Z
LAST-MODIFIED:20240715T015640Z
UID:10014308-1771439400-1771443000@lambdahouston.org
SUMMARY:Women on Wednesday
DESCRIPTION:
URL:https://lambdahouston.org/events/women-on-wednesday/2026-02-18
LOCATION:Lambda Center Houston\, West Clay Street\, Houston\, TX\, 77019\, United States
CATEGORIES:AA
GEO:29.7551684;-95.3940619
X-APPLE-STRUCTURED-LOCATION;VALUE=URI;X-ADDRESS=Lambda Center Houston West Clay Street Houston TX 77019 United States;X-APPLE-RADIUS=500;X-TITLE=West Clay Street:geo:-95.3940619,29.7551684
END:VEVENT
BEGIN:VEVENT
DTSTART;TZID=America/Chicago:20260218T200000
DTEND;TZID=America/Chicago:20260218T210000
DTSTAMP:20260425T124341
CREATED:20241120T215947Z
LAST-MODIFIED:20241120T215948Z
UID:10014569-1771444800-1771448400@lambdahouston.org
SUMMARY:Secular\, Atheists\, and Free-thinkers
DESCRIPTION:Formerly Atheists & Agnostics Group and Humanist Group
URL:https://lambdahouston.org/events/secular-atheists-and-free-thinkers/2026-02-18
LOCATION:Lambda Center Houston\, West Clay Street\, Houston\, TX\, 77019\, United States
CATEGORIES:AA
GEO:29.7551684;-95.3940619
X-APPLE-STRUCTURED-LOCATION;VALUE=URI;X-ADDRESS=Lambda Center Houston West Clay Street Houston TX 77019 United States;X-APPLE-RADIUS=500;X-TITLE=West Clay Street:geo:-95.3940619,29.7551684
END:VEVENT
BEGIN:VEVENT
DTSTART;TZID=America/Chicago:20260218T213000
DTEND;TZID=America/Chicago:20260218T223000
DTSTAMP:20260425T124341
CREATED:20250623T200839Z
LAST-MODIFIED:20250623T205152Z
UID:10032074-1771450200-1771453800@lambdahouston.org
SUMMARY:Last Call for Serenity
DESCRIPTION:
URL:https://lambdahouston.org/events/last-call-for-serenity-2/2026-02-18
LOCATION:Lambda Center Houston\, West Clay Street\, Houston\, TX\, 77019\, United States
CATEGORIES:AA
GEO:29.7551684;-95.3940619
X-APPLE-STRUCTURED-LOCATION;VALUE=URI;X-ADDRESS=Lambda Center Houston West Clay Street Houston TX 77019 United States;X-APPLE-RADIUS=500;X-TITLE=West Clay Street:geo:-95.3940619,29.7551684
END:VEVENT
END:VCALENDAR