BEGIN:VCALENDAR
VERSION:2.0
PRODID:-//Lambda Center Houston - ECPv6.15.16//NONSGML v1.0//EN
CALSCALE:GREGORIAN
METHOD:PUBLISH
X-WR-CALNAME:Lambda Center Houston
X-ORIGINAL-URL:https://lambdahouston.org
X-WR-CALDESC:Events for Lambda Center Houston
REFRESH-INTERVAL;VALUE=DURATION:PT1H
X-Robots-Tag:noindex
X-PUBLISHED-TTL:PT1H
BEGIN:VTIMEZONE
TZID:America/Chicago
BEGIN:DAYLIGHT
TZOFFSETFROM:-0600
TZOFFSETTO:-0500
TZNAME:CDT
DTSTART:20250309T080000
END:DAYLIGHT
BEGIN:STANDARD
TZOFFSETFROM:-0500
TZOFFSETTO:-0600
TZNAME:CST
DTSTART:20251102T070000
END:STANDARD
BEGIN:DAYLIGHT
TZOFFSETFROM:-0600
TZOFFSETTO:-0500
TZNAME:CDT
DTSTART:20260308T080000
END:DAYLIGHT
BEGIN:STANDARD
TZOFFSETFROM:-0500
TZOFFSETTO:-0600
TZNAME:CST
DTSTART:20261101T070000
END:STANDARD
BEGIN:DAYLIGHT
TZOFFSETFROM:-0600
TZOFFSETTO:-0500
TZNAME:CDT
DTSTART:20270314T080000
END:DAYLIGHT
BEGIN:STANDARD
TZOFFSETFROM:-0500
TZOFFSETTO:-0600
TZNAME:CST
DTSTART:20271107T070000
END:STANDARD
END:VTIMEZONE
BEGIN:VEVENT
DTSTART;TZID=America/Chicago:20260715T173000
DTEND;TZID=America/Chicago:20260715T183000
DTSTAMP:20260425T083530
CREATED:20241209T003735Z
LAST-MODIFIED:20250623T205438Z
UID:10026698-1784136600-1784140200@lambdahouston.org
SUMMARY:Nurturing/Loving Parent
DESCRIPTION:
URL:https://lambdahouston.org/events/nurturing-loving-parent-2/2026-07-15
LOCATION:Lambda Center Houston\, West Clay Street\, Houston\, TX\, 77019\, United States
CATEGORIES:ACA
GEO:29.7551684;-95.3940619
X-APPLE-STRUCTURED-LOCATION;VALUE=URI;X-ADDRESS=Lambda Center Houston West Clay Street Houston TX 77019 United States;X-APPLE-RADIUS=500;X-TITLE=West Clay Street:geo:-95.3940619,29.7551684
END:VEVENT
BEGIN:VEVENT
DTSTART;TZID=America/Chicago:20260716T183000
DTEND;TZID=America/Chicago:20260716T200000
DTSTAMP:20260425T083530
CREATED:20240715T021458Z
LAST-MODIFIED:20240715T021458Z
UID:10015373-1784226600-1784232000@lambdahouston.org
SUMMARY:Big Red Book (90 mins)
DESCRIPTION:
URL:https://lambdahouston.org/events/big-red-book-90-mins/2026-07-16
LOCATION:Lambda Center Houston\, West Clay Street\, Houston\, TX\, 77019\, United States
CATEGORIES:ACA
GEO:29.7551684;-95.3940619
X-APPLE-STRUCTURED-LOCATION;VALUE=URI;X-ADDRESS=Lambda Center Houston West Clay Street Houston TX 77019 United States;X-APPLE-RADIUS=500;X-TITLE=West Clay Street:geo:-95.3940619,29.7551684
END:VEVENT
BEGIN:VEVENT
DTSTART;TZID=America/Chicago:20260717T183000
DTEND;TZID=America/Chicago:20260717T193000
DTSTAMP:20260425T083530
CREATED:20250105T191127Z
LAST-MODIFIED:20250105T191129Z
UID:10026161-1784313000-1784316600@lambdahouston.org
SUMMARY:Free Spirits
DESCRIPTION:
URL:https://lambdahouston.org/events/free-spirits/2026-07-17
LOCATION:Lambda Center Houston\, West Clay Street\, Houston\, TX\, 77019\, United States
CATEGORIES:ACA
GEO:29.7551684;-95.3940619
X-APPLE-STRUCTURED-LOCATION;VALUE=URI;X-ADDRESS=Lambda Center Houston West Clay Street Houston TX 77019 United States;X-APPLE-RADIUS=500;X-TITLE=West Clay Street:geo:-95.3940619,29.7551684
END:VEVENT
BEGIN:VEVENT
DTSTART;TZID=America/Chicago:20260718T113000
DTEND;TZID=America/Chicago:20260718T130000
DTSTAMP:20260425T083530
CREATED:20240715T030301Z
LAST-MODIFIED:20240715T030301Z
UID:10018505-1784374200-1784379600@lambdahouston.org
SUMMARY:Loving Parent Guidebook (90 mins)
DESCRIPTION:
URL:https://lambdahouston.org/events/loving-parent-guidebook-90-mins/2026-07-18
LOCATION:Lambda Center Houston\, West Clay Street\, Houston\, TX\, 77019\, United States
CATEGORIES:ACA
GEO:29.7551684;-95.3940619
X-APPLE-STRUCTURED-LOCATION;VALUE=URI;X-ADDRESS=Lambda Center Houston West Clay Street Houston TX 77019 United States;X-APPLE-RADIUS=500;X-TITLE=West Clay Street:geo:-95.3940619,29.7551684
END:VEVENT
BEGIN:VEVENT
DTSTART;TZID=America/Chicago:20260719T104500
DTEND;TZID=America/Chicago:20260719T114500
DTSTAMP:20260425T083530
CREATED:20240719T141309Z
LAST-MODIFIED:20240719T141309Z
UID:10025291-1784457900-1784461500@lambdahouston.org
SUMMARY:Virtual Sunday ACA
DESCRIPTION:Sunday 10:45 PM\nOpen ACA Discussion\nbit.ly/lambdaaca\nMeeting ID: 898-5987-2968 | Passcode: None (Waiting Room) \nJOIN MEETING
URL:https://lambdahouston.org/events/virtual-sunday-aca/2026-07-19
LOCATION:Zoom
CATEGORIES:ACA
END:VEVENT
BEGIN:VEVENT
DTSTART;TZID=America/Chicago:20260719T104500
DTEND;TZID=America/Chicago:20260719T121500
DTSTAMP:20260425T083530
CREATED:20240714T151926Z
LAST-MODIFIED:20240714T151926Z
UID:10001018-1784457900-1784463300@lambdahouston.org
SUMMARY:The Yellow Workbook (90 mins)
DESCRIPTION:
URL:https://lambdahouston.org/events/the-yellow-workbook-90-mins/2026-07-19
LOCATION:Lambda Center Houston\, West Clay Street\, Houston\, TX\, 77019\, United States
CATEGORIES:ACA
GEO:29.7551684;-95.3940619
X-APPLE-STRUCTURED-LOCATION;VALUE=URI;X-ADDRESS=Lambda Center Houston West Clay Street Houston TX 77019 United States;X-APPLE-RADIUS=500;X-TITLE=West Clay Street:geo:-95.3940619,29.7551684
END:VEVENT
BEGIN:VEVENT
DTSTART;TZID=America/Chicago:20260719T170000
DTEND;TZID=America/Chicago:20260719T180000
DTSTAMP:20260425T083530
CREATED:20250105T191631Z
LAST-MODIFIED:20250623T195737Z
UID:10029154-1784480400-1784484000@lambdahouston.org
SUMMARY:Laundry List
DESCRIPTION:
URL:https://lambdahouston.org/events/laundry-list/2026-07-19
LOCATION:Lambda Center Houston\, West Clay Street\, Houston\, TX\, 77019\, United States
CATEGORIES:ACA
GEO:29.7551684;-95.3940619
X-APPLE-STRUCTURED-LOCATION;VALUE=URI;X-ADDRESS=Lambda Center Houston West Clay Street Houston TX 77019 United States;X-APPLE-RADIUS=500;X-TITLE=West Clay Street:geo:-95.3940619,29.7551684
END:VEVENT
BEGIN:VEVENT
DTSTART;TZID=America/Chicago:20260722T173000
DTEND;TZID=America/Chicago:20260722T183000
DTSTAMP:20260425T083530
CREATED:20241209T003735Z
LAST-MODIFIED:20250623T205438Z
UID:10026699-1784741400-1784745000@lambdahouston.org
SUMMARY:Nurturing/Loving Parent
DESCRIPTION:
URL:https://lambdahouston.org/events/nurturing-loving-parent-2/2026-07-22
LOCATION:Lambda Center Houston\, West Clay Street\, Houston\, TX\, 77019\, United States
CATEGORIES:ACA
GEO:29.7551684;-95.3940619
X-APPLE-STRUCTURED-LOCATION;VALUE=URI;X-ADDRESS=Lambda Center Houston West Clay Street Houston TX 77019 United States;X-APPLE-RADIUS=500;X-TITLE=West Clay Street:geo:-95.3940619,29.7551684
END:VEVENT
BEGIN:VEVENT
DTSTART;TZID=America/Chicago:20260723T183000
DTEND;TZID=America/Chicago:20260723T200000
DTSTAMP:20260425T083530
CREATED:20240715T021458Z
LAST-MODIFIED:20240715T021458Z
UID:10015374-1784831400-1784836800@lambdahouston.org
SUMMARY:Big Red Book (90 mins)
DESCRIPTION:
URL:https://lambdahouston.org/events/big-red-book-90-mins/2026-07-23
LOCATION:Lambda Center Houston\, West Clay Street\, Houston\, TX\, 77019\, United States
CATEGORIES:ACA
GEO:29.7551684;-95.3940619
X-APPLE-STRUCTURED-LOCATION;VALUE=URI;X-ADDRESS=Lambda Center Houston West Clay Street Houston TX 77019 United States;X-APPLE-RADIUS=500;X-TITLE=West Clay Street:geo:-95.3940619,29.7551684
END:VEVENT
BEGIN:VEVENT
DTSTART;TZID=America/Chicago:20260724T183000
DTEND;TZID=America/Chicago:20260724T193000
DTSTAMP:20260425T083530
CREATED:20250105T191127Z
LAST-MODIFIED:20250105T191129Z
UID:10026162-1784917800-1784921400@lambdahouston.org
SUMMARY:Free Spirits
DESCRIPTION:
URL:https://lambdahouston.org/events/free-spirits/2026-07-24
LOCATION:Lambda Center Houston\, West Clay Street\, Houston\, TX\, 77019\, United States
CATEGORIES:ACA
GEO:29.7551684;-95.3940619
X-APPLE-STRUCTURED-LOCATION;VALUE=URI;X-ADDRESS=Lambda Center Houston West Clay Street Houston TX 77019 United States;X-APPLE-RADIUS=500;X-TITLE=West Clay Street:geo:-95.3940619,29.7551684
END:VEVENT
BEGIN:VEVENT
DTSTART;TZID=America/Chicago:20260725T113000
DTEND;TZID=America/Chicago:20260725T130000
DTSTAMP:20260425T083530
CREATED:20240715T030301Z
LAST-MODIFIED:20240715T030301Z
UID:10018506-1784979000-1784984400@lambdahouston.org
SUMMARY:Loving Parent Guidebook (90 mins)
DESCRIPTION:
URL:https://lambdahouston.org/events/loving-parent-guidebook-90-mins/2026-07-25
LOCATION:Lambda Center Houston\, West Clay Street\, Houston\, TX\, 77019\, United States
CATEGORIES:ACA
GEO:29.7551684;-95.3940619
X-APPLE-STRUCTURED-LOCATION;VALUE=URI;X-ADDRESS=Lambda Center Houston West Clay Street Houston TX 77019 United States;X-APPLE-RADIUS=500;X-TITLE=West Clay Street:geo:-95.3940619,29.7551684
END:VEVENT
BEGIN:VEVENT
DTSTART;TZID=America/Chicago:20260726T104500
DTEND;TZID=America/Chicago:20260726T114500
DTSTAMP:20260425T083530
CREATED:20240719T141309Z
LAST-MODIFIED:20240719T141309Z
UID:10025292-1785062700-1785066300@lambdahouston.org
SUMMARY:Virtual Sunday ACA
DESCRIPTION:Sunday 10:45 PM\nOpen ACA Discussion\nbit.ly/lambdaaca\nMeeting ID: 898-5987-2968 | Passcode: None (Waiting Room) \nJOIN MEETING
URL:https://lambdahouston.org/events/virtual-sunday-aca/2026-07-26
LOCATION:Zoom
CATEGORIES:ACA
END:VEVENT
BEGIN:VEVENT
DTSTART;TZID=America/Chicago:20260726T104500
DTEND;TZID=America/Chicago:20260726T121500
DTSTAMP:20260425T083530
CREATED:20240714T151926Z
LAST-MODIFIED:20240714T151926Z
UID:10001019-1785062700-1785068100@lambdahouston.org
SUMMARY:The Yellow Workbook (90 mins)
DESCRIPTION:
URL:https://lambdahouston.org/events/the-yellow-workbook-90-mins/2026-07-26
LOCATION:Lambda Center Houston\, West Clay Street\, Houston\, TX\, 77019\, United States
CATEGORIES:ACA
GEO:29.7551684;-95.3940619
X-APPLE-STRUCTURED-LOCATION;VALUE=URI;X-ADDRESS=Lambda Center Houston West Clay Street Houston TX 77019 United States;X-APPLE-RADIUS=500;X-TITLE=West Clay Street:geo:-95.3940619,29.7551684
END:VEVENT
BEGIN:VEVENT
DTSTART;TZID=America/Chicago:20260726T170000
DTEND;TZID=America/Chicago:20260726T180000
DTSTAMP:20260425T083530
CREATED:20250105T191631Z
LAST-MODIFIED:20250623T195737Z
UID:10029155-1785085200-1785088800@lambdahouston.org
SUMMARY:Laundry List
DESCRIPTION:
URL:https://lambdahouston.org/events/laundry-list/2026-07-26
LOCATION:Lambda Center Houston\, West Clay Street\, Houston\, TX\, 77019\, United States
CATEGORIES:ACA
GEO:29.7551684;-95.3940619
X-APPLE-STRUCTURED-LOCATION;VALUE=URI;X-ADDRESS=Lambda Center Houston West Clay Street Houston TX 77019 United States;X-APPLE-RADIUS=500;X-TITLE=West Clay Street:geo:-95.3940619,29.7551684
END:VEVENT
BEGIN:VEVENT
DTSTART;TZID=America/Chicago:20260729T173000
DTEND;TZID=America/Chicago:20260729T183000
DTSTAMP:20260425T083530
CREATED:20241209T003735Z
LAST-MODIFIED:20250623T205438Z
UID:10026700-1785346200-1785349800@lambdahouston.org
SUMMARY:Nurturing/Loving Parent
DESCRIPTION:
URL:https://lambdahouston.org/events/nurturing-loving-parent-2/2026-07-29
LOCATION:Lambda Center Houston\, West Clay Street\, Houston\, TX\, 77019\, United States
CATEGORIES:ACA
GEO:29.7551684;-95.3940619
X-APPLE-STRUCTURED-LOCATION;VALUE=URI;X-ADDRESS=Lambda Center Houston West Clay Street Houston TX 77019 United States;X-APPLE-RADIUS=500;X-TITLE=West Clay Street:geo:-95.3940619,29.7551684
END:VEVENT
BEGIN:VEVENT
DTSTART;TZID=America/Chicago:20260730T183000
DTEND;TZID=America/Chicago:20260730T200000
DTSTAMP:20260425T083530
CREATED:20240715T021458Z
LAST-MODIFIED:20240715T021458Z
UID:10015375-1785436200-1785441600@lambdahouston.org
SUMMARY:Big Red Book (90 mins)
DESCRIPTION:
URL:https://lambdahouston.org/events/big-red-book-90-mins/2026-07-30
LOCATION:Lambda Center Houston\, West Clay Street\, Houston\, TX\, 77019\, United States
CATEGORIES:ACA
GEO:29.7551684;-95.3940619
X-APPLE-STRUCTURED-LOCATION;VALUE=URI;X-ADDRESS=Lambda Center Houston West Clay Street Houston TX 77019 United States;X-APPLE-RADIUS=500;X-TITLE=West Clay Street:geo:-95.3940619,29.7551684
END:VEVENT
BEGIN:VEVENT
DTSTART;TZID=America/Chicago:20260731T183000
DTEND;TZID=America/Chicago:20260731T193000
DTSTAMP:20260425T083530
CREATED:20250105T191127Z
LAST-MODIFIED:20250105T191129Z
UID:10026163-1785522600-1785526200@lambdahouston.org
SUMMARY:Free Spirits
DESCRIPTION:
URL:https://lambdahouston.org/events/free-spirits/2026-07-31
LOCATION:Lambda Center Houston\, West Clay Street\, Houston\, TX\, 77019\, United States
CATEGORIES:ACA
GEO:29.7551684;-95.3940619
X-APPLE-STRUCTURED-LOCATION;VALUE=URI;X-ADDRESS=Lambda Center Houston West Clay Street Houston TX 77019 United States;X-APPLE-RADIUS=500;X-TITLE=West Clay Street:geo:-95.3940619,29.7551684
END:VEVENT
BEGIN:VEVENT
DTSTART;TZID=America/Chicago:20260801T113000
DTEND;TZID=America/Chicago:20260801T130000
DTSTAMP:20260425T083530
CREATED:20240715T030301Z
LAST-MODIFIED:20240715T030301Z
UID:10018507-1785583800-1785589200@lambdahouston.org
SUMMARY:Loving Parent Guidebook (90 mins)
DESCRIPTION:
URL:https://lambdahouston.org/events/loving-parent-guidebook-90-mins/2026-08-01
LOCATION:Lambda Center Houston\, West Clay Street\, Houston\, TX\, 77019\, United States
CATEGORIES:ACA
GEO:29.7551684;-95.3940619
X-APPLE-STRUCTURED-LOCATION;VALUE=URI;X-ADDRESS=Lambda Center Houston West Clay Street Houston TX 77019 United States;X-APPLE-RADIUS=500;X-TITLE=West Clay Street:geo:-95.3940619,29.7551684
END:VEVENT
BEGIN:VEVENT
DTSTART;TZID=America/Chicago:20260802T104500
DTEND;TZID=America/Chicago:20260802T114500
DTSTAMP:20260425T083530
CREATED:20240719T141309Z
LAST-MODIFIED:20240719T141309Z
UID:10025293-1785667500-1785671100@lambdahouston.org
SUMMARY:Virtual Sunday ACA
DESCRIPTION:Sunday 10:45 PM\nOpen ACA Discussion\nbit.ly/lambdaaca\nMeeting ID: 898-5987-2968 | Passcode: None (Waiting Room) \nJOIN MEETING
URL:https://lambdahouston.org/events/virtual-sunday-aca/2026-08-02
LOCATION:Zoom
CATEGORIES:ACA
END:VEVENT
BEGIN:VEVENT
DTSTART;TZID=America/Chicago:20260802T104500
DTEND;TZID=America/Chicago:20260802T121500
DTSTAMP:20260425T083530
CREATED:20240714T151926Z
LAST-MODIFIED:20240714T151926Z
UID:10001020-1785667500-1785672900@lambdahouston.org
SUMMARY:The Yellow Workbook (90 mins)
DESCRIPTION:
URL:https://lambdahouston.org/events/the-yellow-workbook-90-mins/2026-08-02
LOCATION:Lambda Center Houston\, West Clay Street\, Houston\, TX\, 77019\, United States
CATEGORIES:ACA
GEO:29.7551684;-95.3940619
X-APPLE-STRUCTURED-LOCATION;VALUE=URI;X-ADDRESS=Lambda Center Houston West Clay Street Houston TX 77019 United States;X-APPLE-RADIUS=500;X-TITLE=West Clay Street:geo:-95.3940619,29.7551684
END:VEVENT
BEGIN:VEVENT
DTSTART;TZID=America/Chicago:20260802T170000
DTEND;TZID=America/Chicago:20260802T180000
DTSTAMP:20260425T083530
CREATED:20250105T191631Z
LAST-MODIFIED:20250623T195737Z
UID:10029156-1785690000-1785693600@lambdahouston.org
SUMMARY:Laundry List
DESCRIPTION:
URL:https://lambdahouston.org/events/laundry-list/2026-08-02
LOCATION:Lambda Center Houston\, West Clay Street\, Houston\, TX\, 77019\, United States
CATEGORIES:ACA
GEO:29.7551684;-95.3940619
X-APPLE-STRUCTURED-LOCATION;VALUE=URI;X-ADDRESS=Lambda Center Houston West Clay Street Houston TX 77019 United States;X-APPLE-RADIUS=500;X-TITLE=West Clay Street:geo:-95.3940619,29.7551684
END:VEVENT
BEGIN:VEVENT
DTSTART;TZID=America/Chicago:20260805T173000
DTEND;TZID=America/Chicago:20260805T183000
DTSTAMP:20260425T083530
CREATED:20241209T003735Z
LAST-MODIFIED:20250623T205438Z
UID:10026701-1785951000-1785954600@lambdahouston.org
SUMMARY:Nurturing/Loving Parent
DESCRIPTION:
URL:https://lambdahouston.org/events/nurturing-loving-parent-2/2026-08-05
LOCATION:Lambda Center Houston\, West Clay Street\, Houston\, TX\, 77019\, United States
CATEGORIES:ACA
GEO:29.7551684;-95.3940619
X-APPLE-STRUCTURED-LOCATION;VALUE=URI;X-ADDRESS=Lambda Center Houston West Clay Street Houston TX 77019 United States;X-APPLE-RADIUS=500;X-TITLE=West Clay Street:geo:-95.3940619,29.7551684
END:VEVENT
BEGIN:VEVENT
DTSTART;TZID=America/Chicago:20260806T183000
DTEND;TZID=America/Chicago:20260806T200000
DTSTAMP:20260425T083530
CREATED:20240715T021458Z
LAST-MODIFIED:20240715T021458Z
UID:10015376-1786041000-1786046400@lambdahouston.org
SUMMARY:Big Red Book (90 mins)
DESCRIPTION:
URL:https://lambdahouston.org/events/big-red-book-90-mins/2026-08-06
LOCATION:Lambda Center Houston\, West Clay Street\, Houston\, TX\, 77019\, United States
CATEGORIES:ACA
GEO:29.7551684;-95.3940619
X-APPLE-STRUCTURED-LOCATION;VALUE=URI;X-ADDRESS=Lambda Center Houston West Clay Street Houston TX 77019 United States;X-APPLE-RADIUS=500;X-TITLE=West Clay Street:geo:-95.3940619,29.7551684
END:VEVENT
BEGIN:VEVENT
DTSTART;TZID=America/Chicago:20260807T183000
DTEND;TZID=America/Chicago:20260807T193000
DTSTAMP:20260425T083530
CREATED:20250105T191127Z
LAST-MODIFIED:20250105T191129Z
UID:10026164-1786127400-1786131000@lambdahouston.org
SUMMARY:Free Spirits
DESCRIPTION:
URL:https://lambdahouston.org/events/free-spirits/2026-08-07
LOCATION:Lambda Center Houston\, West Clay Street\, Houston\, TX\, 77019\, United States
CATEGORIES:ACA
GEO:29.7551684;-95.3940619
X-APPLE-STRUCTURED-LOCATION;VALUE=URI;X-ADDRESS=Lambda Center Houston West Clay Street Houston TX 77019 United States;X-APPLE-RADIUS=500;X-TITLE=West Clay Street:geo:-95.3940619,29.7551684
END:VEVENT
BEGIN:VEVENT
DTSTART;TZID=America/Chicago:20260808T113000
DTEND;TZID=America/Chicago:20260808T130000
DTSTAMP:20260425T083530
CREATED:20240715T030301Z
LAST-MODIFIED:20240715T030301Z
UID:10018508-1786188600-1786194000@lambdahouston.org
SUMMARY:Loving Parent Guidebook (90 mins)
DESCRIPTION:
URL:https://lambdahouston.org/events/loving-parent-guidebook-90-mins/2026-08-08
LOCATION:Lambda Center Houston\, West Clay Street\, Houston\, TX\, 77019\, United States
CATEGORIES:ACA
GEO:29.7551684;-95.3940619
X-APPLE-STRUCTURED-LOCATION;VALUE=URI;X-ADDRESS=Lambda Center Houston West Clay Street Houston TX 77019 United States;X-APPLE-RADIUS=500;X-TITLE=West Clay Street:geo:-95.3940619,29.7551684
END:VEVENT
BEGIN:VEVENT
DTSTART;TZID=America/Chicago:20260809T104500
DTEND;TZID=America/Chicago:20260809T114500
DTSTAMP:20260425T083530
CREATED:20240719T141309Z
LAST-MODIFIED:20240719T141309Z
UID:10025294-1786272300-1786275900@lambdahouston.org
SUMMARY:Virtual Sunday ACA
DESCRIPTION:Sunday 10:45 PM\nOpen ACA Discussion\nbit.ly/lambdaaca\nMeeting ID: 898-5987-2968 | Passcode: None (Waiting Room) \nJOIN MEETING
URL:https://lambdahouston.org/events/virtual-sunday-aca/2026-08-09
LOCATION:Zoom
CATEGORIES:ACA
END:VEVENT
BEGIN:VEVENT
DTSTART;TZID=America/Chicago:20260809T104500
DTEND;TZID=America/Chicago:20260809T121500
DTSTAMP:20260425T083530
CREATED:20240714T151926Z
LAST-MODIFIED:20240714T151926Z
UID:10001021-1786272300-1786277700@lambdahouston.org
SUMMARY:The Yellow Workbook (90 mins)
DESCRIPTION:
URL:https://lambdahouston.org/events/the-yellow-workbook-90-mins/2026-08-09
LOCATION:Lambda Center Houston\, West Clay Street\, Houston\, TX\, 77019\, United States
CATEGORIES:ACA
GEO:29.7551684;-95.3940619
X-APPLE-STRUCTURED-LOCATION;VALUE=URI;X-ADDRESS=Lambda Center Houston West Clay Street Houston TX 77019 United States;X-APPLE-RADIUS=500;X-TITLE=West Clay Street:geo:-95.3940619,29.7551684
END:VEVENT
BEGIN:VEVENT
DTSTART;TZID=America/Chicago:20260809T170000
DTEND;TZID=America/Chicago:20260809T180000
DTSTAMP:20260425T083530
CREATED:20250105T191631Z
LAST-MODIFIED:20250623T195737Z
UID:10029157-1786294800-1786298400@lambdahouston.org
SUMMARY:Laundry List
DESCRIPTION:
URL:https://lambdahouston.org/events/laundry-list/2026-08-09
LOCATION:Lambda Center Houston\, West Clay Street\, Houston\, TX\, 77019\, United States
CATEGORIES:ACA
GEO:29.7551684;-95.3940619
X-APPLE-STRUCTURED-LOCATION;VALUE=URI;X-ADDRESS=Lambda Center Houston West Clay Street Houston TX 77019 United States;X-APPLE-RADIUS=500;X-TITLE=West Clay Street:geo:-95.3940619,29.7551684
END:VEVENT
BEGIN:VEVENT
DTSTART;TZID=America/Chicago:20260812T173000
DTEND;TZID=America/Chicago:20260812T183000
DTSTAMP:20260425T083530
CREATED:20241209T003735Z
LAST-MODIFIED:20250623T205438Z
UID:10026702-1786555800-1786559400@lambdahouston.org
SUMMARY:Nurturing/Loving Parent
DESCRIPTION:
URL:https://lambdahouston.org/events/nurturing-loving-parent-2/2026-08-12
LOCATION:Lambda Center Houston\, West Clay Street\, Houston\, TX\, 77019\, United States
CATEGORIES:ACA
GEO:29.7551684;-95.3940619
X-APPLE-STRUCTURED-LOCATION;VALUE=URI;X-ADDRESS=Lambda Center Houston West Clay Street Houston TX 77019 United States;X-APPLE-RADIUS=500;X-TITLE=West Clay Street:geo:-95.3940619,29.7551684
END:VEVENT
BEGIN:VEVENT
DTSTART;TZID=America/Chicago:20260813T183000
DTEND;TZID=America/Chicago:20260813T200000
DTSTAMP:20260425T083530
CREATED:20240715T021458Z
LAST-MODIFIED:20240715T021458Z
UID:10015377-1786645800-1786651200@lambdahouston.org
SUMMARY:Big Red Book (90 mins)
DESCRIPTION:
URL:https://lambdahouston.org/events/big-red-book-90-mins/2026-08-13
LOCATION:Lambda Center Houston\, West Clay Street\, Houston\, TX\, 77019\, United States
CATEGORIES:ACA
GEO:29.7551684;-95.3940619
X-APPLE-STRUCTURED-LOCATION;VALUE=URI;X-ADDRESS=Lambda Center Houston West Clay Street Houston TX 77019 United States;X-APPLE-RADIUS=500;X-TITLE=West Clay Street:geo:-95.3940619,29.7551684
END:VEVENT
END:VCALENDAR