BEGIN:VCALENDAR
VERSION:2.0
PRODID:-//Lambda Center Houston - ECPv6.15.16//NONSGML v1.0//EN
CALSCALE:GREGORIAN
METHOD:PUBLISH
X-ORIGINAL-URL:https://lambdahouston.org
X-WR-CALDESC:Events for Lambda Center Houston
REFRESH-INTERVAL;VALUE=DURATION:PT1H
X-Robots-Tag:noindex
X-PUBLISHED-TTL:PT1H
BEGIN:VTIMEZONE
TZID:America/Chicago
BEGIN:DAYLIGHT
TZOFFSETFROM:-0600
TZOFFSETTO:-0500
TZNAME:CDT
DTSTART:20250309T080000
END:DAYLIGHT
BEGIN:STANDARD
TZOFFSETFROM:-0500
TZOFFSETTO:-0600
TZNAME:CST
DTSTART:20251102T070000
END:STANDARD
BEGIN:DAYLIGHT
TZOFFSETFROM:-0600
TZOFFSETTO:-0500
TZNAME:CDT
DTSTART:20260308T080000
END:DAYLIGHT
BEGIN:STANDARD
TZOFFSETFROM:-0500
TZOFFSETTO:-0600
TZNAME:CST
DTSTART:20261101T070000
END:STANDARD
BEGIN:DAYLIGHT
TZOFFSETFROM:-0600
TZOFFSETTO:-0500
TZNAME:CDT
DTSTART:20270314T080000
END:DAYLIGHT
BEGIN:STANDARD
TZOFFSETFROM:-0500
TZOFFSETTO:-0600
TZNAME:CST
DTSTART:20271107T070000
END:STANDARD
END:VTIMEZONE
BEGIN:VEVENT
DTSTART;TZID=America/Chicago:20261118T173000
DTEND;TZID=America/Chicago:20261118T183000
DTSTAMP:20260425T100626
CREATED:20241209T003735Z
LAST-MODIFIED:20250623T205438Z
UID:10026716-1795023000-1795026600@lambdahouston.org
SUMMARY:Nurturing/Loving Parent
DESCRIPTION:
URL:https://lambdahouston.org/events/nurturing-loving-parent-2/2026-11-18
LOCATION:Lambda Center Houston\, West Clay Street\, Houston\, TX\, 77019\, United States
CATEGORIES:ACA
GEO:29.7551684;-95.3940619
X-APPLE-STRUCTURED-LOCATION;VALUE=URI;X-ADDRESS=Lambda Center Houston West Clay Street Houston TX 77019 United States;X-APPLE-RADIUS=500;X-TITLE=West Clay Street:geo:-95.3940619,29.7551684
END:VEVENT
BEGIN:VEVENT
DTSTART;TZID=America/Chicago:20261119T183000
DTEND;TZID=America/Chicago:20261119T200000
DTSTAMP:20260425T100626
CREATED:20240715T021458Z
LAST-MODIFIED:20240715T021458Z
UID:10015391-1795113000-1795118400@lambdahouston.org
SUMMARY:Big Red Book (90 mins)
DESCRIPTION:
URL:https://lambdahouston.org/events/big-red-book-90-mins/2026-11-19
LOCATION:Lambda Center Houston\, West Clay Street\, Houston\, TX\, 77019\, United States
CATEGORIES:ACA
GEO:29.7551684;-95.3940619
X-APPLE-STRUCTURED-LOCATION;VALUE=URI;X-ADDRESS=Lambda Center Houston West Clay Street Houston TX 77019 United States;X-APPLE-RADIUS=500;X-TITLE=West Clay Street:geo:-95.3940619,29.7551684
END:VEVENT
BEGIN:VEVENT
DTSTART;TZID=America/Chicago:20261120T183000
DTEND;TZID=America/Chicago:20261120T193000
DTSTAMP:20260425T100626
CREATED:20250105T191127Z
LAST-MODIFIED:20250105T191129Z
UID:10026179-1795199400-1795203000@lambdahouston.org
SUMMARY:Free Spirits
DESCRIPTION:
URL:https://lambdahouston.org/events/free-spirits/2026-11-20
LOCATION:Lambda Center Houston\, West Clay Street\, Houston\, TX\, 77019\, United States
CATEGORIES:ACA
GEO:29.7551684;-95.3940619
X-APPLE-STRUCTURED-LOCATION;VALUE=URI;X-ADDRESS=Lambda Center Houston West Clay Street Houston TX 77019 United States;X-APPLE-RADIUS=500;X-TITLE=West Clay Street:geo:-95.3940619,29.7551684
END:VEVENT
BEGIN:VEVENT
DTSTART;TZID=America/Chicago:20261121T113000
DTEND;TZID=America/Chicago:20261121T130000
DTSTAMP:20260425T100626
CREATED:20240715T030301Z
LAST-MODIFIED:20240715T030301Z
UID:10018523-1795260600-1795266000@lambdahouston.org
SUMMARY:Loving Parent Guidebook (90 mins)
DESCRIPTION:
URL:https://lambdahouston.org/events/loving-parent-guidebook-90-mins/2026-11-21
LOCATION:Lambda Center Houston\, West Clay Street\, Houston\, TX\, 77019\, United States
CATEGORIES:ACA
GEO:29.7551684;-95.3940619
X-APPLE-STRUCTURED-LOCATION;VALUE=URI;X-ADDRESS=Lambda Center Houston West Clay Street Houston TX 77019 United States;X-APPLE-RADIUS=500;X-TITLE=West Clay Street:geo:-95.3940619,29.7551684
END:VEVENT
BEGIN:VEVENT
DTSTART;TZID=America/Chicago:20261122T104500
DTEND;TZID=America/Chicago:20261122T114500
DTSTAMP:20260425T100626
CREATED:20240719T141309Z
LAST-MODIFIED:20240719T141309Z
UID:10025309-1795344300-1795347900@lambdahouston.org
SUMMARY:Virtual Sunday ACA
DESCRIPTION:Sunday 10:45 PM\nOpen ACA Discussion\nbit.ly/lambdaaca\nMeeting ID: 898-5987-2968 | Passcode: None (Waiting Room) \nJOIN MEETING
URL:https://lambdahouston.org/events/virtual-sunday-aca/2026-11-22
LOCATION:Zoom
CATEGORIES:ACA
END:VEVENT
BEGIN:VEVENT
DTSTART;TZID=America/Chicago:20261122T104500
DTEND;TZID=America/Chicago:20261122T121500
DTSTAMP:20260425T100626
CREATED:20240714T151926Z
LAST-MODIFIED:20240714T151926Z
UID:10001036-1795344300-1795349700@lambdahouston.org
SUMMARY:The Yellow Workbook (90 mins)
DESCRIPTION:
URL:https://lambdahouston.org/events/the-yellow-workbook-90-mins/2026-11-22
LOCATION:Lambda Center Houston\, West Clay Street\, Houston\, TX\, 77019\, United States
CATEGORIES:ACA
GEO:29.7551684;-95.3940619
X-APPLE-STRUCTURED-LOCATION;VALUE=URI;X-ADDRESS=Lambda Center Houston West Clay Street Houston TX 77019 United States;X-APPLE-RADIUS=500;X-TITLE=West Clay Street:geo:-95.3940619,29.7551684
END:VEVENT
BEGIN:VEVENT
DTSTART;TZID=America/Chicago:20261122T170000
DTEND;TZID=America/Chicago:20261122T180000
DTSTAMP:20260425T100626
CREATED:20250105T191631Z
LAST-MODIFIED:20250623T195737Z
UID:10029172-1795366800-1795370400@lambdahouston.org
SUMMARY:Laundry List
DESCRIPTION:
URL:https://lambdahouston.org/events/laundry-list/2026-11-22
LOCATION:Lambda Center Houston\, West Clay Street\, Houston\, TX\, 77019\, United States
CATEGORIES:ACA
GEO:29.7551684;-95.3940619
X-APPLE-STRUCTURED-LOCATION;VALUE=URI;X-ADDRESS=Lambda Center Houston West Clay Street Houston TX 77019 United States;X-APPLE-RADIUS=500;X-TITLE=West Clay Street:geo:-95.3940619,29.7551684
END:VEVENT
BEGIN:VEVENT
DTSTART;TZID=America/Chicago:20261125T173000
DTEND;TZID=America/Chicago:20261125T183000
DTSTAMP:20260425T100626
CREATED:20241209T003735Z
LAST-MODIFIED:20250623T205438Z
UID:10026717-1795627800-1795631400@lambdahouston.org
SUMMARY:Nurturing/Loving Parent
DESCRIPTION:
URL:https://lambdahouston.org/events/nurturing-loving-parent-2/2026-11-25
LOCATION:Lambda Center Houston\, West Clay Street\, Houston\, TX\, 77019\, United States
CATEGORIES:ACA
GEO:29.7551684;-95.3940619
X-APPLE-STRUCTURED-LOCATION;VALUE=URI;X-ADDRESS=Lambda Center Houston West Clay Street Houston TX 77019 United States;X-APPLE-RADIUS=500;X-TITLE=West Clay Street:geo:-95.3940619,29.7551684
END:VEVENT
BEGIN:VEVENT
DTSTART;TZID=America/Chicago:20261126T183000
DTEND;TZID=America/Chicago:20261126T200000
DTSTAMP:20260425T100626
CREATED:20240715T021458Z
LAST-MODIFIED:20240715T021458Z
UID:10015392-1795717800-1795723200@lambdahouston.org
SUMMARY:Big Red Book (90 mins)
DESCRIPTION:
URL:https://lambdahouston.org/events/big-red-book-90-mins/2026-11-26
LOCATION:Lambda Center Houston\, West Clay Street\, Houston\, TX\, 77019\, United States
CATEGORIES:ACA
GEO:29.7551684;-95.3940619
X-APPLE-STRUCTURED-LOCATION;VALUE=URI;X-ADDRESS=Lambda Center Houston West Clay Street Houston TX 77019 United States;X-APPLE-RADIUS=500;X-TITLE=West Clay Street:geo:-95.3940619,29.7551684
END:VEVENT
BEGIN:VEVENT
DTSTART;TZID=America/Chicago:20261127T183000
DTEND;TZID=America/Chicago:20261127T193000
DTSTAMP:20260425T100626
CREATED:20250105T191127Z
LAST-MODIFIED:20250105T191129Z
UID:10026180-1795804200-1795807800@lambdahouston.org
SUMMARY:Free Spirits
DESCRIPTION:
URL:https://lambdahouston.org/events/free-spirits/2026-11-27
LOCATION:Lambda Center Houston\, West Clay Street\, Houston\, TX\, 77019\, United States
CATEGORIES:ACA
GEO:29.7551684;-95.3940619
X-APPLE-STRUCTURED-LOCATION;VALUE=URI;X-ADDRESS=Lambda Center Houston West Clay Street Houston TX 77019 United States;X-APPLE-RADIUS=500;X-TITLE=West Clay Street:geo:-95.3940619,29.7551684
END:VEVENT
BEGIN:VEVENT
DTSTART;TZID=America/Chicago:20261128T113000
DTEND;TZID=America/Chicago:20261128T130000
DTSTAMP:20260425T100626
CREATED:20240715T030301Z
LAST-MODIFIED:20240715T030301Z
UID:10018524-1795865400-1795870800@lambdahouston.org
SUMMARY:Loving Parent Guidebook (90 mins)
DESCRIPTION:
URL:https://lambdahouston.org/events/loving-parent-guidebook-90-mins/2026-11-28
LOCATION:Lambda Center Houston\, West Clay Street\, Houston\, TX\, 77019\, United States
CATEGORIES:ACA
GEO:29.7551684;-95.3940619
X-APPLE-STRUCTURED-LOCATION;VALUE=URI;X-ADDRESS=Lambda Center Houston West Clay Street Houston TX 77019 United States;X-APPLE-RADIUS=500;X-TITLE=West Clay Street:geo:-95.3940619,29.7551684
END:VEVENT
BEGIN:VEVENT
DTSTART;TZID=America/Chicago:20261129T104500
DTEND;TZID=America/Chicago:20261129T114500
DTSTAMP:20260425T100626
CREATED:20240719T141309Z
LAST-MODIFIED:20240719T141309Z
UID:10025310-1795949100-1795952700@lambdahouston.org
SUMMARY:Virtual Sunday ACA
DESCRIPTION:Sunday 10:45 PM\nOpen ACA Discussion\nbit.ly/lambdaaca\nMeeting ID: 898-5987-2968 | Passcode: None (Waiting Room) \nJOIN MEETING
URL:https://lambdahouston.org/events/virtual-sunday-aca/2026-11-29
LOCATION:Zoom
CATEGORIES:ACA
END:VEVENT
BEGIN:VEVENT
DTSTART;TZID=America/Chicago:20261129T104500
DTEND;TZID=America/Chicago:20261129T121500
DTSTAMP:20260425T100626
CREATED:20240714T151926Z
LAST-MODIFIED:20240714T151926Z
UID:10001037-1795949100-1795954500@lambdahouston.org
SUMMARY:The Yellow Workbook (90 mins)
DESCRIPTION:
URL:https://lambdahouston.org/events/the-yellow-workbook-90-mins/2026-11-29
LOCATION:Lambda Center Houston\, West Clay Street\, Houston\, TX\, 77019\, United States
CATEGORIES:ACA
GEO:29.7551684;-95.3940619
X-APPLE-STRUCTURED-LOCATION;VALUE=URI;X-ADDRESS=Lambda Center Houston West Clay Street Houston TX 77019 United States;X-APPLE-RADIUS=500;X-TITLE=West Clay Street:geo:-95.3940619,29.7551684
END:VEVENT
BEGIN:VEVENT
DTSTART;TZID=America/Chicago:20261129T170000
DTEND;TZID=America/Chicago:20261129T180000
DTSTAMP:20260425T100626
CREATED:20250105T191631Z
LAST-MODIFIED:20250623T195737Z
UID:10029173-1795971600-1795975200@lambdahouston.org
SUMMARY:Laundry List
DESCRIPTION:
URL:https://lambdahouston.org/events/laundry-list/2026-11-29
LOCATION:Lambda Center Houston\, West Clay Street\, Houston\, TX\, 77019\, United States
CATEGORIES:ACA
GEO:29.7551684;-95.3940619
X-APPLE-STRUCTURED-LOCATION;VALUE=URI;X-ADDRESS=Lambda Center Houston West Clay Street Houston TX 77019 United States;X-APPLE-RADIUS=500;X-TITLE=West Clay Street:geo:-95.3940619,29.7551684
END:VEVENT
BEGIN:VEVENT
DTSTART;TZID=America/Chicago:20261202T173000
DTEND;TZID=America/Chicago:20261202T183000
DTSTAMP:20260425T100626
CREATED:20241209T003735Z
LAST-MODIFIED:20250623T205438Z
UID:10026718-1796232600-1796236200@lambdahouston.org
SUMMARY:Nurturing/Loving Parent
DESCRIPTION:
URL:https://lambdahouston.org/events/nurturing-loving-parent-2/2026-12-02
LOCATION:Lambda Center Houston\, West Clay Street\, Houston\, TX\, 77019\, United States
CATEGORIES:ACA
GEO:29.7551684;-95.3940619
X-APPLE-STRUCTURED-LOCATION;VALUE=URI;X-ADDRESS=Lambda Center Houston West Clay Street Houston TX 77019 United States;X-APPLE-RADIUS=500;X-TITLE=West Clay Street:geo:-95.3940619,29.7551684
END:VEVENT
BEGIN:VEVENT
DTSTART;TZID=America/Chicago:20261203T183000
DTEND;TZID=America/Chicago:20261203T200000
DTSTAMP:20260425T100626
CREATED:20240715T021458Z
LAST-MODIFIED:20240715T021458Z
UID:10015393-1796322600-1796328000@lambdahouston.org
SUMMARY:Big Red Book (90 mins)
DESCRIPTION:
URL:https://lambdahouston.org/events/big-red-book-90-mins/2026-12-03
LOCATION:Lambda Center Houston\, West Clay Street\, Houston\, TX\, 77019\, United States
CATEGORIES:ACA
GEO:29.7551684;-95.3940619
X-APPLE-STRUCTURED-LOCATION;VALUE=URI;X-ADDRESS=Lambda Center Houston West Clay Street Houston TX 77019 United States;X-APPLE-RADIUS=500;X-TITLE=West Clay Street:geo:-95.3940619,29.7551684
END:VEVENT
BEGIN:VEVENT
DTSTART;TZID=America/Chicago:20261204T183000
DTEND;TZID=America/Chicago:20261204T193000
DTSTAMP:20260425T100626
CREATED:20250105T191127Z
LAST-MODIFIED:20250105T191129Z
UID:10026181-1796409000-1796412600@lambdahouston.org
SUMMARY:Free Spirits
DESCRIPTION:
URL:https://lambdahouston.org/events/free-spirits/2026-12-04
LOCATION:Lambda Center Houston\, West Clay Street\, Houston\, TX\, 77019\, United States
CATEGORIES:ACA
GEO:29.7551684;-95.3940619
X-APPLE-STRUCTURED-LOCATION;VALUE=URI;X-ADDRESS=Lambda Center Houston West Clay Street Houston TX 77019 United States;X-APPLE-RADIUS=500;X-TITLE=West Clay Street:geo:-95.3940619,29.7551684
END:VEVENT
BEGIN:VEVENT
DTSTART;TZID=America/Chicago:20261205T113000
DTEND;TZID=America/Chicago:20261205T130000
DTSTAMP:20260425T100626
CREATED:20240715T030301Z
LAST-MODIFIED:20240715T030301Z
UID:10018525-1796470200-1796475600@lambdahouston.org
SUMMARY:Loving Parent Guidebook (90 mins)
DESCRIPTION:
URL:https://lambdahouston.org/events/loving-parent-guidebook-90-mins/2026-12-05
LOCATION:Lambda Center Houston\, West Clay Street\, Houston\, TX\, 77019\, United States
CATEGORIES:ACA
GEO:29.7551684;-95.3940619
X-APPLE-STRUCTURED-LOCATION;VALUE=URI;X-ADDRESS=Lambda Center Houston West Clay Street Houston TX 77019 United States;X-APPLE-RADIUS=500;X-TITLE=West Clay Street:geo:-95.3940619,29.7551684
END:VEVENT
BEGIN:VEVENT
DTSTART;TZID=America/Chicago:20261206T104500
DTEND;TZID=America/Chicago:20261206T114500
DTSTAMP:20260425T100626
CREATED:20240719T141309Z
LAST-MODIFIED:20240719T141309Z
UID:10025311-1796553900-1796557500@lambdahouston.org
SUMMARY:Virtual Sunday ACA
DESCRIPTION:Sunday 10:45 PM\nOpen ACA Discussion\nbit.ly/lambdaaca\nMeeting ID: 898-5987-2968 | Passcode: None (Waiting Room) \nJOIN MEETING
URL:https://lambdahouston.org/events/virtual-sunday-aca/2026-12-06
LOCATION:Zoom
CATEGORIES:ACA
END:VEVENT
BEGIN:VEVENT
DTSTART;TZID=America/Chicago:20261206T104500
DTEND;TZID=America/Chicago:20261206T121500
DTSTAMP:20260425T100626
CREATED:20240714T151926Z
LAST-MODIFIED:20240714T151926Z
UID:10001038-1796553900-1796559300@lambdahouston.org
SUMMARY:The Yellow Workbook (90 mins)
DESCRIPTION:
URL:https://lambdahouston.org/events/the-yellow-workbook-90-mins/2026-12-06
LOCATION:Lambda Center Houston\, West Clay Street\, Houston\, TX\, 77019\, United States
CATEGORIES:ACA
GEO:29.7551684;-95.3940619
X-APPLE-STRUCTURED-LOCATION;VALUE=URI;X-ADDRESS=Lambda Center Houston West Clay Street Houston TX 77019 United States;X-APPLE-RADIUS=500;X-TITLE=West Clay Street:geo:-95.3940619,29.7551684
END:VEVENT
BEGIN:VEVENT
DTSTART;TZID=America/Chicago:20261206T170000
DTEND;TZID=America/Chicago:20261206T180000
DTSTAMP:20260425T100626
CREATED:20250105T191631Z
LAST-MODIFIED:20250623T195737Z
UID:10029174-1796576400-1796580000@lambdahouston.org
SUMMARY:Laundry List
DESCRIPTION:
URL:https://lambdahouston.org/events/laundry-list/2026-12-06
LOCATION:Lambda Center Houston\, West Clay Street\, Houston\, TX\, 77019\, United States
CATEGORIES:ACA
GEO:29.7551684;-95.3940619
X-APPLE-STRUCTURED-LOCATION;VALUE=URI;X-ADDRESS=Lambda Center Houston West Clay Street Houston TX 77019 United States;X-APPLE-RADIUS=500;X-TITLE=West Clay Street:geo:-95.3940619,29.7551684
END:VEVENT
BEGIN:VEVENT
DTSTART;TZID=America/Chicago:20261209T173000
DTEND;TZID=America/Chicago:20261209T183000
DTSTAMP:20260425T100626
CREATED:20241209T003735Z
LAST-MODIFIED:20250623T205438Z
UID:10026719-1796837400-1796841000@lambdahouston.org
SUMMARY:Nurturing/Loving Parent
DESCRIPTION:
URL:https://lambdahouston.org/events/nurturing-loving-parent-2/2026-12-09
LOCATION:Lambda Center Houston\, West Clay Street\, Houston\, TX\, 77019\, United States
CATEGORIES:ACA
GEO:29.7551684;-95.3940619
X-APPLE-STRUCTURED-LOCATION;VALUE=URI;X-ADDRESS=Lambda Center Houston West Clay Street Houston TX 77019 United States;X-APPLE-RADIUS=500;X-TITLE=West Clay Street:geo:-95.3940619,29.7551684
END:VEVENT
BEGIN:VEVENT
DTSTART;TZID=America/Chicago:20261210T183000
DTEND;TZID=America/Chicago:20261210T200000
DTSTAMP:20260425T100626
CREATED:20240715T021458Z
LAST-MODIFIED:20240715T021458Z
UID:10015394-1796927400-1796932800@lambdahouston.org
SUMMARY:Big Red Book (90 mins)
DESCRIPTION:
URL:https://lambdahouston.org/events/big-red-book-90-mins/2026-12-10
LOCATION:Lambda Center Houston\, West Clay Street\, Houston\, TX\, 77019\, United States
CATEGORIES:ACA
GEO:29.7551684;-95.3940619
X-APPLE-STRUCTURED-LOCATION;VALUE=URI;X-ADDRESS=Lambda Center Houston West Clay Street Houston TX 77019 United States;X-APPLE-RADIUS=500;X-TITLE=West Clay Street:geo:-95.3940619,29.7551684
END:VEVENT
BEGIN:VEVENT
DTSTART;TZID=America/Chicago:20261211T183000
DTEND;TZID=America/Chicago:20261211T193000
DTSTAMP:20260425T100626
CREATED:20250105T191127Z
LAST-MODIFIED:20250105T191129Z
UID:10026182-1797013800-1797017400@lambdahouston.org
SUMMARY:Free Spirits
DESCRIPTION:
URL:https://lambdahouston.org/events/free-spirits/2026-12-11
LOCATION:Lambda Center Houston\, West Clay Street\, Houston\, TX\, 77019\, United States
CATEGORIES:ACA
GEO:29.7551684;-95.3940619
X-APPLE-STRUCTURED-LOCATION;VALUE=URI;X-ADDRESS=Lambda Center Houston West Clay Street Houston TX 77019 United States;X-APPLE-RADIUS=500;X-TITLE=West Clay Street:geo:-95.3940619,29.7551684
END:VEVENT
BEGIN:VEVENT
DTSTART;TZID=America/Chicago:20261212T113000
DTEND;TZID=America/Chicago:20261212T130000
DTSTAMP:20260425T100626
CREATED:20240715T030301Z
LAST-MODIFIED:20240715T030301Z
UID:10018526-1797075000-1797080400@lambdahouston.org
SUMMARY:Loving Parent Guidebook (90 mins)
DESCRIPTION:
URL:https://lambdahouston.org/events/loving-parent-guidebook-90-mins/2026-12-12
LOCATION:Lambda Center Houston\, West Clay Street\, Houston\, TX\, 77019\, United States
CATEGORIES:ACA
GEO:29.7551684;-95.3940619
X-APPLE-STRUCTURED-LOCATION;VALUE=URI;X-ADDRESS=Lambda Center Houston West Clay Street Houston TX 77019 United States;X-APPLE-RADIUS=500;X-TITLE=West Clay Street:geo:-95.3940619,29.7551684
END:VEVENT
BEGIN:VEVENT
DTSTART;TZID=America/Chicago:20261213T104500
DTEND;TZID=America/Chicago:20261213T114500
DTSTAMP:20260425T100626
CREATED:20240719T141309Z
LAST-MODIFIED:20240719T141309Z
UID:10025312-1797158700-1797162300@lambdahouston.org
SUMMARY:Virtual Sunday ACA
DESCRIPTION:Sunday 10:45 PM\nOpen ACA Discussion\nbit.ly/lambdaaca\nMeeting ID: 898-5987-2968 | Passcode: None (Waiting Room) \nJOIN MEETING
URL:https://lambdahouston.org/events/virtual-sunday-aca/2026-12-13
LOCATION:Zoom
CATEGORIES:ACA
END:VEVENT
BEGIN:VEVENT
DTSTART;TZID=America/Chicago:20261213T104500
DTEND;TZID=America/Chicago:20261213T121500
DTSTAMP:20260425T100626
CREATED:20240714T151926Z
LAST-MODIFIED:20240714T151926Z
UID:10001039-1797158700-1797164100@lambdahouston.org
SUMMARY:The Yellow Workbook (90 mins)
DESCRIPTION:
URL:https://lambdahouston.org/events/the-yellow-workbook-90-mins/2026-12-13
LOCATION:Lambda Center Houston\, West Clay Street\, Houston\, TX\, 77019\, United States
CATEGORIES:ACA
GEO:29.7551684;-95.3940619
X-APPLE-STRUCTURED-LOCATION;VALUE=URI;X-ADDRESS=Lambda Center Houston West Clay Street Houston TX 77019 United States;X-APPLE-RADIUS=500;X-TITLE=West Clay Street:geo:-95.3940619,29.7551684
END:VEVENT
BEGIN:VEVENT
DTSTART;TZID=America/Chicago:20261213T170000
DTEND;TZID=America/Chicago:20261213T180000
DTSTAMP:20260425T100626
CREATED:20250105T191631Z
LAST-MODIFIED:20250623T195737Z
UID:10029175-1797181200-1797184800@lambdahouston.org
SUMMARY:Laundry List
DESCRIPTION:
URL:https://lambdahouston.org/events/laundry-list/2026-12-13
LOCATION:Lambda Center Houston\, West Clay Street\, Houston\, TX\, 77019\, United States
CATEGORIES:ACA
GEO:29.7551684;-95.3940619
X-APPLE-STRUCTURED-LOCATION;VALUE=URI;X-ADDRESS=Lambda Center Houston West Clay Street Houston TX 77019 United States;X-APPLE-RADIUS=500;X-TITLE=West Clay Street:geo:-95.3940619,29.7551684
END:VEVENT
BEGIN:VEVENT
DTSTART;TZID=America/Chicago:20261216T173000
DTEND;TZID=America/Chicago:20261216T183000
DTSTAMP:20260425T100626
CREATED:20241209T003735Z
LAST-MODIFIED:20250623T205438Z
UID:10026720-1797442200-1797445800@lambdahouston.org
SUMMARY:Nurturing/Loving Parent
DESCRIPTION:
URL:https://lambdahouston.org/events/nurturing-loving-parent-2/2026-12-16
LOCATION:Lambda Center Houston\, West Clay Street\, Houston\, TX\, 77019\, United States
CATEGORIES:ACA
GEO:29.7551684;-95.3940619
X-APPLE-STRUCTURED-LOCATION;VALUE=URI;X-ADDRESS=Lambda Center Houston West Clay Street Houston TX 77019 United States;X-APPLE-RADIUS=500;X-TITLE=West Clay Street:geo:-95.3940619,29.7551684
END:VEVENT
BEGIN:VEVENT
DTSTART;TZID=America/Chicago:20261217T183000
DTEND;TZID=America/Chicago:20261217T200000
DTSTAMP:20260425T100626
CREATED:20240715T021458Z
LAST-MODIFIED:20240715T021458Z
UID:10015395-1797532200-1797537600@lambdahouston.org
SUMMARY:Big Red Book (90 mins)
DESCRIPTION:
URL:https://lambdahouston.org/events/big-red-book-90-mins/2026-12-17
LOCATION:Lambda Center Houston\, West Clay Street\, Houston\, TX\, 77019\, United States
CATEGORIES:ACA
GEO:29.7551684;-95.3940619
X-APPLE-STRUCTURED-LOCATION;VALUE=URI;X-ADDRESS=Lambda Center Houston West Clay Street Houston TX 77019 United States;X-APPLE-RADIUS=500;X-TITLE=West Clay Street:geo:-95.3940619,29.7551684
END:VEVENT
END:VCALENDAR