BEGIN:VCALENDAR
VERSION:2.0
PRODID:-//Lambda Center Houston - ECPv6.15.16//NONSGML v1.0//EN
CALSCALE:GREGORIAN
METHOD:PUBLISH
X-WR-CALNAME:Lambda Center Houston
X-ORIGINAL-URL:https://lambdahouston.org
X-WR-CALDESC:Events for Lambda Center Houston
REFRESH-INTERVAL;VALUE=DURATION:PT1H
X-Robots-Tag:noindex
X-PUBLISHED-TTL:PT1H
BEGIN:VTIMEZONE
TZID:America/Chicago
BEGIN:DAYLIGHT
TZOFFSETFROM:-0600
TZOFFSETTO:-0500
TZNAME:CDT
DTSTART:20250309T080000
END:DAYLIGHT
BEGIN:STANDARD
TZOFFSETFROM:-0500
TZOFFSETTO:-0600
TZNAME:CST
DTSTART:20251102T070000
END:STANDARD
BEGIN:DAYLIGHT
TZOFFSETFROM:-0600
TZOFFSETTO:-0500
TZNAME:CDT
DTSTART:20260308T080000
END:DAYLIGHT
BEGIN:STANDARD
TZOFFSETFROM:-0500
TZOFFSETTO:-0600
TZNAME:CST
DTSTART:20261101T070000
END:STANDARD
BEGIN:DAYLIGHT
TZOFFSETFROM:-0600
TZOFFSETTO:-0500
TZNAME:CDT
DTSTART:20270314T080000
END:DAYLIGHT
BEGIN:STANDARD
TZOFFSETFROM:-0500
TZOFFSETTO:-0600
TZNAME:CST
DTSTART:20271107T070000
END:STANDARD
END:VTIMEZONE
BEGIN:VEVENT
DTSTART;TZID=America/Chicago:20261001T183000
DTEND;TZID=America/Chicago:20261001T200000
DTSTAMP:20260425T081020
CREATED:20240715T021458Z
LAST-MODIFIED:20240715T021458Z
UID:10015384-1790879400-1790884800@lambdahouston.org
SUMMARY:Big Red Book (90 mins)
DESCRIPTION:
URL:https://lambdahouston.org/events/big-red-book-90-mins/2026-10-01
LOCATION:Lambda Center Houston\, West Clay Street\, Houston\, TX\, 77019\, United States
CATEGORIES:ACA
GEO:29.7551684;-95.3940619
X-APPLE-STRUCTURED-LOCATION;VALUE=URI;X-ADDRESS=Lambda Center Houston West Clay Street Houston TX 77019 United States;X-APPLE-RADIUS=500;X-TITLE=West Clay Street:geo:-95.3940619,29.7551684
END:VEVENT
BEGIN:VEVENT
DTSTART;TZID=America/Chicago:20261002T183000
DTEND;TZID=America/Chicago:20261002T193000
DTSTAMP:20260425T081021
CREATED:20250105T191127Z
LAST-MODIFIED:20250105T191129Z
UID:10026172-1790965800-1790969400@lambdahouston.org
SUMMARY:Free Spirits
DESCRIPTION:
URL:https://lambdahouston.org/events/free-spirits/2026-10-02
LOCATION:Lambda Center Houston\, West Clay Street\, Houston\, TX\, 77019\, United States
CATEGORIES:ACA
GEO:29.7551684;-95.3940619
X-APPLE-STRUCTURED-LOCATION;VALUE=URI;X-ADDRESS=Lambda Center Houston West Clay Street Houston TX 77019 United States;X-APPLE-RADIUS=500;X-TITLE=West Clay Street:geo:-95.3940619,29.7551684
END:VEVENT
BEGIN:VEVENT
DTSTART;TZID=America/Chicago:20261003T113000
DTEND;TZID=America/Chicago:20261003T130000
DTSTAMP:20260425T081021
CREATED:20240715T030301Z
LAST-MODIFIED:20240715T030301Z
UID:10018516-1791027000-1791032400@lambdahouston.org
SUMMARY:Loving Parent Guidebook (90 mins)
DESCRIPTION:
URL:https://lambdahouston.org/events/loving-parent-guidebook-90-mins/2026-10-03
LOCATION:Lambda Center Houston\, West Clay Street\, Houston\, TX\, 77019\, United States
CATEGORIES:ACA
GEO:29.7551684;-95.3940619
X-APPLE-STRUCTURED-LOCATION;VALUE=URI;X-ADDRESS=Lambda Center Houston West Clay Street Houston TX 77019 United States;X-APPLE-RADIUS=500;X-TITLE=West Clay Street:geo:-95.3940619,29.7551684
END:VEVENT
BEGIN:VEVENT
DTSTART;TZID=America/Chicago:20261004T104500
DTEND;TZID=America/Chicago:20261004T114500
DTSTAMP:20260425T081021
CREATED:20240719T141309Z
LAST-MODIFIED:20240719T141309Z
UID:10025302-1791110700-1791114300@lambdahouston.org
SUMMARY:Virtual Sunday ACA
DESCRIPTION:Sunday 10:45 PM\nOpen ACA Discussion\nbit.ly/lambdaaca\nMeeting ID: 898-5987-2968 | Passcode: None (Waiting Room) \nJOIN MEETING
URL:https://lambdahouston.org/events/virtual-sunday-aca/2026-10-04
LOCATION:Zoom
CATEGORIES:ACA
END:VEVENT
BEGIN:VEVENT
DTSTART;TZID=America/Chicago:20261004T104500
DTEND;TZID=America/Chicago:20261004T121500
DTSTAMP:20260425T081021
CREATED:20240714T151926Z
LAST-MODIFIED:20240714T151926Z
UID:10001029-1791110700-1791116100@lambdahouston.org
SUMMARY:The Yellow Workbook (90 mins)
DESCRIPTION:
URL:https://lambdahouston.org/events/the-yellow-workbook-90-mins/2026-10-04
LOCATION:Lambda Center Houston\, West Clay Street\, Houston\, TX\, 77019\, United States
CATEGORIES:ACA
GEO:29.7551684;-95.3940619
X-APPLE-STRUCTURED-LOCATION;VALUE=URI;X-ADDRESS=Lambda Center Houston West Clay Street Houston TX 77019 United States;X-APPLE-RADIUS=500;X-TITLE=West Clay Street:geo:-95.3940619,29.7551684
END:VEVENT
BEGIN:VEVENT
DTSTART;TZID=America/Chicago:20261004T170000
DTEND;TZID=America/Chicago:20261004T180000
DTSTAMP:20260425T081021
CREATED:20250105T191631Z
LAST-MODIFIED:20250623T195737Z
UID:10029165-1791133200-1791136800@lambdahouston.org
SUMMARY:Laundry List
DESCRIPTION:
URL:https://lambdahouston.org/events/laundry-list/2026-10-04
LOCATION:Lambda Center Houston\, West Clay Street\, Houston\, TX\, 77019\, United States
CATEGORIES:ACA
GEO:29.7551684;-95.3940619
X-APPLE-STRUCTURED-LOCATION;VALUE=URI;X-ADDRESS=Lambda Center Houston West Clay Street Houston TX 77019 United States;X-APPLE-RADIUS=500;X-TITLE=West Clay Street:geo:-95.3940619,29.7551684
END:VEVENT
BEGIN:VEVENT
DTSTART;TZID=America/Chicago:20261007T173000
DTEND;TZID=America/Chicago:20261007T183000
DTSTAMP:20260425T081021
CREATED:20241209T003735Z
LAST-MODIFIED:20250623T205438Z
UID:10026710-1791394200-1791397800@lambdahouston.org
SUMMARY:Nurturing/Loving Parent
DESCRIPTION:
URL:https://lambdahouston.org/events/nurturing-loving-parent-2/2026-10-07
LOCATION:Lambda Center Houston\, West Clay Street\, Houston\, TX\, 77019\, United States
CATEGORIES:ACA
GEO:29.7551684;-95.3940619
X-APPLE-STRUCTURED-LOCATION;VALUE=URI;X-ADDRESS=Lambda Center Houston West Clay Street Houston TX 77019 United States;X-APPLE-RADIUS=500;X-TITLE=West Clay Street:geo:-95.3940619,29.7551684
END:VEVENT
BEGIN:VEVENT
DTSTART;TZID=America/Chicago:20261008T183000
DTEND;TZID=America/Chicago:20261008T200000
DTSTAMP:20260425T081021
CREATED:20240715T021458Z
LAST-MODIFIED:20240715T021458Z
UID:10015385-1791484200-1791489600@lambdahouston.org
SUMMARY:Big Red Book (90 mins)
DESCRIPTION:
URL:https://lambdahouston.org/events/big-red-book-90-mins/2026-10-08
LOCATION:Lambda Center Houston\, West Clay Street\, Houston\, TX\, 77019\, United States
CATEGORIES:ACA
GEO:29.7551684;-95.3940619
X-APPLE-STRUCTURED-LOCATION;VALUE=URI;X-ADDRESS=Lambda Center Houston West Clay Street Houston TX 77019 United States;X-APPLE-RADIUS=500;X-TITLE=West Clay Street:geo:-95.3940619,29.7551684
END:VEVENT
BEGIN:VEVENT
DTSTART;TZID=America/Chicago:20261009T183000
DTEND;TZID=America/Chicago:20261009T193000
DTSTAMP:20260425T081021
CREATED:20250105T191127Z
LAST-MODIFIED:20250105T191129Z
UID:10026173-1791570600-1791574200@lambdahouston.org
SUMMARY:Free Spirits
DESCRIPTION:
URL:https://lambdahouston.org/events/free-spirits/2026-10-09
LOCATION:Lambda Center Houston\, West Clay Street\, Houston\, TX\, 77019\, United States
CATEGORIES:ACA
GEO:29.7551684;-95.3940619
X-APPLE-STRUCTURED-LOCATION;VALUE=URI;X-ADDRESS=Lambda Center Houston West Clay Street Houston TX 77019 United States;X-APPLE-RADIUS=500;X-TITLE=West Clay Street:geo:-95.3940619,29.7551684
END:VEVENT
BEGIN:VEVENT
DTSTART;TZID=America/Chicago:20261010T113000
DTEND;TZID=America/Chicago:20261010T130000
DTSTAMP:20260425T081021
CREATED:20240715T030301Z
LAST-MODIFIED:20240715T030301Z
UID:10018517-1791631800-1791637200@lambdahouston.org
SUMMARY:Loving Parent Guidebook (90 mins)
DESCRIPTION:
URL:https://lambdahouston.org/events/loving-parent-guidebook-90-mins/2026-10-10
LOCATION:Lambda Center Houston\, West Clay Street\, Houston\, TX\, 77019\, United States
CATEGORIES:ACA
GEO:29.7551684;-95.3940619
X-APPLE-STRUCTURED-LOCATION;VALUE=URI;X-ADDRESS=Lambda Center Houston West Clay Street Houston TX 77019 United States;X-APPLE-RADIUS=500;X-TITLE=West Clay Street:geo:-95.3940619,29.7551684
END:VEVENT
BEGIN:VEVENT
DTSTART;TZID=America/Chicago:20261011T104500
DTEND;TZID=America/Chicago:20261011T114500
DTSTAMP:20260425T081021
CREATED:20240719T141309Z
LAST-MODIFIED:20240719T141309Z
UID:10025303-1791715500-1791719100@lambdahouston.org
SUMMARY:Virtual Sunday ACA
DESCRIPTION:Sunday 10:45 PM\nOpen ACA Discussion\nbit.ly/lambdaaca\nMeeting ID: 898-5987-2968 | Passcode: None (Waiting Room) \nJOIN MEETING
URL:https://lambdahouston.org/events/virtual-sunday-aca/2026-10-11
LOCATION:Zoom
CATEGORIES:ACA
END:VEVENT
BEGIN:VEVENT
DTSTART;TZID=America/Chicago:20261011T104500
DTEND;TZID=America/Chicago:20261011T121500
DTSTAMP:20260425T081021
CREATED:20240714T151926Z
LAST-MODIFIED:20240714T151926Z
UID:10001030-1791715500-1791720900@lambdahouston.org
SUMMARY:The Yellow Workbook (90 mins)
DESCRIPTION:
URL:https://lambdahouston.org/events/the-yellow-workbook-90-mins/2026-10-11
LOCATION:Lambda Center Houston\, West Clay Street\, Houston\, TX\, 77019\, United States
CATEGORIES:ACA
GEO:29.7551684;-95.3940619
X-APPLE-STRUCTURED-LOCATION;VALUE=URI;X-ADDRESS=Lambda Center Houston West Clay Street Houston TX 77019 United States;X-APPLE-RADIUS=500;X-TITLE=West Clay Street:geo:-95.3940619,29.7551684
END:VEVENT
BEGIN:VEVENT
DTSTART;TZID=America/Chicago:20261011T170000
DTEND;TZID=America/Chicago:20261011T180000
DTSTAMP:20260425T081021
CREATED:20250105T191631Z
LAST-MODIFIED:20250623T195737Z
UID:10029166-1791738000-1791741600@lambdahouston.org
SUMMARY:Laundry List
DESCRIPTION:
URL:https://lambdahouston.org/events/laundry-list/2026-10-11
LOCATION:Lambda Center Houston\, West Clay Street\, Houston\, TX\, 77019\, United States
CATEGORIES:ACA
GEO:29.7551684;-95.3940619
X-APPLE-STRUCTURED-LOCATION;VALUE=URI;X-ADDRESS=Lambda Center Houston West Clay Street Houston TX 77019 United States;X-APPLE-RADIUS=500;X-TITLE=West Clay Street:geo:-95.3940619,29.7551684
END:VEVENT
BEGIN:VEVENT
DTSTART;TZID=America/Chicago:20261014T173000
DTEND;TZID=America/Chicago:20261014T183000
DTSTAMP:20260425T081021
CREATED:20241209T003735Z
LAST-MODIFIED:20250623T205438Z
UID:10026711-1791999000-1792002600@lambdahouston.org
SUMMARY:Nurturing/Loving Parent
DESCRIPTION:
URL:https://lambdahouston.org/events/nurturing-loving-parent-2/2026-10-14
LOCATION:Lambda Center Houston\, West Clay Street\, Houston\, TX\, 77019\, United States
CATEGORIES:ACA
GEO:29.7551684;-95.3940619
X-APPLE-STRUCTURED-LOCATION;VALUE=URI;X-ADDRESS=Lambda Center Houston West Clay Street Houston TX 77019 United States;X-APPLE-RADIUS=500;X-TITLE=West Clay Street:geo:-95.3940619,29.7551684
END:VEVENT
BEGIN:VEVENT
DTSTART;TZID=America/Chicago:20261015T183000
DTEND;TZID=America/Chicago:20261015T200000
DTSTAMP:20260425T081021
CREATED:20240715T021458Z
LAST-MODIFIED:20240715T021458Z
UID:10015386-1792089000-1792094400@lambdahouston.org
SUMMARY:Big Red Book (90 mins)
DESCRIPTION:
URL:https://lambdahouston.org/events/big-red-book-90-mins/2026-10-15
LOCATION:Lambda Center Houston\, West Clay Street\, Houston\, TX\, 77019\, United States
CATEGORIES:ACA
GEO:29.7551684;-95.3940619
X-APPLE-STRUCTURED-LOCATION;VALUE=URI;X-ADDRESS=Lambda Center Houston West Clay Street Houston TX 77019 United States;X-APPLE-RADIUS=500;X-TITLE=West Clay Street:geo:-95.3940619,29.7551684
END:VEVENT
BEGIN:VEVENT
DTSTART;TZID=America/Chicago:20261016T183000
DTEND;TZID=America/Chicago:20261016T193000
DTSTAMP:20260425T081021
CREATED:20250105T191127Z
LAST-MODIFIED:20250105T191129Z
UID:10026174-1792175400-1792179000@lambdahouston.org
SUMMARY:Free Spirits
DESCRIPTION:
URL:https://lambdahouston.org/events/free-spirits/2026-10-16
LOCATION:Lambda Center Houston\, West Clay Street\, Houston\, TX\, 77019\, United States
CATEGORIES:ACA
GEO:29.7551684;-95.3940619
X-APPLE-STRUCTURED-LOCATION;VALUE=URI;X-ADDRESS=Lambda Center Houston West Clay Street Houston TX 77019 United States;X-APPLE-RADIUS=500;X-TITLE=West Clay Street:geo:-95.3940619,29.7551684
END:VEVENT
BEGIN:VEVENT
DTSTART;TZID=America/Chicago:20261017T113000
DTEND;TZID=America/Chicago:20261017T130000
DTSTAMP:20260425T081021
CREATED:20240715T030301Z
LAST-MODIFIED:20240715T030301Z
UID:10018518-1792236600-1792242000@lambdahouston.org
SUMMARY:Loving Parent Guidebook (90 mins)
DESCRIPTION:
URL:https://lambdahouston.org/events/loving-parent-guidebook-90-mins/2026-10-17
LOCATION:Lambda Center Houston\, West Clay Street\, Houston\, TX\, 77019\, United States
CATEGORIES:ACA
GEO:29.7551684;-95.3940619
X-APPLE-STRUCTURED-LOCATION;VALUE=URI;X-ADDRESS=Lambda Center Houston West Clay Street Houston TX 77019 United States;X-APPLE-RADIUS=500;X-TITLE=West Clay Street:geo:-95.3940619,29.7551684
END:VEVENT
BEGIN:VEVENT
DTSTART;TZID=America/Chicago:20261018T104500
DTEND;TZID=America/Chicago:20261018T114500
DTSTAMP:20260425T081021
CREATED:20240719T141309Z
LAST-MODIFIED:20240719T141309Z
UID:10025304-1792320300-1792323900@lambdahouston.org
SUMMARY:Virtual Sunday ACA
DESCRIPTION:Sunday 10:45 PM\nOpen ACA Discussion\nbit.ly/lambdaaca\nMeeting ID: 898-5987-2968 | Passcode: None (Waiting Room) \nJOIN MEETING
URL:https://lambdahouston.org/events/virtual-sunday-aca/2026-10-18
LOCATION:Zoom
CATEGORIES:ACA
END:VEVENT
BEGIN:VEVENT
DTSTART;TZID=America/Chicago:20261018T104500
DTEND;TZID=America/Chicago:20261018T121500
DTSTAMP:20260425T081021
CREATED:20240714T151926Z
LAST-MODIFIED:20240714T151926Z
UID:10001031-1792320300-1792325700@lambdahouston.org
SUMMARY:The Yellow Workbook (90 mins)
DESCRIPTION:
URL:https://lambdahouston.org/events/the-yellow-workbook-90-mins/2026-10-18
LOCATION:Lambda Center Houston\, West Clay Street\, Houston\, TX\, 77019\, United States
CATEGORIES:ACA
GEO:29.7551684;-95.3940619
X-APPLE-STRUCTURED-LOCATION;VALUE=URI;X-ADDRESS=Lambda Center Houston West Clay Street Houston TX 77019 United States;X-APPLE-RADIUS=500;X-TITLE=West Clay Street:geo:-95.3940619,29.7551684
END:VEVENT
BEGIN:VEVENT
DTSTART;TZID=America/Chicago:20261018T170000
DTEND;TZID=America/Chicago:20261018T180000
DTSTAMP:20260425T081021
CREATED:20250105T191631Z
LAST-MODIFIED:20250623T195737Z
UID:10029167-1792342800-1792346400@lambdahouston.org
SUMMARY:Laundry List
DESCRIPTION:
URL:https://lambdahouston.org/events/laundry-list/2026-10-18
LOCATION:Lambda Center Houston\, West Clay Street\, Houston\, TX\, 77019\, United States
CATEGORIES:ACA
GEO:29.7551684;-95.3940619
X-APPLE-STRUCTURED-LOCATION;VALUE=URI;X-ADDRESS=Lambda Center Houston West Clay Street Houston TX 77019 United States;X-APPLE-RADIUS=500;X-TITLE=West Clay Street:geo:-95.3940619,29.7551684
END:VEVENT
BEGIN:VEVENT
DTSTART;TZID=America/Chicago:20261021T173000
DTEND;TZID=America/Chicago:20261021T183000
DTSTAMP:20260425T081021
CREATED:20241209T003735Z
LAST-MODIFIED:20250623T205438Z
UID:10026712-1792603800-1792607400@lambdahouston.org
SUMMARY:Nurturing/Loving Parent
DESCRIPTION:
URL:https://lambdahouston.org/events/nurturing-loving-parent-2/2026-10-21
LOCATION:Lambda Center Houston\, West Clay Street\, Houston\, TX\, 77019\, United States
CATEGORIES:ACA
GEO:29.7551684;-95.3940619
X-APPLE-STRUCTURED-LOCATION;VALUE=URI;X-ADDRESS=Lambda Center Houston West Clay Street Houston TX 77019 United States;X-APPLE-RADIUS=500;X-TITLE=West Clay Street:geo:-95.3940619,29.7551684
END:VEVENT
BEGIN:VEVENT
DTSTART;TZID=America/Chicago:20261022T183000
DTEND;TZID=America/Chicago:20261022T200000
DTSTAMP:20260425T081021
CREATED:20240715T021458Z
LAST-MODIFIED:20240715T021458Z
UID:10015387-1792693800-1792699200@lambdahouston.org
SUMMARY:Big Red Book (90 mins)
DESCRIPTION:
URL:https://lambdahouston.org/events/big-red-book-90-mins/2026-10-22
LOCATION:Lambda Center Houston\, West Clay Street\, Houston\, TX\, 77019\, United States
CATEGORIES:ACA
GEO:29.7551684;-95.3940619
X-APPLE-STRUCTURED-LOCATION;VALUE=URI;X-ADDRESS=Lambda Center Houston West Clay Street Houston TX 77019 United States;X-APPLE-RADIUS=500;X-TITLE=West Clay Street:geo:-95.3940619,29.7551684
END:VEVENT
BEGIN:VEVENT
DTSTART;TZID=America/Chicago:20261023T183000
DTEND;TZID=America/Chicago:20261023T193000
DTSTAMP:20260425T081021
CREATED:20250105T191127Z
LAST-MODIFIED:20250105T191129Z
UID:10026175-1792780200-1792783800@lambdahouston.org
SUMMARY:Free Spirits
DESCRIPTION:
URL:https://lambdahouston.org/events/free-spirits/2026-10-23
LOCATION:Lambda Center Houston\, West Clay Street\, Houston\, TX\, 77019\, United States
CATEGORIES:ACA
GEO:29.7551684;-95.3940619
X-APPLE-STRUCTURED-LOCATION;VALUE=URI;X-ADDRESS=Lambda Center Houston West Clay Street Houston TX 77019 United States;X-APPLE-RADIUS=500;X-TITLE=West Clay Street:geo:-95.3940619,29.7551684
END:VEVENT
BEGIN:VEVENT
DTSTART;TZID=America/Chicago:20261024T113000
DTEND;TZID=America/Chicago:20261024T130000
DTSTAMP:20260425T081021
CREATED:20240715T030301Z
LAST-MODIFIED:20240715T030301Z
UID:10018519-1792841400-1792846800@lambdahouston.org
SUMMARY:Loving Parent Guidebook (90 mins)
DESCRIPTION:
URL:https://lambdahouston.org/events/loving-parent-guidebook-90-mins/2026-10-24
LOCATION:Lambda Center Houston\, West Clay Street\, Houston\, TX\, 77019\, United States
CATEGORIES:ACA
GEO:29.7551684;-95.3940619
X-APPLE-STRUCTURED-LOCATION;VALUE=URI;X-ADDRESS=Lambda Center Houston West Clay Street Houston TX 77019 United States;X-APPLE-RADIUS=500;X-TITLE=West Clay Street:geo:-95.3940619,29.7551684
END:VEVENT
BEGIN:VEVENT
DTSTART;TZID=America/Chicago:20261025T104500
DTEND;TZID=America/Chicago:20261025T114500
DTSTAMP:20260425T081021
CREATED:20240719T141309Z
LAST-MODIFIED:20240719T141309Z
UID:10025305-1792925100-1792928700@lambdahouston.org
SUMMARY:Virtual Sunday ACA
DESCRIPTION:Sunday 10:45 PM\nOpen ACA Discussion\nbit.ly/lambdaaca\nMeeting ID: 898-5987-2968 | Passcode: None (Waiting Room) \nJOIN MEETING
URL:https://lambdahouston.org/events/virtual-sunday-aca/2026-10-25
LOCATION:Zoom
CATEGORIES:ACA
END:VEVENT
BEGIN:VEVENT
DTSTART;TZID=America/Chicago:20261025T104500
DTEND;TZID=America/Chicago:20261025T121500
DTSTAMP:20260425T081021
CREATED:20240714T151926Z
LAST-MODIFIED:20240714T151926Z
UID:10001032-1792925100-1792930500@lambdahouston.org
SUMMARY:The Yellow Workbook (90 mins)
DESCRIPTION:
URL:https://lambdahouston.org/events/the-yellow-workbook-90-mins/2026-10-25
LOCATION:Lambda Center Houston\, West Clay Street\, Houston\, TX\, 77019\, United States
CATEGORIES:ACA
GEO:29.7551684;-95.3940619
X-APPLE-STRUCTURED-LOCATION;VALUE=URI;X-ADDRESS=Lambda Center Houston West Clay Street Houston TX 77019 United States;X-APPLE-RADIUS=500;X-TITLE=West Clay Street:geo:-95.3940619,29.7551684
END:VEVENT
BEGIN:VEVENT
DTSTART;TZID=America/Chicago:20261025T170000
DTEND;TZID=America/Chicago:20261025T180000
DTSTAMP:20260425T081021
CREATED:20250105T191631Z
LAST-MODIFIED:20250623T195737Z
UID:10029168-1792947600-1792951200@lambdahouston.org
SUMMARY:Laundry List
DESCRIPTION:
URL:https://lambdahouston.org/events/laundry-list/2026-10-25
LOCATION:Lambda Center Houston\, West Clay Street\, Houston\, TX\, 77019\, United States
CATEGORIES:ACA
GEO:29.7551684;-95.3940619
X-APPLE-STRUCTURED-LOCATION;VALUE=URI;X-ADDRESS=Lambda Center Houston West Clay Street Houston TX 77019 United States;X-APPLE-RADIUS=500;X-TITLE=West Clay Street:geo:-95.3940619,29.7551684
END:VEVENT
BEGIN:VEVENT
DTSTART;TZID=America/Chicago:20261028T173000
DTEND;TZID=America/Chicago:20261028T183000
DTSTAMP:20260425T081021
CREATED:20241209T003735Z
LAST-MODIFIED:20250623T205438Z
UID:10026713-1793208600-1793212200@lambdahouston.org
SUMMARY:Nurturing/Loving Parent
DESCRIPTION:
URL:https://lambdahouston.org/events/nurturing-loving-parent-2/2026-10-28
LOCATION:Lambda Center Houston\, West Clay Street\, Houston\, TX\, 77019\, United States
CATEGORIES:ACA
GEO:29.7551684;-95.3940619
X-APPLE-STRUCTURED-LOCATION;VALUE=URI;X-ADDRESS=Lambda Center Houston West Clay Street Houston TX 77019 United States;X-APPLE-RADIUS=500;X-TITLE=West Clay Street:geo:-95.3940619,29.7551684
END:VEVENT
BEGIN:VEVENT
DTSTART;TZID=America/Chicago:20261029T183000
DTEND;TZID=America/Chicago:20261029T200000
DTSTAMP:20260425T081021
CREATED:20240715T021458Z
LAST-MODIFIED:20240715T021458Z
UID:10015388-1793298600-1793304000@lambdahouston.org
SUMMARY:Big Red Book (90 mins)
DESCRIPTION:
URL:https://lambdahouston.org/events/big-red-book-90-mins/2026-10-29
LOCATION:Lambda Center Houston\, West Clay Street\, Houston\, TX\, 77019\, United States
CATEGORIES:ACA
GEO:29.7551684;-95.3940619
X-APPLE-STRUCTURED-LOCATION;VALUE=URI;X-ADDRESS=Lambda Center Houston West Clay Street Houston TX 77019 United States;X-APPLE-RADIUS=500;X-TITLE=West Clay Street:geo:-95.3940619,29.7551684
END:VEVENT
BEGIN:VEVENT
DTSTART;TZID=America/Chicago:20261030T183000
DTEND;TZID=America/Chicago:20261030T193000
DTSTAMP:20260425T081021
CREATED:20250105T191127Z
LAST-MODIFIED:20250105T191129Z
UID:10026176-1793385000-1793388600@lambdahouston.org
SUMMARY:Free Spirits
DESCRIPTION:
URL:https://lambdahouston.org/events/free-spirits/2026-10-30
LOCATION:Lambda Center Houston\, West Clay Street\, Houston\, TX\, 77019\, United States
CATEGORIES:ACA
GEO:29.7551684;-95.3940619
X-APPLE-STRUCTURED-LOCATION;VALUE=URI;X-ADDRESS=Lambda Center Houston West Clay Street Houston TX 77019 United States;X-APPLE-RADIUS=500;X-TITLE=West Clay Street:geo:-95.3940619,29.7551684
END:VEVENT
END:VCALENDAR