BEGIN:VCALENDAR
VERSION:2.0
PRODID:-//Lambda Center Houston - ECPv6.15.16//NONSGML v1.0//EN
CALSCALE:GREGORIAN
METHOD:PUBLISH
X-ORIGINAL-URL:https://lambdahouston.org
X-WR-CALDESC:Events for Lambda Center Houston
REFRESH-INTERVAL;VALUE=DURATION:PT1H
X-Robots-Tag:noindex
X-PUBLISHED-TTL:PT1H
BEGIN:VTIMEZONE
TZID:America/Chicago
BEGIN:DAYLIGHT
TZOFFSETFROM:-0600
TZOFFSETTO:-0500
TZNAME:CDT
DTSTART:20250309T080000
END:DAYLIGHT
BEGIN:STANDARD
TZOFFSETFROM:-0500
TZOFFSETTO:-0600
TZNAME:CST
DTSTART:20251102T070000
END:STANDARD
BEGIN:DAYLIGHT
TZOFFSETFROM:-0600
TZOFFSETTO:-0500
TZNAME:CDT
DTSTART:20260308T080000
END:DAYLIGHT
BEGIN:STANDARD
TZOFFSETFROM:-0500
TZOFFSETTO:-0600
TZNAME:CST
DTSTART:20261101T070000
END:STANDARD
BEGIN:DAYLIGHT
TZOFFSETFROM:-0600
TZOFFSETTO:-0500
TZNAME:CDT
DTSTART:20270314T080000
END:DAYLIGHT
BEGIN:STANDARD
TZOFFSETFROM:-0500
TZOFFSETTO:-0600
TZNAME:CST
DTSTART:20271107T070000
END:STANDARD
END:VTIMEZONE
BEGIN:VEVENT
DTSTART;TZID=America/Chicago:20260422T183000
DTEND;TZID=America/Chicago:20260422T193000
DTSTAMP:20260423T143623
CREATED:20240715T015054Z
LAST-MODIFIED:20240715T015054Z
UID:10014056-1776882600-1776886200@lambdahouston.org
SUMMARY:Everyone's AFG
DESCRIPTION:Formerly Double Winners Group
URL:https://lambdahouston.org/events/everyones-afg/2026-04-22
LOCATION:Lambda Center Houston\, West Clay Street\, Houston\, TX\, 77019\, United States
CATEGORIES:Al-Anon
GEO:29.7551684;-95.3940619
X-APPLE-STRUCTURED-LOCATION;VALUE=URI;X-ADDRESS=Lambda Center Houston West Clay Street Houston TX 77019 United States;X-APPLE-RADIUS=500;X-TITLE=West Clay Street:geo:-95.3940619,29.7551684
END:VEVENT
BEGIN:VEVENT
DTSTART;TZID=America/Chicago:20260422T183000
DTEND;TZID=America/Chicago:20260422T193000
DTSTAMP:20260423T143623
CREATED:20240719T140555Z
LAST-MODIFIED:20240829T205958Z
UID:10024495-1776882600-1776886200@lambdahouston.org
SUMMARY:Virtual Everyone’s AFG
DESCRIPTION:Wednesday 6:30 PM\nOpen Al Anon Discussion\nbit.ly/lambdaeveryonesafg\nMeeting ID: 717-796-041 | Passcode: 757372 \nJOIN MEETING
URL:https://lambdahouston.org/events/virtual-everyones-afg/2026-04-22
LOCATION:Zoom
CATEGORIES:Al-Anon
END:VEVENT
BEGIN:VEVENT
DTSTART;TZID=America/Chicago:20260422T183000
DTEND;TZID=America/Chicago:20260422T193000
DTSTAMP:20260423T143623
CREATED:20240719T140838Z
LAST-MODIFIED:20240719T140838Z
UID:10024756-1776882600-1776886200@lambdahouston.org
SUMMARY:Virtual Wednesday Silent Journey
DESCRIPTION:Wednesday 6:30 PM\nOpen AA Meditation\nMeeting ID: 817-0558-5298 | Passcode: 630824 \nJOIN MEETING
URL:https://lambdahouston.org/events/virtual-wednesday-silent-journey/2026-04-22
LOCATION:Zoom
CATEGORIES:Al-Anon
END:VEVENT
END:VCALENDAR