BEGIN:VCALENDAR
VERSION:2.0
PRODID:-//Lambda Center Houston - ECPv6.15.16//NONSGML v1.0//EN
CALSCALE:GREGORIAN
METHOD:PUBLISH
X-ORIGINAL-URL:https://lambdahouston.org
X-WR-CALDESC:Events for Lambda Center Houston
REFRESH-INTERVAL;VALUE=DURATION:PT1H
X-Robots-Tag:noindex
X-PUBLISHED-TTL:PT1H
BEGIN:VTIMEZONE
TZID:America/Chicago
BEGIN:DAYLIGHT
TZOFFSETFROM:-0600
TZOFFSETTO:-0500
TZNAME:CDT
DTSTART:20260308T080000
END:DAYLIGHT
BEGIN:STANDARD
TZOFFSETFROM:-0500
TZOFFSETTO:-0600
TZNAME:CST
DTSTART:20261101T070000
END:STANDARD
BEGIN:DAYLIGHT
TZOFFSETFROM:-0600
TZOFFSETTO:-0500
TZNAME:CDT
DTSTART:20270314T080000
END:DAYLIGHT
BEGIN:STANDARD
TZOFFSETFROM:-0500
TZOFFSETTO:-0600
TZNAME:CST
DTSTART:20271107T070000
END:STANDARD
BEGIN:DAYLIGHT
TZOFFSETFROM:-0600
TZOFFSETTO:-0500
TZNAME:CDT
DTSTART:20280312T080000
END:DAYLIGHT
BEGIN:STANDARD
TZOFFSETFROM:-0500
TZOFFSETTO:-0600
TZNAME:CST
DTSTART:20281105T070000
END:STANDARD
END:VTIMEZONE
BEGIN:VEVENT
DTSTART;TZID=America/Chicago:20270407T183000
DTEND;TZID=America/Chicago:20270407T193000
DTSTAMP:20260425T065313
CREATED:20240715T015054Z
LAST-MODIFIED:20240715T015054Z
UID:10014106-1807122600-1807126200@lambdahouston.org
SUMMARY:Everyone's AFG
DESCRIPTION:Formerly Double Winners Group
URL:https://lambdahouston.org/events/everyones-afg/2027-04-07
LOCATION:Lambda Center Houston\, West Clay Street\, Houston\, TX\, 77019\, United States
CATEGORIES:Al-Anon
GEO:29.7551684;-95.3940619
X-APPLE-STRUCTURED-LOCATION;VALUE=URI;X-ADDRESS=Lambda Center Houston West Clay Street Houston TX 77019 United States;X-APPLE-RADIUS=500;X-TITLE=West Clay Street:geo:-95.3940619,29.7551684
END:VEVENT
BEGIN:VEVENT
DTSTART;TZID=America/Chicago:20270407T183000
DTEND;TZID=America/Chicago:20270407T193000
DTSTAMP:20260425T065313
CREATED:20240719T140555Z
LAST-MODIFIED:20240829T205958Z
UID:10024545-1807122600-1807126200@lambdahouston.org
SUMMARY:Virtual Everyone’s AFG
DESCRIPTION:Wednesday 6:30 PM\nOpen Al Anon Discussion\nbit.ly/lambdaeveryonesafg\nMeeting ID: 717-796-041 | Passcode: 757372 \nJOIN MEETING
URL:https://lambdahouston.org/events/virtual-everyones-afg/2027-04-07
LOCATION:Zoom
CATEGORIES:Al-Anon
END:VEVENT
BEGIN:VEVENT
DTSTART;TZID=America/Chicago:20270407T183000
DTEND;TZID=America/Chicago:20270407T193000
DTSTAMP:20260425T065313
CREATED:20240719T140838Z
LAST-MODIFIED:20240719T140838Z
UID:10024806-1807122600-1807126200@lambdahouston.org
SUMMARY:Virtual Wednesday Silent Journey
DESCRIPTION:Wednesday 6:30 PM\nOpen AA Meditation\nMeeting ID: 817-0558-5298 | Passcode: 630824 \nJOIN MEETING
URL:https://lambdahouston.org/events/virtual-wednesday-silent-journey/2027-04-07
LOCATION:Zoom
CATEGORIES:Al-Anon
END:VEVENT
BEGIN:VEVENT
DTSTART;TZID=America/Chicago:20270411T190000
DTEND;TZID=America/Chicago:20270411T200000
DTSTAMP:20260425T065313
CREATED:20250506T003549Z
LAST-MODIFIED:20250506T003549Z
UID:10028298-1807470000-1807473600@lambdahouston.org
SUMMARY:Lambda Al-Anon
DESCRIPTION:
URL:https://lambdahouston.org/events/lambda-al-anon/2027-04-11
LOCATION:Lambda Center Houston\, West Clay Street\, Houston\, TX\, 77019\, United States
CATEGORIES:Al-Anon
GEO:29.7551684;-95.3940619
X-APPLE-STRUCTURED-LOCATION;VALUE=URI;X-ADDRESS=Lambda Center Houston West Clay Street Houston TX 77019 United States;X-APPLE-RADIUS=500;X-TITLE=West Clay Street:geo:-95.3940619,29.7551684
END:VEVENT
BEGIN:VEVENT
DTSTART;TZID=America/Chicago:20270413T180000
DTEND;TZID=America/Chicago:20270413T190000
DTSTAMP:20260425T065313
CREATED:20240715T012540Z
LAST-MODIFIED:20240715T012642Z
UID:10012280-1807639200-1807642800@lambdahouston.org
SUMMARY:Lambda Al-Anon
DESCRIPTION:Lambda Al-Anon Birthday Night is celebrated the last week of every month.
URL:https://lambdahouston.org/events/lambda-al-anon-tuesday/2027-04-13
LOCATION:Lambda Center Houston\, West Clay Street\, Houston\, TX\, 77019\, United States
CATEGORIES:Al-Anon
GEO:29.7551684;-95.3940619
X-APPLE-STRUCTURED-LOCATION;VALUE=URI;X-ADDRESS=Lambda Center Houston West Clay Street Houston TX 77019 United States;X-APPLE-RADIUS=500;X-TITLE=West Clay Street:geo:-95.3940619,29.7551684
END:VEVENT
BEGIN:VEVENT
DTSTART;TZID=America/Chicago:20270414T183000
DTEND;TZID=America/Chicago:20270414T193000
DTSTAMP:20260425T065313
CREATED:20240715T015054Z
LAST-MODIFIED:20240715T015054Z
UID:10014107-1807727400-1807731000@lambdahouston.org
SUMMARY:Everyone's AFG
DESCRIPTION:Formerly Double Winners Group
URL:https://lambdahouston.org/events/everyones-afg/2027-04-14
LOCATION:Lambda Center Houston\, West Clay Street\, Houston\, TX\, 77019\, United States
CATEGORIES:Al-Anon
GEO:29.7551684;-95.3940619
X-APPLE-STRUCTURED-LOCATION;VALUE=URI;X-ADDRESS=Lambda Center Houston West Clay Street Houston TX 77019 United States;X-APPLE-RADIUS=500;X-TITLE=West Clay Street:geo:-95.3940619,29.7551684
END:VEVENT
BEGIN:VEVENT
DTSTART;TZID=America/Chicago:20270414T183000
DTEND;TZID=America/Chicago:20270414T193000
DTSTAMP:20260425T065313
CREATED:20240719T140555Z
LAST-MODIFIED:20240829T205958Z
UID:10024546-1807727400-1807731000@lambdahouston.org
SUMMARY:Virtual Everyone’s AFG
DESCRIPTION:Wednesday 6:30 PM\nOpen Al Anon Discussion\nbit.ly/lambdaeveryonesafg\nMeeting ID: 717-796-041 | Passcode: 757372 \nJOIN MEETING
URL:https://lambdahouston.org/events/virtual-everyones-afg/2027-04-14
LOCATION:Zoom
CATEGORIES:Al-Anon
END:VEVENT
BEGIN:VEVENT
DTSTART;TZID=America/Chicago:20270414T183000
DTEND;TZID=America/Chicago:20270414T193000
DTSTAMP:20260425T065313
CREATED:20240719T140838Z
LAST-MODIFIED:20240719T140838Z
UID:10024807-1807727400-1807731000@lambdahouston.org
SUMMARY:Virtual Wednesday Silent Journey
DESCRIPTION:Wednesday 6:30 PM\nOpen AA Meditation\nMeeting ID: 817-0558-5298 | Passcode: 630824 \nJOIN MEETING
URL:https://lambdahouston.org/events/virtual-wednesday-silent-journey/2027-04-14
LOCATION:Zoom
CATEGORIES:Al-Anon
END:VEVENT
BEGIN:VEVENT
DTSTART;TZID=America/Chicago:20270418T190000
DTEND;TZID=America/Chicago:20270418T200000
DTSTAMP:20260425T065313
CREATED:20250506T003549Z
LAST-MODIFIED:20250506T003549Z
UID:10028299-1808074800-1808078400@lambdahouston.org
SUMMARY:Lambda Al-Anon
DESCRIPTION:
URL:https://lambdahouston.org/events/lambda-al-anon/2027-04-18
LOCATION:Lambda Center Houston\, West Clay Street\, Houston\, TX\, 77019\, United States
CATEGORIES:Al-Anon
GEO:29.7551684;-95.3940619
X-APPLE-STRUCTURED-LOCATION;VALUE=URI;X-ADDRESS=Lambda Center Houston West Clay Street Houston TX 77019 United States;X-APPLE-RADIUS=500;X-TITLE=West Clay Street:geo:-95.3940619,29.7551684
END:VEVENT
BEGIN:VEVENT
DTSTART;TZID=America/Chicago:20270420T180000
DTEND;TZID=America/Chicago:20270420T190000
DTSTAMP:20260425T065313
CREATED:20240715T012540Z
LAST-MODIFIED:20240715T012642Z
UID:10012281-1808244000-1808247600@lambdahouston.org
SUMMARY:Lambda Al-Anon
DESCRIPTION:Lambda Al-Anon Birthday Night is celebrated the last week of every month.
URL:https://lambdahouston.org/events/lambda-al-anon-tuesday/2027-04-20
LOCATION:Lambda Center Houston\, West Clay Street\, Houston\, TX\, 77019\, United States
CATEGORIES:Al-Anon
GEO:29.7551684;-95.3940619
X-APPLE-STRUCTURED-LOCATION;VALUE=URI;X-ADDRESS=Lambda Center Houston West Clay Street Houston TX 77019 United States;X-APPLE-RADIUS=500;X-TITLE=West Clay Street:geo:-95.3940619,29.7551684
END:VEVENT
BEGIN:VEVENT
DTSTART;TZID=America/Chicago:20270421T183000
DTEND;TZID=America/Chicago:20270421T193000
DTSTAMP:20260425T065313
CREATED:20240715T015054Z
LAST-MODIFIED:20240715T015054Z
UID:10014108-1808332200-1808335800@lambdahouston.org
SUMMARY:Everyone's AFG
DESCRIPTION:Formerly Double Winners Group
URL:https://lambdahouston.org/events/everyones-afg/2027-04-21
LOCATION:Lambda Center Houston\, West Clay Street\, Houston\, TX\, 77019\, United States
CATEGORIES:Al-Anon
GEO:29.7551684;-95.3940619
X-APPLE-STRUCTURED-LOCATION;VALUE=URI;X-ADDRESS=Lambda Center Houston West Clay Street Houston TX 77019 United States;X-APPLE-RADIUS=500;X-TITLE=West Clay Street:geo:-95.3940619,29.7551684
END:VEVENT
BEGIN:VEVENT
DTSTART;TZID=America/Chicago:20270421T183000
DTEND;TZID=America/Chicago:20270421T193000
DTSTAMP:20260425T065313
CREATED:20240719T140555Z
LAST-MODIFIED:20240829T205958Z
UID:10024547-1808332200-1808335800@lambdahouston.org
SUMMARY:Virtual Everyone’s AFG
DESCRIPTION:Wednesday 6:30 PM\nOpen Al Anon Discussion\nbit.ly/lambdaeveryonesafg\nMeeting ID: 717-796-041 | Passcode: 757372 \nJOIN MEETING
URL:https://lambdahouston.org/events/virtual-everyones-afg/2027-04-21
LOCATION:Zoom
CATEGORIES:Al-Anon
END:VEVENT
BEGIN:VEVENT
DTSTART;TZID=America/Chicago:20270421T183000
DTEND;TZID=America/Chicago:20270421T193000
DTSTAMP:20260425T065313
CREATED:20240719T140838Z
LAST-MODIFIED:20240719T140838Z
UID:10024808-1808332200-1808335800@lambdahouston.org
SUMMARY:Virtual Wednesday Silent Journey
DESCRIPTION:Wednesday 6:30 PM\nOpen AA Meditation\nMeeting ID: 817-0558-5298 | Passcode: 630824 \nJOIN MEETING
URL:https://lambdahouston.org/events/virtual-wednesday-silent-journey/2027-04-21
LOCATION:Zoom
CATEGORIES:Al-Anon
END:VEVENT
BEGIN:VEVENT
DTSTART;TZID=America/Chicago:20270425T190000
DTEND;TZID=America/Chicago:20270425T200000
DTSTAMP:20260425T065313
CREATED:20250506T003549Z
LAST-MODIFIED:20250506T003549Z
UID:10028300-1808679600-1808683200@lambdahouston.org
SUMMARY:Lambda Al-Anon
DESCRIPTION:
URL:https://lambdahouston.org/events/lambda-al-anon/2027-04-25
LOCATION:Lambda Center Houston\, West Clay Street\, Houston\, TX\, 77019\, United States
CATEGORIES:Al-Anon
GEO:29.7551684;-95.3940619
X-APPLE-STRUCTURED-LOCATION;VALUE=URI;X-ADDRESS=Lambda Center Houston West Clay Street Houston TX 77019 United States;X-APPLE-RADIUS=500;X-TITLE=West Clay Street:geo:-95.3940619,29.7551684
END:VEVENT
BEGIN:VEVENT
DTSTART;TZID=America/Chicago:20270427T180000
DTEND;TZID=America/Chicago:20270427T190000
DTSTAMP:20260425T065313
CREATED:20240715T012540Z
LAST-MODIFIED:20240715T012642Z
UID:10012282-1808848800-1808852400@lambdahouston.org
SUMMARY:Lambda Al-Anon
DESCRIPTION:Lambda Al-Anon Birthday Night is celebrated the last week of every month.
URL:https://lambdahouston.org/events/lambda-al-anon-tuesday/2027-04-27
LOCATION:Lambda Center Houston\, West Clay Street\, Houston\, TX\, 77019\, United States
CATEGORIES:Al-Anon
GEO:29.7551684;-95.3940619
X-APPLE-STRUCTURED-LOCATION;VALUE=URI;X-ADDRESS=Lambda Center Houston West Clay Street Houston TX 77019 United States;X-APPLE-RADIUS=500;X-TITLE=West Clay Street:geo:-95.3940619,29.7551684
END:VEVENT
BEGIN:VEVENT
DTSTART;TZID=America/Chicago:20270428T183000
DTEND;TZID=America/Chicago:20270428T193000
DTSTAMP:20260425T065313
CREATED:20240715T015054Z
LAST-MODIFIED:20240715T015054Z
UID:10014109-1808937000-1808940600@lambdahouston.org
SUMMARY:Everyone's AFG
DESCRIPTION:Formerly Double Winners Group
URL:https://lambdahouston.org/events/everyones-afg/2027-04-28
LOCATION:Lambda Center Houston\, West Clay Street\, Houston\, TX\, 77019\, United States
CATEGORIES:Al-Anon
GEO:29.7551684;-95.3940619
X-APPLE-STRUCTURED-LOCATION;VALUE=URI;X-ADDRESS=Lambda Center Houston West Clay Street Houston TX 77019 United States;X-APPLE-RADIUS=500;X-TITLE=West Clay Street:geo:-95.3940619,29.7551684
END:VEVENT
BEGIN:VEVENT
DTSTART;TZID=America/Chicago:20270428T183000
DTEND;TZID=America/Chicago:20270428T193000
DTSTAMP:20260425T065313
CREATED:20240719T140555Z
LAST-MODIFIED:20240829T205958Z
UID:10024548-1808937000-1808940600@lambdahouston.org
SUMMARY:Virtual Everyone’s AFG
DESCRIPTION:Wednesday 6:30 PM\nOpen Al Anon Discussion\nbit.ly/lambdaeveryonesafg\nMeeting ID: 717-796-041 | Passcode: 757372 \nJOIN MEETING
URL:https://lambdahouston.org/events/virtual-everyones-afg/2027-04-28
LOCATION:Zoom
CATEGORIES:Al-Anon
END:VEVENT
BEGIN:VEVENT
DTSTART;TZID=America/Chicago:20270428T183000
DTEND;TZID=America/Chicago:20270428T193000
DTSTAMP:20260425T065313
CREATED:20240719T140838Z
LAST-MODIFIED:20240719T140838Z
UID:10024809-1808937000-1808940600@lambdahouston.org
SUMMARY:Virtual Wednesday Silent Journey
DESCRIPTION:Wednesday 6:30 PM\nOpen AA Meditation\nMeeting ID: 817-0558-5298 | Passcode: 630824 \nJOIN MEETING
URL:https://lambdahouston.org/events/virtual-wednesday-silent-journey/2027-04-28
LOCATION:Zoom
CATEGORIES:Al-Anon
END:VEVENT
BEGIN:VEVENT
DTSTART;TZID=America/Chicago:20270502T190000
DTEND;TZID=America/Chicago:20270502T200000
DTSTAMP:20260425T065313
CREATED:20250506T003549Z
LAST-MODIFIED:20250506T003549Z
UID:10028301-1809284400-1809288000@lambdahouston.org
SUMMARY:Lambda Al-Anon
DESCRIPTION:
URL:https://lambdahouston.org/events/lambda-al-anon/2027-05-02
LOCATION:Lambda Center Houston\, West Clay Street\, Houston\, TX\, 77019\, United States
CATEGORIES:Al-Anon
GEO:29.7551684;-95.3940619
X-APPLE-STRUCTURED-LOCATION;VALUE=URI;X-ADDRESS=Lambda Center Houston West Clay Street Houston TX 77019 United States;X-APPLE-RADIUS=500;X-TITLE=West Clay Street:geo:-95.3940619,29.7551684
END:VEVENT
BEGIN:VEVENT
DTSTART;TZID=America/Chicago:20270504T180000
DTEND;TZID=America/Chicago:20270504T190000
DTSTAMP:20260425T065313
CREATED:20240715T012540Z
LAST-MODIFIED:20240715T012642Z
UID:10012283-1809453600-1809457200@lambdahouston.org
SUMMARY:Lambda Al-Anon
DESCRIPTION:Lambda Al-Anon Birthday Night is celebrated the last week of every month.
URL:https://lambdahouston.org/events/lambda-al-anon-tuesday/2027-05-04
LOCATION:Lambda Center Houston\, West Clay Street\, Houston\, TX\, 77019\, United States
CATEGORIES:Al-Anon
GEO:29.7551684;-95.3940619
X-APPLE-STRUCTURED-LOCATION;VALUE=URI;X-ADDRESS=Lambda Center Houston West Clay Street Houston TX 77019 United States;X-APPLE-RADIUS=500;X-TITLE=West Clay Street:geo:-95.3940619,29.7551684
END:VEVENT
BEGIN:VEVENT
DTSTART;TZID=America/Chicago:20270505T183000
DTEND;TZID=America/Chicago:20270505T193000
DTSTAMP:20260425T065313
CREATED:20240715T015054Z
LAST-MODIFIED:20240715T015054Z
UID:10014110-1809541800-1809545400@lambdahouston.org
SUMMARY:Everyone's AFG
DESCRIPTION:Formerly Double Winners Group
URL:https://lambdahouston.org/events/everyones-afg/2027-05-05
LOCATION:Lambda Center Houston\, West Clay Street\, Houston\, TX\, 77019\, United States
CATEGORIES:Al-Anon
GEO:29.7551684;-95.3940619
X-APPLE-STRUCTURED-LOCATION;VALUE=URI;X-ADDRESS=Lambda Center Houston West Clay Street Houston TX 77019 United States;X-APPLE-RADIUS=500;X-TITLE=West Clay Street:geo:-95.3940619,29.7551684
END:VEVENT
BEGIN:VEVENT
DTSTART;TZID=America/Chicago:20270505T183000
DTEND;TZID=America/Chicago:20270505T193000
DTSTAMP:20260425T065313
CREATED:20240719T140555Z
LAST-MODIFIED:20240829T205958Z
UID:10024549-1809541800-1809545400@lambdahouston.org
SUMMARY:Virtual Everyone’s AFG
DESCRIPTION:Wednesday 6:30 PM\nOpen Al Anon Discussion\nbit.ly/lambdaeveryonesafg\nMeeting ID: 717-796-041 | Passcode: 757372 \nJOIN MEETING
URL:https://lambdahouston.org/events/virtual-everyones-afg/2027-05-05
LOCATION:Zoom
CATEGORIES:Al-Anon
END:VEVENT
BEGIN:VEVENT
DTSTART;TZID=America/Chicago:20270505T183000
DTEND;TZID=America/Chicago:20270505T193000
DTSTAMP:20260425T065313
CREATED:20240719T140838Z
LAST-MODIFIED:20240719T140838Z
UID:10024810-1809541800-1809545400@lambdahouston.org
SUMMARY:Virtual Wednesday Silent Journey
DESCRIPTION:Wednesday 6:30 PM\nOpen AA Meditation\nMeeting ID: 817-0558-5298 | Passcode: 630824 \nJOIN MEETING
URL:https://lambdahouston.org/events/virtual-wednesday-silent-journey/2027-05-05
LOCATION:Zoom
CATEGORIES:Al-Anon
END:VEVENT
BEGIN:VEVENT
DTSTART;TZID=America/Chicago:20270509T190000
DTEND;TZID=America/Chicago:20270509T200000
DTSTAMP:20260425T065313
CREATED:20250506T003549Z
LAST-MODIFIED:20250506T003549Z
UID:10028302-1809889200-1809892800@lambdahouston.org
SUMMARY:Lambda Al-Anon
DESCRIPTION:
URL:https://lambdahouston.org/events/lambda-al-anon/2027-05-09
LOCATION:Lambda Center Houston\, West Clay Street\, Houston\, TX\, 77019\, United States
CATEGORIES:Al-Anon
GEO:29.7551684;-95.3940619
X-APPLE-STRUCTURED-LOCATION;VALUE=URI;X-ADDRESS=Lambda Center Houston West Clay Street Houston TX 77019 United States;X-APPLE-RADIUS=500;X-TITLE=West Clay Street:geo:-95.3940619,29.7551684
END:VEVENT
BEGIN:VEVENT
DTSTART;TZID=America/Chicago:20270511T180000
DTEND;TZID=America/Chicago:20270511T190000
DTSTAMP:20260425T065313
CREATED:20240715T012540Z
LAST-MODIFIED:20240715T012642Z
UID:10012284-1810058400-1810062000@lambdahouston.org
SUMMARY:Lambda Al-Anon
DESCRIPTION:Lambda Al-Anon Birthday Night is celebrated the last week of every month.
URL:https://lambdahouston.org/events/lambda-al-anon-tuesday/2027-05-11
LOCATION:Lambda Center Houston\, West Clay Street\, Houston\, TX\, 77019\, United States
CATEGORIES:Al-Anon
GEO:29.7551684;-95.3940619
X-APPLE-STRUCTURED-LOCATION;VALUE=URI;X-ADDRESS=Lambda Center Houston West Clay Street Houston TX 77019 United States;X-APPLE-RADIUS=500;X-TITLE=West Clay Street:geo:-95.3940619,29.7551684
END:VEVENT
BEGIN:VEVENT
DTSTART;TZID=America/Chicago:20270512T183000
DTEND;TZID=America/Chicago:20270512T193000
DTSTAMP:20260425T065313
CREATED:20240715T015054Z
LAST-MODIFIED:20240715T015054Z
UID:10014111-1810146600-1810150200@lambdahouston.org
SUMMARY:Everyone's AFG
DESCRIPTION:Formerly Double Winners Group
URL:https://lambdahouston.org/events/everyones-afg/2027-05-12
LOCATION:Lambda Center Houston\, West Clay Street\, Houston\, TX\, 77019\, United States
CATEGORIES:Al-Anon
GEO:29.7551684;-95.3940619
X-APPLE-STRUCTURED-LOCATION;VALUE=URI;X-ADDRESS=Lambda Center Houston West Clay Street Houston TX 77019 United States;X-APPLE-RADIUS=500;X-TITLE=West Clay Street:geo:-95.3940619,29.7551684
END:VEVENT
BEGIN:VEVENT
DTSTART;TZID=America/Chicago:20270512T183000
DTEND;TZID=America/Chicago:20270512T193000
DTSTAMP:20260425T065313
CREATED:20240719T140555Z
LAST-MODIFIED:20240829T205958Z
UID:10024550-1810146600-1810150200@lambdahouston.org
SUMMARY:Virtual Everyone’s AFG
DESCRIPTION:Wednesday 6:30 PM\nOpen Al Anon Discussion\nbit.ly/lambdaeveryonesafg\nMeeting ID: 717-796-041 | Passcode: 757372 \nJOIN MEETING
URL:https://lambdahouston.org/events/virtual-everyones-afg/2027-05-12
LOCATION:Zoom
CATEGORIES:Al-Anon
END:VEVENT
BEGIN:VEVENT
DTSTART;TZID=America/Chicago:20270512T183000
DTEND;TZID=America/Chicago:20270512T193000
DTSTAMP:20260425T065313
CREATED:20240719T140838Z
LAST-MODIFIED:20240719T140838Z
UID:10024811-1810146600-1810150200@lambdahouston.org
SUMMARY:Virtual Wednesday Silent Journey
DESCRIPTION:Wednesday 6:30 PM\nOpen AA Meditation\nMeeting ID: 817-0558-5298 | Passcode: 630824 \nJOIN MEETING
URL:https://lambdahouston.org/events/virtual-wednesday-silent-journey/2027-05-12
LOCATION:Zoom
CATEGORIES:Al-Anon
END:VEVENT
BEGIN:VEVENT
DTSTART;TZID=America/Chicago:20270516T190000
DTEND;TZID=America/Chicago:20270516T200000
DTSTAMP:20260425T065313
CREATED:20250506T003549Z
LAST-MODIFIED:20250506T003549Z
UID:10028303-1810494000-1810497600@lambdahouston.org
SUMMARY:Lambda Al-Anon
DESCRIPTION:
URL:https://lambdahouston.org/events/lambda-al-anon/2027-05-16
LOCATION:Lambda Center Houston\, West Clay Street\, Houston\, TX\, 77019\, United States
CATEGORIES:Al-Anon
GEO:29.7551684;-95.3940619
X-APPLE-STRUCTURED-LOCATION;VALUE=URI;X-ADDRESS=Lambda Center Houston West Clay Street Houston TX 77019 United States;X-APPLE-RADIUS=500;X-TITLE=West Clay Street:geo:-95.3940619,29.7551684
END:VEVENT
BEGIN:VEVENT
DTSTART;TZID=America/Chicago:20270518T180000
DTEND;TZID=America/Chicago:20270518T190000
DTSTAMP:20260425T065313
CREATED:20240715T012540Z
LAST-MODIFIED:20240715T012642Z
UID:10012285-1810663200-1810666800@lambdahouston.org
SUMMARY:Lambda Al-Anon
DESCRIPTION:Lambda Al-Anon Birthday Night is celebrated the last week of every month.
URL:https://lambdahouston.org/events/lambda-al-anon-tuesday/2027-05-18
LOCATION:Lambda Center Houston\, West Clay Street\, Houston\, TX\, 77019\, United States
CATEGORIES:Al-Anon
GEO:29.7551684;-95.3940619
X-APPLE-STRUCTURED-LOCATION;VALUE=URI;X-ADDRESS=Lambda Center Houston West Clay Street Houston TX 77019 United States;X-APPLE-RADIUS=500;X-TITLE=West Clay Street:geo:-95.3940619,29.7551684
END:VEVENT
END:VCALENDAR