BEGIN:VCALENDAR
VERSION:2.0
PRODID:-//Lambda Center Houston - ECPv6.15.16//NONSGML v1.0//EN
CALSCALE:GREGORIAN
METHOD:PUBLISH
X-ORIGINAL-URL:https://lambdahouston.org
X-WR-CALDESC:Events for Lambda Center Houston
REFRESH-INTERVAL;VALUE=DURATION:PT1H
X-Robots-Tag:noindex
X-PUBLISHED-TTL:PT1H
BEGIN:VTIMEZONE
TZID:America/Chicago
BEGIN:DAYLIGHT
TZOFFSETFROM:-0600
TZOFFSETTO:-0500
TZNAME:CDT
DTSTART:20250309T080000
END:DAYLIGHT
BEGIN:STANDARD
TZOFFSETFROM:-0500
TZOFFSETTO:-0600
TZNAME:CST
DTSTART:20251102T070000
END:STANDARD
BEGIN:DAYLIGHT
TZOFFSETFROM:-0600
TZOFFSETTO:-0500
TZNAME:CDT
DTSTART:20260308T080000
END:DAYLIGHT
BEGIN:STANDARD
TZOFFSETFROM:-0500
TZOFFSETTO:-0600
TZNAME:CST
DTSTART:20261101T070000
END:STANDARD
BEGIN:DAYLIGHT
TZOFFSETFROM:-0600
TZOFFSETTO:-0500
TZNAME:CDT
DTSTART:20270314T080000
END:DAYLIGHT
BEGIN:STANDARD
TZOFFSETFROM:-0500
TZOFFSETTO:-0600
TZNAME:CST
DTSTART:20271107T070000
END:STANDARD
END:VTIMEZONE
BEGIN:VEVENT
DTSTART;TZID=America/Chicago:20260114T183000
DTEND;TZID=America/Chicago:20260114T193000
DTSTAMP:20260425T100138
CREATED:20240715T015054Z
LAST-MODIFIED:20240715T015054Z
UID:10014042-1768415400-1768419000@lambdahouston.org
SUMMARY:Everyone's AFG
DESCRIPTION:Formerly Double Winners Group
URL:https://lambdahouston.org/events/everyones-afg/2026-01-14
LOCATION:Lambda Center Houston\, West Clay Street\, Houston\, TX\, 77019\, United States
CATEGORIES:Al-Anon
GEO:29.7551684;-95.3940619
X-APPLE-STRUCTURED-LOCATION;VALUE=URI;X-ADDRESS=Lambda Center Houston West Clay Street Houston TX 77019 United States;X-APPLE-RADIUS=500;X-TITLE=West Clay Street:geo:-95.3940619,29.7551684
END:VEVENT
BEGIN:VEVENT
DTSTART;TZID=America/Chicago:20260114T183000
DTEND;TZID=America/Chicago:20260114T193000
DTSTAMP:20260425T100138
CREATED:20240719T140555Z
LAST-MODIFIED:20240829T205958Z
UID:10024481-1768415400-1768419000@lambdahouston.org
SUMMARY:Virtual Everyone’s AFG
DESCRIPTION:Wednesday 6:30 PM\nOpen Al Anon Discussion\nbit.ly/lambdaeveryonesafg\nMeeting ID: 717-796-041 | Passcode: 757372 \nJOIN MEETING
URL:https://lambdahouston.org/events/virtual-everyones-afg/2026-01-14
LOCATION:Zoom
CATEGORIES:Al-Anon
END:VEVENT
BEGIN:VEVENT
DTSTART;TZID=America/Chicago:20260114T183000
DTEND;TZID=America/Chicago:20260114T193000
DTSTAMP:20260425T100138
CREATED:20240719T140838Z
LAST-MODIFIED:20240719T140838Z
UID:10024742-1768415400-1768419000@lambdahouston.org
SUMMARY:Virtual Wednesday Silent Journey
DESCRIPTION:Wednesday 6:30 PM\nOpen AA Meditation\nMeeting ID: 817-0558-5298 | Passcode: 630824 \nJOIN MEETING
URL:https://lambdahouston.org/events/virtual-wednesday-silent-journey/2026-01-14
LOCATION:Zoom
CATEGORIES:Al-Anon
END:VEVENT
BEGIN:VEVENT
DTSTART;TZID=America/Chicago:20260118T190000
DTEND;TZID=America/Chicago:20260118T200000
DTSTAMP:20260425T100138
CREATED:20250506T003549Z
LAST-MODIFIED:20250506T003549Z
UID:10028234-1768762800-1768766400@lambdahouston.org
SUMMARY:Lambda Al-Anon
DESCRIPTION:
URL:https://lambdahouston.org/events/lambda-al-anon/2026-01-18
LOCATION:Lambda Center Houston\, West Clay Street\, Houston\, TX\, 77019\, United States
CATEGORIES:Al-Anon
GEO:29.7551684;-95.3940619
X-APPLE-STRUCTURED-LOCATION;VALUE=URI;X-ADDRESS=Lambda Center Houston West Clay Street Houston TX 77019 United States;X-APPLE-RADIUS=500;X-TITLE=West Clay Street:geo:-95.3940619,29.7551684
END:VEVENT
BEGIN:VEVENT
DTSTART;TZID=America/Chicago:20260120T180000
DTEND;TZID=America/Chicago:20260120T190000
DTSTAMP:20260425T100138
CREATED:20240715T012540Z
LAST-MODIFIED:20240715T012642Z
UID:10012216-1768932000-1768935600@lambdahouston.org
SUMMARY:Lambda Al-Anon
DESCRIPTION:Lambda Al-Anon Birthday Night is celebrated the last week of every month.
URL:https://lambdahouston.org/events/lambda-al-anon-tuesday/2026-01-20
LOCATION:Lambda Center Houston\, West Clay Street\, Houston\, TX\, 77019\, United States
CATEGORIES:Al-Anon
GEO:29.7551684;-95.3940619
X-APPLE-STRUCTURED-LOCATION;VALUE=URI;X-ADDRESS=Lambda Center Houston West Clay Street Houston TX 77019 United States;X-APPLE-RADIUS=500;X-TITLE=West Clay Street:geo:-95.3940619,29.7551684
END:VEVENT
BEGIN:VEVENT
DTSTART;TZID=America/Chicago:20260121T183000
DTEND;TZID=America/Chicago:20260121T193000
DTSTAMP:20260425T100138
CREATED:20240715T015054Z
LAST-MODIFIED:20240715T015054Z
UID:10014043-1769020200-1769023800@lambdahouston.org
SUMMARY:Everyone's AFG
DESCRIPTION:Formerly Double Winners Group
URL:https://lambdahouston.org/events/everyones-afg/2026-01-21
LOCATION:Lambda Center Houston\, West Clay Street\, Houston\, TX\, 77019\, United States
CATEGORIES:Al-Anon
GEO:29.7551684;-95.3940619
X-APPLE-STRUCTURED-LOCATION;VALUE=URI;X-ADDRESS=Lambda Center Houston West Clay Street Houston TX 77019 United States;X-APPLE-RADIUS=500;X-TITLE=West Clay Street:geo:-95.3940619,29.7551684
END:VEVENT
BEGIN:VEVENT
DTSTART;TZID=America/Chicago:20260121T183000
DTEND;TZID=America/Chicago:20260121T193000
DTSTAMP:20260425T100138
CREATED:20240719T140555Z
LAST-MODIFIED:20240829T205958Z
UID:10024482-1769020200-1769023800@lambdahouston.org
SUMMARY:Virtual Everyone’s AFG
DESCRIPTION:Wednesday 6:30 PM\nOpen Al Anon Discussion\nbit.ly/lambdaeveryonesafg\nMeeting ID: 717-796-041 | Passcode: 757372 \nJOIN MEETING
URL:https://lambdahouston.org/events/virtual-everyones-afg/2026-01-21
LOCATION:Zoom
CATEGORIES:Al-Anon
END:VEVENT
BEGIN:VEVENT
DTSTART;TZID=America/Chicago:20260121T183000
DTEND;TZID=America/Chicago:20260121T193000
DTSTAMP:20260425T100138
CREATED:20240719T140838Z
LAST-MODIFIED:20240719T140838Z
UID:10024743-1769020200-1769023800@lambdahouston.org
SUMMARY:Virtual Wednesday Silent Journey
DESCRIPTION:Wednesday 6:30 PM\nOpen AA Meditation\nMeeting ID: 817-0558-5298 | Passcode: 630824 \nJOIN MEETING
URL:https://lambdahouston.org/events/virtual-wednesday-silent-journey/2026-01-21
LOCATION:Zoom
CATEGORIES:Al-Anon
END:VEVENT
BEGIN:VEVENT
DTSTART;TZID=America/Chicago:20260125T190000
DTEND;TZID=America/Chicago:20260125T200000
DTSTAMP:20260425T100138
CREATED:20250506T003549Z
LAST-MODIFIED:20250506T003549Z
UID:10028235-1769367600-1769371200@lambdahouston.org
SUMMARY:Lambda Al-Anon
DESCRIPTION:
URL:https://lambdahouston.org/events/lambda-al-anon/2026-01-25
LOCATION:Lambda Center Houston\, West Clay Street\, Houston\, TX\, 77019\, United States
CATEGORIES:Al-Anon
GEO:29.7551684;-95.3940619
X-APPLE-STRUCTURED-LOCATION;VALUE=URI;X-ADDRESS=Lambda Center Houston West Clay Street Houston TX 77019 United States;X-APPLE-RADIUS=500;X-TITLE=West Clay Street:geo:-95.3940619,29.7551684
END:VEVENT
BEGIN:VEVENT
DTSTART;TZID=America/Chicago:20260127T180000
DTEND;TZID=America/Chicago:20260127T190000
DTSTAMP:20260425T100138
CREATED:20240715T012540Z
LAST-MODIFIED:20240715T012642Z
UID:10012217-1769536800-1769540400@lambdahouston.org
SUMMARY:Lambda Al-Anon
DESCRIPTION:Lambda Al-Anon Birthday Night is celebrated the last week of every month.
URL:https://lambdahouston.org/events/lambda-al-anon-tuesday/2026-01-27
LOCATION:Lambda Center Houston\, West Clay Street\, Houston\, TX\, 77019\, United States
CATEGORIES:Al-Anon
GEO:29.7551684;-95.3940619
X-APPLE-STRUCTURED-LOCATION;VALUE=URI;X-ADDRESS=Lambda Center Houston West Clay Street Houston TX 77019 United States;X-APPLE-RADIUS=500;X-TITLE=West Clay Street:geo:-95.3940619,29.7551684
END:VEVENT
BEGIN:VEVENT
DTSTART;TZID=America/Chicago:20260128T183000
DTEND;TZID=America/Chicago:20260128T193000
DTSTAMP:20260425T100138
CREATED:20240715T015054Z
LAST-MODIFIED:20240715T015054Z
UID:10014044-1769625000-1769628600@lambdahouston.org
SUMMARY:Everyone's AFG
DESCRIPTION:Formerly Double Winners Group
URL:https://lambdahouston.org/events/everyones-afg/2026-01-28
LOCATION:Lambda Center Houston\, West Clay Street\, Houston\, TX\, 77019\, United States
CATEGORIES:Al-Anon
GEO:29.7551684;-95.3940619
X-APPLE-STRUCTURED-LOCATION;VALUE=URI;X-ADDRESS=Lambda Center Houston West Clay Street Houston TX 77019 United States;X-APPLE-RADIUS=500;X-TITLE=West Clay Street:geo:-95.3940619,29.7551684
END:VEVENT
BEGIN:VEVENT
DTSTART;TZID=America/Chicago:20260128T183000
DTEND;TZID=America/Chicago:20260128T193000
DTSTAMP:20260425T100138
CREATED:20240719T140555Z
LAST-MODIFIED:20240829T205958Z
UID:10024483-1769625000-1769628600@lambdahouston.org
SUMMARY:Virtual Everyone’s AFG
DESCRIPTION:Wednesday 6:30 PM\nOpen Al Anon Discussion\nbit.ly/lambdaeveryonesafg\nMeeting ID: 717-796-041 | Passcode: 757372 \nJOIN MEETING
URL:https://lambdahouston.org/events/virtual-everyones-afg/2026-01-28
LOCATION:Zoom
CATEGORIES:Al-Anon
END:VEVENT
BEGIN:VEVENT
DTSTART;TZID=America/Chicago:20260128T183000
DTEND;TZID=America/Chicago:20260128T193000
DTSTAMP:20260425T100138
CREATED:20240719T140838Z
LAST-MODIFIED:20240719T140838Z
UID:10024744-1769625000-1769628600@lambdahouston.org
SUMMARY:Virtual Wednesday Silent Journey
DESCRIPTION:Wednesday 6:30 PM\nOpen AA Meditation\nMeeting ID: 817-0558-5298 | Passcode: 630824 \nJOIN MEETING
URL:https://lambdahouston.org/events/virtual-wednesday-silent-journey/2026-01-28
LOCATION:Zoom
CATEGORIES:Al-Anon
END:VEVENT
BEGIN:VEVENT
DTSTART;TZID=America/Chicago:20260201T190000
DTEND;TZID=America/Chicago:20260201T200000
DTSTAMP:20260425T100138
CREATED:20250506T003549Z
LAST-MODIFIED:20250506T003549Z
UID:10028236-1769972400-1769976000@lambdahouston.org
SUMMARY:Lambda Al-Anon
DESCRIPTION:
URL:https://lambdahouston.org/events/lambda-al-anon/2026-02-01
LOCATION:Lambda Center Houston\, West Clay Street\, Houston\, TX\, 77019\, United States
CATEGORIES:Al-Anon
GEO:29.7551684;-95.3940619
X-APPLE-STRUCTURED-LOCATION;VALUE=URI;X-ADDRESS=Lambda Center Houston West Clay Street Houston TX 77019 United States;X-APPLE-RADIUS=500;X-TITLE=West Clay Street:geo:-95.3940619,29.7551684
END:VEVENT
BEGIN:VEVENT
DTSTART;TZID=America/Chicago:20260203T180000
DTEND;TZID=America/Chicago:20260203T190000
DTSTAMP:20260425T100138
CREATED:20240715T012540Z
LAST-MODIFIED:20240715T012642Z
UID:10012218-1770141600-1770145200@lambdahouston.org
SUMMARY:Lambda Al-Anon
DESCRIPTION:Lambda Al-Anon Birthday Night is celebrated the last week of every month.
URL:https://lambdahouston.org/events/lambda-al-anon-tuesday/2026-02-03
LOCATION:Lambda Center Houston\, West Clay Street\, Houston\, TX\, 77019\, United States
CATEGORIES:Al-Anon
GEO:29.7551684;-95.3940619
X-APPLE-STRUCTURED-LOCATION;VALUE=URI;X-ADDRESS=Lambda Center Houston West Clay Street Houston TX 77019 United States;X-APPLE-RADIUS=500;X-TITLE=West Clay Street:geo:-95.3940619,29.7551684
END:VEVENT
BEGIN:VEVENT
DTSTART;TZID=America/Chicago:20260204T183000
DTEND;TZID=America/Chicago:20260204T193000
DTSTAMP:20260425T100138
CREATED:20240715T015054Z
LAST-MODIFIED:20240715T015054Z
UID:10014045-1770229800-1770233400@lambdahouston.org
SUMMARY:Everyone's AFG
DESCRIPTION:Formerly Double Winners Group
URL:https://lambdahouston.org/events/everyones-afg/2026-02-04
LOCATION:Lambda Center Houston\, West Clay Street\, Houston\, TX\, 77019\, United States
CATEGORIES:Al-Anon
GEO:29.7551684;-95.3940619
X-APPLE-STRUCTURED-LOCATION;VALUE=URI;X-ADDRESS=Lambda Center Houston West Clay Street Houston TX 77019 United States;X-APPLE-RADIUS=500;X-TITLE=West Clay Street:geo:-95.3940619,29.7551684
END:VEVENT
BEGIN:VEVENT
DTSTART;TZID=America/Chicago:20260204T183000
DTEND;TZID=America/Chicago:20260204T193000
DTSTAMP:20260425T100138
CREATED:20240719T140555Z
LAST-MODIFIED:20240829T205958Z
UID:10024484-1770229800-1770233400@lambdahouston.org
SUMMARY:Virtual Everyone’s AFG
DESCRIPTION:Wednesday 6:30 PM\nOpen Al Anon Discussion\nbit.ly/lambdaeveryonesafg\nMeeting ID: 717-796-041 | Passcode: 757372 \nJOIN MEETING
URL:https://lambdahouston.org/events/virtual-everyones-afg/2026-02-04
LOCATION:Zoom
CATEGORIES:Al-Anon
END:VEVENT
BEGIN:VEVENT
DTSTART;TZID=America/Chicago:20260204T183000
DTEND;TZID=America/Chicago:20260204T193000
DTSTAMP:20260425T100138
CREATED:20240719T140838Z
LAST-MODIFIED:20240719T140838Z
UID:10024745-1770229800-1770233400@lambdahouston.org
SUMMARY:Virtual Wednesday Silent Journey
DESCRIPTION:Wednesday 6:30 PM\nOpen AA Meditation\nMeeting ID: 817-0558-5298 | Passcode: 630824 \nJOIN MEETING
URL:https://lambdahouston.org/events/virtual-wednesday-silent-journey/2026-02-04
LOCATION:Zoom
CATEGORIES:Al-Anon
END:VEVENT
BEGIN:VEVENT
DTSTART;TZID=America/Chicago:20260208T190000
DTEND;TZID=America/Chicago:20260208T200000
DTSTAMP:20260425T100138
CREATED:20250506T003549Z
LAST-MODIFIED:20250506T003549Z
UID:10028237-1770577200-1770580800@lambdahouston.org
SUMMARY:Lambda Al-Anon
DESCRIPTION:
URL:https://lambdahouston.org/events/lambda-al-anon/2026-02-08
LOCATION:Lambda Center Houston\, West Clay Street\, Houston\, TX\, 77019\, United States
CATEGORIES:Al-Anon
GEO:29.7551684;-95.3940619
X-APPLE-STRUCTURED-LOCATION;VALUE=URI;X-ADDRESS=Lambda Center Houston West Clay Street Houston TX 77019 United States;X-APPLE-RADIUS=500;X-TITLE=West Clay Street:geo:-95.3940619,29.7551684
END:VEVENT
BEGIN:VEVENT
DTSTART;TZID=America/Chicago:20260210T180000
DTEND;TZID=America/Chicago:20260210T190000
DTSTAMP:20260425T100138
CREATED:20240715T012540Z
LAST-MODIFIED:20240715T012642Z
UID:10012219-1770746400-1770750000@lambdahouston.org
SUMMARY:Lambda Al-Anon
DESCRIPTION:Lambda Al-Anon Birthday Night is celebrated the last week of every month.
URL:https://lambdahouston.org/events/lambda-al-anon-tuesday/2026-02-10
LOCATION:Lambda Center Houston\, West Clay Street\, Houston\, TX\, 77019\, United States
CATEGORIES:Al-Anon
GEO:29.7551684;-95.3940619
X-APPLE-STRUCTURED-LOCATION;VALUE=URI;X-ADDRESS=Lambda Center Houston West Clay Street Houston TX 77019 United States;X-APPLE-RADIUS=500;X-TITLE=West Clay Street:geo:-95.3940619,29.7551684
END:VEVENT
BEGIN:VEVENT
DTSTART;TZID=America/Chicago:20260211T183000
DTEND;TZID=America/Chicago:20260211T193000
DTSTAMP:20260425T100138
CREATED:20240715T015054Z
LAST-MODIFIED:20240715T015054Z
UID:10014046-1770834600-1770838200@lambdahouston.org
SUMMARY:Everyone's AFG
DESCRIPTION:Formerly Double Winners Group
URL:https://lambdahouston.org/events/everyones-afg/2026-02-11
LOCATION:Lambda Center Houston\, West Clay Street\, Houston\, TX\, 77019\, United States
CATEGORIES:Al-Anon
GEO:29.7551684;-95.3940619
X-APPLE-STRUCTURED-LOCATION;VALUE=URI;X-ADDRESS=Lambda Center Houston West Clay Street Houston TX 77019 United States;X-APPLE-RADIUS=500;X-TITLE=West Clay Street:geo:-95.3940619,29.7551684
END:VEVENT
BEGIN:VEVENT
DTSTART;TZID=America/Chicago:20260211T183000
DTEND;TZID=America/Chicago:20260211T193000
DTSTAMP:20260425T100138
CREATED:20240719T140555Z
LAST-MODIFIED:20240829T205958Z
UID:10024485-1770834600-1770838200@lambdahouston.org
SUMMARY:Virtual Everyone’s AFG
DESCRIPTION:Wednesday 6:30 PM\nOpen Al Anon Discussion\nbit.ly/lambdaeveryonesafg\nMeeting ID: 717-796-041 | Passcode: 757372 \nJOIN MEETING
URL:https://lambdahouston.org/events/virtual-everyones-afg/2026-02-11
LOCATION:Zoom
CATEGORIES:Al-Anon
END:VEVENT
BEGIN:VEVENT
DTSTART;TZID=America/Chicago:20260211T183000
DTEND;TZID=America/Chicago:20260211T193000
DTSTAMP:20260425T100138
CREATED:20240719T140838Z
LAST-MODIFIED:20240719T140838Z
UID:10024746-1770834600-1770838200@lambdahouston.org
SUMMARY:Virtual Wednesday Silent Journey
DESCRIPTION:Wednesday 6:30 PM\nOpen AA Meditation\nMeeting ID: 817-0558-5298 | Passcode: 630824 \nJOIN MEETING
URL:https://lambdahouston.org/events/virtual-wednesday-silent-journey/2026-02-11
LOCATION:Zoom
CATEGORIES:Al-Anon
END:VEVENT
BEGIN:VEVENT
DTSTART;TZID=America/Chicago:20260215T190000
DTEND;TZID=America/Chicago:20260215T200000
DTSTAMP:20260425T100138
CREATED:20250506T003549Z
LAST-MODIFIED:20250506T003549Z
UID:10028238-1771182000-1771185600@lambdahouston.org
SUMMARY:Lambda Al-Anon
DESCRIPTION:
URL:https://lambdahouston.org/events/lambda-al-anon/2026-02-15
LOCATION:Lambda Center Houston\, West Clay Street\, Houston\, TX\, 77019\, United States
CATEGORIES:Al-Anon
GEO:29.7551684;-95.3940619
X-APPLE-STRUCTURED-LOCATION;VALUE=URI;X-ADDRESS=Lambda Center Houston West Clay Street Houston TX 77019 United States;X-APPLE-RADIUS=500;X-TITLE=West Clay Street:geo:-95.3940619,29.7551684
END:VEVENT
BEGIN:VEVENT
DTSTART;TZID=America/Chicago:20260217T180000
DTEND;TZID=America/Chicago:20260217T190000
DTSTAMP:20260425T100138
CREATED:20240715T012540Z
LAST-MODIFIED:20240715T012642Z
UID:10012220-1771351200-1771354800@lambdahouston.org
SUMMARY:Lambda Al-Anon
DESCRIPTION:Lambda Al-Anon Birthday Night is celebrated the last week of every month.
URL:https://lambdahouston.org/events/lambda-al-anon-tuesday/2026-02-17
LOCATION:Lambda Center Houston\, West Clay Street\, Houston\, TX\, 77019\, United States
CATEGORIES:Al-Anon
GEO:29.7551684;-95.3940619
X-APPLE-STRUCTURED-LOCATION;VALUE=URI;X-ADDRESS=Lambda Center Houston West Clay Street Houston TX 77019 United States;X-APPLE-RADIUS=500;X-TITLE=West Clay Street:geo:-95.3940619,29.7551684
END:VEVENT
BEGIN:VEVENT
DTSTART;TZID=America/Chicago:20260218T183000
DTEND;TZID=America/Chicago:20260218T193000
DTSTAMP:20260425T100138
CREATED:20240715T015054Z
LAST-MODIFIED:20240715T015054Z
UID:10014047-1771439400-1771443000@lambdahouston.org
SUMMARY:Everyone's AFG
DESCRIPTION:Formerly Double Winners Group
URL:https://lambdahouston.org/events/everyones-afg/2026-02-18
LOCATION:Lambda Center Houston\, West Clay Street\, Houston\, TX\, 77019\, United States
CATEGORIES:Al-Anon
GEO:29.7551684;-95.3940619
X-APPLE-STRUCTURED-LOCATION;VALUE=URI;X-ADDRESS=Lambda Center Houston West Clay Street Houston TX 77019 United States;X-APPLE-RADIUS=500;X-TITLE=West Clay Street:geo:-95.3940619,29.7551684
END:VEVENT
BEGIN:VEVENT
DTSTART;TZID=America/Chicago:20260218T183000
DTEND;TZID=America/Chicago:20260218T193000
DTSTAMP:20260425T100138
CREATED:20240719T140555Z
LAST-MODIFIED:20240829T205958Z
UID:10024486-1771439400-1771443000@lambdahouston.org
SUMMARY:Virtual Everyone’s AFG
DESCRIPTION:Wednesday 6:30 PM\nOpen Al Anon Discussion\nbit.ly/lambdaeveryonesafg\nMeeting ID: 717-796-041 | Passcode: 757372 \nJOIN MEETING
URL:https://lambdahouston.org/events/virtual-everyones-afg/2026-02-18
LOCATION:Zoom
CATEGORIES:Al-Anon
END:VEVENT
BEGIN:VEVENT
DTSTART;TZID=America/Chicago:20260218T183000
DTEND;TZID=America/Chicago:20260218T193000
DTSTAMP:20260425T100138
CREATED:20240719T140838Z
LAST-MODIFIED:20240719T140838Z
UID:10024747-1771439400-1771443000@lambdahouston.org
SUMMARY:Virtual Wednesday Silent Journey
DESCRIPTION:Wednesday 6:30 PM\nOpen AA Meditation\nMeeting ID: 817-0558-5298 | Passcode: 630824 \nJOIN MEETING
URL:https://lambdahouston.org/events/virtual-wednesday-silent-journey/2026-02-18
LOCATION:Zoom
CATEGORIES:Al-Anon
END:VEVENT
BEGIN:VEVENT
DTSTART;TZID=America/Chicago:20260222T190000
DTEND;TZID=America/Chicago:20260222T200000
DTSTAMP:20260425T100138
CREATED:20250506T003549Z
LAST-MODIFIED:20250506T003549Z
UID:10028239-1771786800-1771790400@lambdahouston.org
SUMMARY:Lambda Al-Anon
DESCRIPTION:
URL:https://lambdahouston.org/events/lambda-al-anon/2026-02-22
LOCATION:Lambda Center Houston\, West Clay Street\, Houston\, TX\, 77019\, United States
CATEGORIES:Al-Anon
GEO:29.7551684;-95.3940619
X-APPLE-STRUCTURED-LOCATION;VALUE=URI;X-ADDRESS=Lambda Center Houston West Clay Street Houston TX 77019 United States;X-APPLE-RADIUS=500;X-TITLE=West Clay Street:geo:-95.3940619,29.7551684
END:VEVENT
BEGIN:VEVENT
DTSTART;TZID=America/Chicago:20260224T180000
DTEND;TZID=America/Chicago:20260224T190000
DTSTAMP:20260425T100138
CREATED:20240715T012540Z
LAST-MODIFIED:20240715T012642Z
UID:10012221-1771956000-1771959600@lambdahouston.org
SUMMARY:Lambda Al-Anon
DESCRIPTION:Lambda Al-Anon Birthday Night is celebrated the last week of every month.
URL:https://lambdahouston.org/events/lambda-al-anon-tuesday/2026-02-24
LOCATION:Lambda Center Houston\, West Clay Street\, Houston\, TX\, 77019\, United States
CATEGORIES:Al-Anon
GEO:29.7551684;-95.3940619
X-APPLE-STRUCTURED-LOCATION;VALUE=URI;X-ADDRESS=Lambda Center Houston West Clay Street Houston TX 77019 United States;X-APPLE-RADIUS=500;X-TITLE=West Clay Street:geo:-95.3940619,29.7551684
END:VEVENT
END:VCALENDAR