BEGIN:VCALENDAR
VERSION:2.0
PRODID:-//Lambda Center Houston - ECPv6.15.16//NONSGML v1.0//EN
CALSCALE:GREGORIAN
METHOD:PUBLISH
X-ORIGINAL-URL:https://lambdahouston.org
X-WR-CALDESC:Events for Lambda Center Houston
REFRESH-INTERVAL;VALUE=DURATION:PT1H
X-Robots-Tag:noindex
X-PUBLISHED-TTL:PT1H
BEGIN:VTIMEZONE
TZID:America/Chicago
BEGIN:DAYLIGHT
TZOFFSETFROM:-0600
TZOFFSETTO:-0500
TZNAME:CDT
DTSTART:20260308T080000
END:DAYLIGHT
BEGIN:STANDARD
TZOFFSETFROM:-0500
TZOFFSETTO:-0600
TZNAME:CST
DTSTART:20261101T070000
END:STANDARD
BEGIN:DAYLIGHT
TZOFFSETFROM:-0600
TZOFFSETTO:-0500
TZNAME:CDT
DTSTART:20270314T080000
END:DAYLIGHT
BEGIN:STANDARD
TZOFFSETFROM:-0500
TZOFFSETTO:-0600
TZNAME:CST
DTSTART:20271107T070000
END:STANDARD
BEGIN:DAYLIGHT
TZOFFSETFROM:-0600
TZOFFSETTO:-0500
TZNAME:CDT
DTSTART:20280312T080000
END:DAYLIGHT
BEGIN:STANDARD
TZOFFSETFROM:-0500
TZOFFSETTO:-0600
TZNAME:CST
DTSTART:20281105T070000
END:STANDARD
BEGIN:DAYLIGHT
TZOFFSETFROM:-0600
TZOFFSETTO:-0500
TZNAME:CDT
DTSTART:20290311T080000
END:DAYLIGHT
BEGIN:STANDARD
TZOFFSETFROM:-0500
TZOFFSETTO:-0600
TZNAME:CST
DTSTART:20291104T070000
END:STANDARD
END:VTIMEZONE
BEGIN:VEVENT
DTSTART;TZID=America/Chicago:20271222T183000
DTEND;TZID=America/Chicago:20271222T193000
DTSTAMP:20260425T184045
CREATED:20240715T015054Z
LAST-MODIFIED:20240715T015054Z
UID:10014143-1829500200-1829503800@lambdahouston.org
SUMMARY:Everyone's AFG
DESCRIPTION:Formerly Double Winners Group
URL:https://lambdahouston.org/events/everyones-afg/2027-12-22
LOCATION:Lambda Center Houston\, West Clay Street\, Houston\, TX\, 77019\, United States
CATEGORIES:Al-Anon
GEO:29.7551684;-95.3940619
X-APPLE-STRUCTURED-LOCATION;VALUE=URI;X-ADDRESS=Lambda Center Houston West Clay Street Houston TX 77019 United States;X-APPLE-RADIUS=500;X-TITLE=West Clay Street:geo:-95.3940619,29.7551684
END:VEVENT
BEGIN:VEVENT
DTSTART;TZID=America/Chicago:20271222T183000
DTEND;TZID=America/Chicago:20271222T193000
DTSTAMP:20260425T184045
CREATED:20240719T140555Z
LAST-MODIFIED:20240829T205958Z
UID:10024582-1829500200-1829503800@lambdahouston.org
SUMMARY:Virtual Everyone’s AFG
DESCRIPTION:Wednesday 6:30 PM\nOpen Al Anon Discussion\nbit.ly/lambdaeveryonesafg\nMeeting ID: 717-796-041 | Passcode: 757372 \nJOIN MEETING
URL:https://lambdahouston.org/events/virtual-everyones-afg/2027-12-22
LOCATION:Zoom
CATEGORIES:Al-Anon
END:VEVENT
BEGIN:VEVENT
DTSTART;TZID=America/Chicago:20271222T183000
DTEND;TZID=America/Chicago:20271222T193000
DTSTAMP:20260425T184045
CREATED:20240719T140838Z
LAST-MODIFIED:20240719T140838Z
UID:10024843-1829500200-1829503800@lambdahouston.org
SUMMARY:Virtual Wednesday Silent Journey
DESCRIPTION:Wednesday 6:30 PM\nOpen AA Meditation\nMeeting ID: 817-0558-5298 | Passcode: 630824 \nJOIN MEETING
URL:https://lambdahouston.org/events/virtual-wednesday-silent-journey/2027-12-22
LOCATION:Zoom
CATEGORIES:Al-Anon
END:VEVENT
BEGIN:VEVENT
DTSTART;TZID=America/Chicago:20271226T190000
DTEND;TZID=America/Chicago:20271226T200000
DTSTAMP:20260425T184045
CREATED:20250506T003549Z
LAST-MODIFIED:20250506T003549Z
UID:10028335-1829847600-1829851200@lambdahouston.org
SUMMARY:Lambda Al-Anon
DESCRIPTION:
URL:https://lambdahouston.org/events/lambda-al-anon/2027-12-26
LOCATION:Lambda Center Houston\, West Clay Street\, Houston\, TX\, 77019\, United States
CATEGORIES:Al-Anon
GEO:29.7551684;-95.3940619
X-APPLE-STRUCTURED-LOCATION;VALUE=URI;X-ADDRESS=Lambda Center Houston West Clay Street Houston TX 77019 United States;X-APPLE-RADIUS=500;X-TITLE=West Clay Street:geo:-95.3940619,29.7551684
END:VEVENT
BEGIN:VEVENT
DTSTART;TZID=America/Chicago:20271228T180000
DTEND;TZID=America/Chicago:20271228T190000
DTSTAMP:20260425T184045
CREATED:20240715T012540Z
LAST-MODIFIED:20240715T012642Z
UID:10012317-1830016800-1830020400@lambdahouston.org
SUMMARY:Lambda Al-Anon
DESCRIPTION:Lambda Al-Anon Birthday Night is celebrated the last week of every month.
URL:https://lambdahouston.org/events/lambda-al-anon-tuesday/2027-12-28
LOCATION:Lambda Center Houston\, West Clay Street\, Houston\, TX\, 77019\, United States
CATEGORIES:Al-Anon
GEO:29.7551684;-95.3940619
X-APPLE-STRUCTURED-LOCATION;VALUE=URI;X-ADDRESS=Lambda Center Houston West Clay Street Houston TX 77019 United States;X-APPLE-RADIUS=500;X-TITLE=West Clay Street:geo:-95.3940619,29.7551684
END:VEVENT
BEGIN:VEVENT
DTSTART;TZID=America/Chicago:20271229T183000
DTEND;TZID=America/Chicago:20271229T193000
DTSTAMP:20260425T184045
CREATED:20240715T015054Z
LAST-MODIFIED:20240715T015054Z
UID:10014144-1830105000-1830108600@lambdahouston.org
SUMMARY:Everyone's AFG
DESCRIPTION:Formerly Double Winners Group
URL:https://lambdahouston.org/events/everyones-afg/2027-12-29
LOCATION:Lambda Center Houston\, West Clay Street\, Houston\, TX\, 77019\, United States
CATEGORIES:Al-Anon
GEO:29.7551684;-95.3940619
X-APPLE-STRUCTURED-LOCATION;VALUE=URI;X-ADDRESS=Lambda Center Houston West Clay Street Houston TX 77019 United States;X-APPLE-RADIUS=500;X-TITLE=West Clay Street:geo:-95.3940619,29.7551684
END:VEVENT
BEGIN:VEVENT
DTSTART;TZID=America/Chicago:20271229T183000
DTEND;TZID=America/Chicago:20271229T193000
DTSTAMP:20260425T184045
CREATED:20240719T140555Z
LAST-MODIFIED:20240829T205958Z
UID:10024583-1830105000-1830108600@lambdahouston.org
SUMMARY:Virtual Everyone’s AFG
DESCRIPTION:Wednesday 6:30 PM\nOpen Al Anon Discussion\nbit.ly/lambdaeveryonesafg\nMeeting ID: 717-796-041 | Passcode: 757372 \nJOIN MEETING
URL:https://lambdahouston.org/events/virtual-everyones-afg/2027-12-29
LOCATION:Zoom
CATEGORIES:Al-Anon
END:VEVENT
BEGIN:VEVENT
DTSTART;TZID=America/Chicago:20271229T183000
DTEND;TZID=America/Chicago:20271229T193000
DTSTAMP:20260425T184045
CREATED:20240719T140838Z
LAST-MODIFIED:20240719T140838Z
UID:10024844-1830105000-1830108600@lambdahouston.org
SUMMARY:Virtual Wednesday Silent Journey
DESCRIPTION:Wednesday 6:30 PM\nOpen AA Meditation\nMeeting ID: 817-0558-5298 | Passcode: 630824 \nJOIN MEETING
URL:https://lambdahouston.org/events/virtual-wednesday-silent-journey/2027-12-29
LOCATION:Zoom
CATEGORIES:Al-Anon
END:VEVENT
BEGIN:VEVENT
DTSTART;TZID=America/Chicago:20280102T190000
DTEND;TZID=America/Chicago:20280102T200000
DTSTAMP:20260425T184045
CREATED:20250506T003549Z
LAST-MODIFIED:20250506T003549Z
UID:10028336-1830452400-1830456000@lambdahouston.org
SUMMARY:Lambda Al-Anon
DESCRIPTION:
URL:https://lambdahouston.org/events/lambda-al-anon/2028-01-02
LOCATION:Lambda Center Houston\, West Clay Street\, Houston\, TX\, 77019\, United States
CATEGORIES:Al-Anon
GEO:29.7551684;-95.3940619
X-APPLE-STRUCTURED-LOCATION;VALUE=URI;X-ADDRESS=Lambda Center Houston West Clay Street Houston TX 77019 United States;X-APPLE-RADIUS=500;X-TITLE=West Clay Street:geo:-95.3940619,29.7551684
END:VEVENT
BEGIN:VEVENT
DTSTART;TZID=America/Chicago:20280104T180000
DTEND;TZID=America/Chicago:20280104T190000
DTSTAMP:20260425T184045
CREATED:20240715T012540Z
LAST-MODIFIED:20240715T012642Z
UID:10012318-1830621600-1830625200@lambdahouston.org
SUMMARY:Lambda Al-Anon
DESCRIPTION:Lambda Al-Anon Birthday Night is celebrated the last week of every month.
URL:https://lambdahouston.org/events/lambda-al-anon-tuesday/2028-01-04
LOCATION:Lambda Center Houston\, West Clay Street\, Houston\, TX\, 77019\, United States
CATEGORIES:Al-Anon
GEO:29.7551684;-95.3940619
X-APPLE-STRUCTURED-LOCATION;VALUE=URI;X-ADDRESS=Lambda Center Houston West Clay Street Houston TX 77019 United States;X-APPLE-RADIUS=500;X-TITLE=West Clay Street:geo:-95.3940619,29.7551684
END:VEVENT
BEGIN:VEVENT
DTSTART;TZID=America/Chicago:20280105T183000
DTEND;TZID=America/Chicago:20280105T193000
DTSTAMP:20260425T184045
CREATED:20240715T015054Z
LAST-MODIFIED:20240715T015054Z
UID:10014145-1830709800-1830713400@lambdahouston.org
SUMMARY:Everyone's AFG
DESCRIPTION:Formerly Double Winners Group
URL:https://lambdahouston.org/events/everyones-afg/2028-01-05
LOCATION:Lambda Center Houston\, West Clay Street\, Houston\, TX\, 77019\, United States
CATEGORIES:Al-Anon
GEO:29.7551684;-95.3940619
X-APPLE-STRUCTURED-LOCATION;VALUE=URI;X-ADDRESS=Lambda Center Houston West Clay Street Houston TX 77019 United States;X-APPLE-RADIUS=500;X-TITLE=West Clay Street:geo:-95.3940619,29.7551684
END:VEVENT
BEGIN:VEVENT
DTSTART;TZID=America/Chicago:20280105T183000
DTEND;TZID=America/Chicago:20280105T193000
DTSTAMP:20260425T184045
CREATED:20240719T140555Z
LAST-MODIFIED:20240829T205958Z
UID:10024584-1830709800-1830713400@lambdahouston.org
SUMMARY:Virtual Everyone’s AFG
DESCRIPTION:Wednesday 6:30 PM\nOpen Al Anon Discussion\nbit.ly/lambdaeveryonesafg\nMeeting ID: 717-796-041 | Passcode: 757372 \nJOIN MEETING
URL:https://lambdahouston.org/events/virtual-everyones-afg/2028-01-05
LOCATION:Zoom
CATEGORIES:Al-Anon
END:VEVENT
BEGIN:VEVENT
DTSTART;TZID=America/Chicago:20280105T183000
DTEND;TZID=America/Chicago:20280105T193000
DTSTAMP:20260425T184045
CREATED:20240719T140838Z
LAST-MODIFIED:20240719T140838Z
UID:10024845-1830709800-1830713400@lambdahouston.org
SUMMARY:Virtual Wednesday Silent Journey
DESCRIPTION:Wednesday 6:30 PM\nOpen AA Meditation\nMeeting ID: 817-0558-5298 | Passcode: 630824 \nJOIN MEETING
URL:https://lambdahouston.org/events/virtual-wednesday-silent-journey/2028-01-05
LOCATION:Zoom
CATEGORIES:Al-Anon
END:VEVENT
BEGIN:VEVENT
DTSTART;TZID=America/Chicago:20280109T190000
DTEND;TZID=America/Chicago:20280109T200000
DTSTAMP:20260425T184045
CREATED:20250506T003549Z
LAST-MODIFIED:20250506T003549Z
UID:10028337-1831057200-1831060800@lambdahouston.org
SUMMARY:Lambda Al-Anon
DESCRIPTION:
URL:https://lambdahouston.org/events/lambda-al-anon/2028-01-09
LOCATION:Lambda Center Houston\, West Clay Street\, Houston\, TX\, 77019\, United States
CATEGORIES:Al-Anon
GEO:29.7551684;-95.3940619
X-APPLE-STRUCTURED-LOCATION;VALUE=URI;X-ADDRESS=Lambda Center Houston West Clay Street Houston TX 77019 United States;X-APPLE-RADIUS=500;X-TITLE=West Clay Street:geo:-95.3940619,29.7551684
END:VEVENT
BEGIN:VEVENT
DTSTART;TZID=America/Chicago:20280111T180000
DTEND;TZID=America/Chicago:20280111T190000
DTSTAMP:20260425T184045
CREATED:20240715T012540Z
LAST-MODIFIED:20240715T012642Z
UID:10012319-1831226400-1831230000@lambdahouston.org
SUMMARY:Lambda Al-Anon
DESCRIPTION:Lambda Al-Anon Birthday Night is celebrated the last week of every month.
URL:https://lambdahouston.org/events/lambda-al-anon-tuesday/2028-01-11
LOCATION:Lambda Center Houston\, West Clay Street\, Houston\, TX\, 77019\, United States
CATEGORIES:Al-Anon
GEO:29.7551684;-95.3940619
X-APPLE-STRUCTURED-LOCATION;VALUE=URI;X-ADDRESS=Lambda Center Houston West Clay Street Houston TX 77019 United States;X-APPLE-RADIUS=500;X-TITLE=West Clay Street:geo:-95.3940619,29.7551684
END:VEVENT
BEGIN:VEVENT
DTSTART;TZID=America/Chicago:20280112T183000
DTEND;TZID=America/Chicago:20280112T193000
DTSTAMP:20260425T184045
CREATED:20240715T015054Z
LAST-MODIFIED:20240715T015054Z
UID:10014146-1831314600-1831318200@lambdahouston.org
SUMMARY:Everyone's AFG
DESCRIPTION:Formerly Double Winners Group
URL:https://lambdahouston.org/events/everyones-afg/2028-01-12
LOCATION:Lambda Center Houston\, West Clay Street\, Houston\, TX\, 77019\, United States
CATEGORIES:Al-Anon
GEO:29.7551684;-95.3940619
X-APPLE-STRUCTURED-LOCATION;VALUE=URI;X-ADDRESS=Lambda Center Houston West Clay Street Houston TX 77019 United States;X-APPLE-RADIUS=500;X-TITLE=West Clay Street:geo:-95.3940619,29.7551684
END:VEVENT
BEGIN:VEVENT
DTSTART;TZID=America/Chicago:20280112T183000
DTEND;TZID=America/Chicago:20280112T193000
DTSTAMP:20260425T184045
CREATED:20240719T140555Z
LAST-MODIFIED:20240829T205958Z
UID:10024585-1831314600-1831318200@lambdahouston.org
SUMMARY:Virtual Everyone’s AFG
DESCRIPTION:Wednesday 6:30 PM\nOpen Al Anon Discussion\nbit.ly/lambdaeveryonesafg\nMeeting ID: 717-796-041 | Passcode: 757372 \nJOIN MEETING
URL:https://lambdahouston.org/events/virtual-everyones-afg/2028-01-12
LOCATION:Zoom
CATEGORIES:Al-Anon
END:VEVENT
BEGIN:VEVENT
DTSTART;TZID=America/Chicago:20280112T183000
DTEND;TZID=America/Chicago:20280112T193000
DTSTAMP:20260425T184045
CREATED:20240719T140838Z
LAST-MODIFIED:20240719T140838Z
UID:10024846-1831314600-1831318200@lambdahouston.org
SUMMARY:Virtual Wednesday Silent Journey
DESCRIPTION:Wednesday 6:30 PM\nOpen AA Meditation\nMeeting ID: 817-0558-5298 | Passcode: 630824 \nJOIN MEETING
URL:https://lambdahouston.org/events/virtual-wednesday-silent-journey/2028-01-12
LOCATION:Zoom
CATEGORIES:Al-Anon
END:VEVENT
BEGIN:VEVENT
DTSTART;TZID=America/Chicago:20280116T190000
DTEND;TZID=America/Chicago:20280116T200000
DTSTAMP:20260425T184045
CREATED:20250506T003549Z
LAST-MODIFIED:20250506T003549Z
UID:10028338-1831662000-1831665600@lambdahouston.org
SUMMARY:Lambda Al-Anon
DESCRIPTION:
URL:https://lambdahouston.org/events/lambda-al-anon/2028-01-16
LOCATION:Lambda Center Houston\, West Clay Street\, Houston\, TX\, 77019\, United States
CATEGORIES:Al-Anon
GEO:29.7551684;-95.3940619
X-APPLE-STRUCTURED-LOCATION;VALUE=URI;X-ADDRESS=Lambda Center Houston West Clay Street Houston TX 77019 United States;X-APPLE-RADIUS=500;X-TITLE=West Clay Street:geo:-95.3940619,29.7551684
END:VEVENT
BEGIN:VEVENT
DTSTART;TZID=America/Chicago:20280118T180000
DTEND;TZID=America/Chicago:20280118T190000
DTSTAMP:20260425T184045
CREATED:20240715T012540Z
LAST-MODIFIED:20240715T012642Z
UID:10012320-1831831200-1831834800@lambdahouston.org
SUMMARY:Lambda Al-Anon
DESCRIPTION:Lambda Al-Anon Birthday Night is celebrated the last week of every month.
URL:https://lambdahouston.org/events/lambda-al-anon-tuesday/2028-01-18
LOCATION:Lambda Center Houston\, West Clay Street\, Houston\, TX\, 77019\, United States
CATEGORIES:Al-Anon
GEO:29.7551684;-95.3940619
X-APPLE-STRUCTURED-LOCATION;VALUE=URI;X-ADDRESS=Lambda Center Houston West Clay Street Houston TX 77019 United States;X-APPLE-RADIUS=500;X-TITLE=West Clay Street:geo:-95.3940619,29.7551684
END:VEVENT
BEGIN:VEVENT
DTSTART;TZID=America/Chicago:20280119T183000
DTEND;TZID=America/Chicago:20280119T193000
DTSTAMP:20260425T184045
CREATED:20240715T015054Z
LAST-MODIFIED:20240715T015054Z
UID:10014147-1831919400-1831923000@lambdahouston.org
SUMMARY:Everyone's AFG
DESCRIPTION:Formerly Double Winners Group
URL:https://lambdahouston.org/events/everyones-afg/2028-01-19
LOCATION:Lambda Center Houston\, West Clay Street\, Houston\, TX\, 77019\, United States
CATEGORIES:Al-Anon
GEO:29.7551684;-95.3940619
X-APPLE-STRUCTURED-LOCATION;VALUE=URI;X-ADDRESS=Lambda Center Houston West Clay Street Houston TX 77019 United States;X-APPLE-RADIUS=500;X-TITLE=West Clay Street:geo:-95.3940619,29.7551684
END:VEVENT
BEGIN:VEVENT
DTSTART;TZID=America/Chicago:20280119T183000
DTEND;TZID=America/Chicago:20280119T193000
DTSTAMP:20260425T184045
CREATED:20240719T140555Z
LAST-MODIFIED:20240829T205958Z
UID:10024586-1831919400-1831923000@lambdahouston.org
SUMMARY:Virtual Everyone’s AFG
DESCRIPTION:Wednesday 6:30 PM\nOpen Al Anon Discussion\nbit.ly/lambdaeveryonesafg\nMeeting ID: 717-796-041 | Passcode: 757372 \nJOIN MEETING
URL:https://lambdahouston.org/events/virtual-everyones-afg/2028-01-19
LOCATION:Zoom
CATEGORIES:Al-Anon
END:VEVENT
BEGIN:VEVENT
DTSTART;TZID=America/Chicago:20280119T183000
DTEND;TZID=America/Chicago:20280119T193000
DTSTAMP:20260425T184045
CREATED:20240719T140838Z
LAST-MODIFIED:20240719T140838Z
UID:10024847-1831919400-1831923000@lambdahouston.org
SUMMARY:Virtual Wednesday Silent Journey
DESCRIPTION:Wednesday 6:30 PM\nOpen AA Meditation\nMeeting ID: 817-0558-5298 | Passcode: 630824 \nJOIN MEETING
URL:https://lambdahouston.org/events/virtual-wednesday-silent-journey/2028-01-19
LOCATION:Zoom
CATEGORIES:Al-Anon
END:VEVENT
BEGIN:VEVENT
DTSTART;TZID=America/Chicago:20280123T190000
DTEND;TZID=America/Chicago:20280123T200000
DTSTAMP:20260425T184045
CREATED:20250506T003549Z
LAST-MODIFIED:20250506T003549Z
UID:10028339-1832266800-1832270400@lambdahouston.org
SUMMARY:Lambda Al-Anon
DESCRIPTION:
URL:https://lambdahouston.org/events/lambda-al-anon/2028-01-23
LOCATION:Lambda Center Houston\, West Clay Street\, Houston\, TX\, 77019\, United States
CATEGORIES:Al-Anon
GEO:29.7551684;-95.3940619
X-APPLE-STRUCTURED-LOCATION;VALUE=URI;X-ADDRESS=Lambda Center Houston West Clay Street Houston TX 77019 United States;X-APPLE-RADIUS=500;X-TITLE=West Clay Street:geo:-95.3940619,29.7551684
END:VEVENT
BEGIN:VEVENT
DTSTART;TZID=America/Chicago:20280125T180000
DTEND;TZID=America/Chicago:20280125T190000
DTSTAMP:20260425T184045
CREATED:20240715T012540Z
LAST-MODIFIED:20240715T012642Z
UID:10012321-1832436000-1832439600@lambdahouston.org
SUMMARY:Lambda Al-Anon
DESCRIPTION:Lambda Al-Anon Birthday Night is celebrated the last week of every month.
URL:https://lambdahouston.org/events/lambda-al-anon-tuesday/2028-01-25
LOCATION:Lambda Center Houston\, West Clay Street\, Houston\, TX\, 77019\, United States
CATEGORIES:Al-Anon
GEO:29.7551684;-95.3940619
X-APPLE-STRUCTURED-LOCATION;VALUE=URI;X-ADDRESS=Lambda Center Houston West Clay Street Houston TX 77019 United States;X-APPLE-RADIUS=500;X-TITLE=West Clay Street:geo:-95.3940619,29.7551684
END:VEVENT
BEGIN:VEVENT
DTSTART;TZID=America/Chicago:20280126T183000
DTEND;TZID=America/Chicago:20280126T193000
DTSTAMP:20260425T184045
CREATED:20240715T015054Z
LAST-MODIFIED:20240715T015054Z
UID:10014148-1832524200-1832527800@lambdahouston.org
SUMMARY:Everyone's AFG
DESCRIPTION:Formerly Double Winners Group
URL:https://lambdahouston.org/events/everyones-afg/2028-01-26
LOCATION:Lambda Center Houston\, West Clay Street\, Houston\, TX\, 77019\, United States
CATEGORIES:Al-Anon
GEO:29.7551684;-95.3940619
X-APPLE-STRUCTURED-LOCATION;VALUE=URI;X-ADDRESS=Lambda Center Houston West Clay Street Houston TX 77019 United States;X-APPLE-RADIUS=500;X-TITLE=West Clay Street:geo:-95.3940619,29.7551684
END:VEVENT
BEGIN:VEVENT
DTSTART;TZID=America/Chicago:20280126T183000
DTEND;TZID=America/Chicago:20280126T193000
DTSTAMP:20260425T184045
CREATED:20240719T140555Z
LAST-MODIFIED:20240829T205958Z
UID:10024587-1832524200-1832527800@lambdahouston.org
SUMMARY:Virtual Everyone’s AFG
DESCRIPTION:Wednesday 6:30 PM\nOpen Al Anon Discussion\nbit.ly/lambdaeveryonesafg\nMeeting ID: 717-796-041 | Passcode: 757372 \nJOIN MEETING
URL:https://lambdahouston.org/events/virtual-everyones-afg/2028-01-26
LOCATION:Zoom
CATEGORIES:Al-Anon
END:VEVENT
BEGIN:VEVENT
DTSTART;TZID=America/Chicago:20280126T183000
DTEND;TZID=America/Chicago:20280126T193000
DTSTAMP:20260425T184045
CREATED:20240719T140838Z
LAST-MODIFIED:20240719T140838Z
UID:10024848-1832524200-1832527800@lambdahouston.org
SUMMARY:Virtual Wednesday Silent Journey
DESCRIPTION:Wednesday 6:30 PM\nOpen AA Meditation\nMeeting ID: 817-0558-5298 | Passcode: 630824 \nJOIN MEETING
URL:https://lambdahouston.org/events/virtual-wednesday-silent-journey/2028-01-26
LOCATION:Zoom
CATEGORIES:Al-Anon
END:VEVENT
BEGIN:VEVENT
DTSTART;TZID=America/Chicago:20280130T190000
DTEND;TZID=America/Chicago:20280130T200000
DTSTAMP:20260425T184045
CREATED:20250506T003549Z
LAST-MODIFIED:20250506T003549Z
UID:10028340-1832871600-1832875200@lambdahouston.org
SUMMARY:Lambda Al-Anon
DESCRIPTION:
URL:https://lambdahouston.org/events/lambda-al-anon/2028-01-30
LOCATION:Lambda Center Houston\, West Clay Street\, Houston\, TX\, 77019\, United States
CATEGORIES:Al-Anon
GEO:29.7551684;-95.3940619
X-APPLE-STRUCTURED-LOCATION;VALUE=URI;X-ADDRESS=Lambda Center Houston West Clay Street Houston TX 77019 United States;X-APPLE-RADIUS=500;X-TITLE=West Clay Street:geo:-95.3940619,29.7551684
END:VEVENT
BEGIN:VEVENT
DTSTART;TZID=America/Chicago:20280201T180000
DTEND;TZID=America/Chicago:20280201T190000
DTSTAMP:20260425T184045
CREATED:20240715T012540Z
LAST-MODIFIED:20240715T012642Z
UID:10012322-1833040800-1833044400@lambdahouston.org
SUMMARY:Lambda Al-Anon
DESCRIPTION:Lambda Al-Anon Birthday Night is celebrated the last week of every month.
URL:https://lambdahouston.org/events/lambda-al-anon-tuesday/2028-02-01
LOCATION:Lambda Center Houston\, West Clay Street\, Houston\, TX\, 77019\, United States
CATEGORIES:Al-Anon
GEO:29.7551684;-95.3940619
X-APPLE-STRUCTURED-LOCATION;VALUE=URI;X-ADDRESS=Lambda Center Houston West Clay Street Houston TX 77019 United States;X-APPLE-RADIUS=500;X-TITLE=West Clay Street:geo:-95.3940619,29.7551684
END:VEVENT
END:VCALENDAR