BEGIN:VCALENDAR
VERSION:2.0
PRODID:-//Lambda Center Houston - ECPv6.15.16//NONSGML v1.0//EN
CALSCALE:GREGORIAN
METHOD:PUBLISH
X-WR-CALNAME:Lambda Center Houston
X-ORIGINAL-URL:https://lambdahouston.org
X-WR-CALDESC:Events for Lambda Center Houston
REFRESH-INTERVAL;VALUE=DURATION:PT1H
X-Robots-Tag:noindex
X-PUBLISHED-TTL:PT1H
BEGIN:VTIMEZONE
TZID:America/Chicago
BEGIN:DAYLIGHT
TZOFFSETFROM:-0600
TZOFFSETTO:-0500
TZNAME:CDT
DTSTART:20240310T080000
END:DAYLIGHT
BEGIN:STANDARD
TZOFFSETFROM:-0500
TZOFFSETTO:-0600
TZNAME:CST
DTSTART:20241103T070000
END:STANDARD
BEGIN:DAYLIGHT
TZOFFSETFROM:-0600
TZOFFSETTO:-0500
TZNAME:CDT
DTSTART:20250309T080000
END:DAYLIGHT
BEGIN:STANDARD
TZOFFSETFROM:-0500
TZOFFSETTO:-0600
TZNAME:CST
DTSTART:20251102T070000
END:STANDARD
BEGIN:DAYLIGHT
TZOFFSETFROM:-0600
TZOFFSETTO:-0500
TZNAME:CDT
DTSTART:20260308T080000
END:DAYLIGHT
BEGIN:STANDARD
TZOFFSETFROM:-0500
TZOFFSETTO:-0600
TZNAME:CST
DTSTART:20261101T070000
END:STANDARD
BEGIN:DAYLIGHT
TZOFFSETFROM:-0600
TZOFFSETTO:-0500
TZNAME:CDT
DTSTART:20270314T080000
END:DAYLIGHT
BEGIN:STANDARD
TZOFFSETFROM:-0500
TZOFFSETTO:-0600
TZNAME:CST
DTSTART:20271107T070000
END:STANDARD
END:VTIMEZONE
BEGIN:VEVENT
DTSTART;TZID=America/Chicago:20260222T130000
DTEND;TZID=America/Chicago:20260222T140000
DTSTAMP:20260423T162141
CREATED:20250308T235628Z
LAST-MODIFIED:20260114T214204Z
UID:10027985-1771765200-1771768800@lambdahouston.org
SUMMARY:Turning Over a New Leaf
DESCRIPTION:
URL:https://lambdahouston.org/events/turning-over-a-new-leaf/2026-02-22
LOCATION:Lambda Center Houston\, West Clay Street\, Houston\, TX\, 77019\, United States
CATEGORIES:MA
GEO:29.7551684;-95.3940619
X-APPLE-STRUCTURED-LOCATION;VALUE=URI;X-ADDRESS=Lambda Center Houston West Clay Street Houston TX 77019 United States;X-APPLE-RADIUS=500;X-TITLE=West Clay Street:geo:-95.3940619,29.7551684
END:VEVENT
BEGIN:VEVENT
DTSTART;TZID=America/Chicago:20260219T200000
DTEND;TZID=America/Chicago:20260219T210000
DTSTAMP:20260423T162141
CREATED:20240715T022757Z
LAST-MODIFIED:20240715T022757Z
UID:10016135-1771531200-1771534800@lambdahouston.org
SUMMARY:Queers of the Stoner Age
DESCRIPTION:Marijuana Anonymous (MA)
URL:https://lambdahouston.org/events/queers-of-the-stoner-age/2026-02-19
LOCATION:Lambda Center Houston\, West Clay Street\, Houston\, TX\, 77019\, United States
CATEGORIES:MA
GEO:29.7551684;-95.3940619
X-APPLE-STRUCTURED-LOCATION;VALUE=URI;X-ADDRESS=Lambda Center Houston West Clay Street Houston TX 77019 United States;X-APPLE-RADIUS=500;X-TITLE=West Clay Street:geo:-95.3940619,29.7551684
END:VEVENT
BEGIN:VEVENT
DTSTART;TZID=America/Chicago:20260215T130000
DTEND;TZID=America/Chicago:20260215T140000
DTSTAMP:20260423T162141
CREATED:20250308T235628Z
LAST-MODIFIED:20260114T214204Z
UID:10027984-1771160400-1771164000@lambdahouston.org
SUMMARY:Turning Over a New Leaf
DESCRIPTION:
URL:https://lambdahouston.org/events/turning-over-a-new-leaf/2026-02-15
LOCATION:Lambda Center Houston\, West Clay Street\, Houston\, TX\, 77019\, United States
CATEGORIES:MA
GEO:29.7551684;-95.3940619
X-APPLE-STRUCTURED-LOCATION;VALUE=URI;X-ADDRESS=Lambda Center Houston West Clay Street Houston TX 77019 United States;X-APPLE-RADIUS=500;X-TITLE=West Clay Street:geo:-95.3940619,29.7551684
END:VEVENT
BEGIN:VEVENT
DTSTART;TZID=America/Chicago:20260212T200000
DTEND;TZID=America/Chicago:20260212T210000
DTSTAMP:20260423T162141
CREATED:20240715T022757Z
LAST-MODIFIED:20240715T022757Z
UID:10016134-1770926400-1770930000@lambdahouston.org
SUMMARY:Queers of the Stoner Age
DESCRIPTION:Marijuana Anonymous (MA)
URL:https://lambdahouston.org/events/queers-of-the-stoner-age/2026-02-12
LOCATION:Lambda Center Houston\, West Clay Street\, Houston\, TX\, 77019\, United States
CATEGORIES:MA
GEO:29.7551684;-95.3940619
X-APPLE-STRUCTURED-LOCATION;VALUE=URI;X-ADDRESS=Lambda Center Houston West Clay Street Houston TX 77019 United States;X-APPLE-RADIUS=500;X-TITLE=West Clay Street:geo:-95.3940619,29.7551684
END:VEVENT
BEGIN:VEVENT
DTSTART;TZID=America/Chicago:20260208T130000
DTEND;TZID=America/Chicago:20260208T140000
DTSTAMP:20260423T162141
CREATED:20250308T235628Z
LAST-MODIFIED:20260114T214204Z
UID:10027983-1770555600-1770559200@lambdahouston.org
SUMMARY:Turning Over a New Leaf
DESCRIPTION:
URL:https://lambdahouston.org/events/turning-over-a-new-leaf/2026-02-08
LOCATION:Lambda Center Houston\, West Clay Street\, Houston\, TX\, 77019\, United States
CATEGORIES:MA
GEO:29.7551684;-95.3940619
X-APPLE-STRUCTURED-LOCATION;VALUE=URI;X-ADDRESS=Lambda Center Houston West Clay Street Houston TX 77019 United States;X-APPLE-RADIUS=500;X-TITLE=West Clay Street:geo:-95.3940619,29.7551684
END:VEVENT
BEGIN:VEVENT
DTSTART;TZID=America/Chicago:20260205T200000
DTEND;TZID=America/Chicago:20260205T210000
DTSTAMP:20260423T162141
CREATED:20240715T022757Z
LAST-MODIFIED:20240715T022757Z
UID:10016133-1770321600-1770325200@lambdahouston.org
SUMMARY:Queers of the Stoner Age
DESCRIPTION:Marijuana Anonymous (MA)
URL:https://lambdahouston.org/events/queers-of-the-stoner-age/2026-02-05
LOCATION:Lambda Center Houston\, West Clay Street\, Houston\, TX\, 77019\, United States
CATEGORIES:MA
GEO:29.7551684;-95.3940619
X-APPLE-STRUCTURED-LOCATION;VALUE=URI;X-ADDRESS=Lambda Center Houston West Clay Street Houston TX 77019 United States;X-APPLE-RADIUS=500;X-TITLE=West Clay Street:geo:-95.3940619,29.7551684
END:VEVENT
BEGIN:VEVENT
DTSTART;TZID=America/Chicago:20260201T130000
DTEND;TZID=America/Chicago:20260201T140000
DTSTAMP:20260423T162141
CREATED:20250308T235628Z
LAST-MODIFIED:20260114T214204Z
UID:10027982-1769950800-1769954400@lambdahouston.org
SUMMARY:Turning Over a New Leaf
DESCRIPTION:
URL:https://lambdahouston.org/events/turning-over-a-new-leaf/2026-02-01
LOCATION:Lambda Center Houston\, West Clay Street\, Houston\, TX\, 77019\, United States
CATEGORIES:MA
GEO:29.7551684;-95.3940619
X-APPLE-STRUCTURED-LOCATION;VALUE=URI;X-ADDRESS=Lambda Center Houston West Clay Street Houston TX 77019 United States;X-APPLE-RADIUS=500;X-TITLE=West Clay Street:geo:-95.3940619,29.7551684
END:VEVENT
BEGIN:VEVENT
DTSTART;TZID=America/Chicago:20260129T200000
DTEND;TZID=America/Chicago:20260129T210000
DTSTAMP:20260423T162141
CREATED:20240715T022757Z
LAST-MODIFIED:20240715T022757Z
UID:10016132-1769716800-1769720400@lambdahouston.org
SUMMARY:Queers of the Stoner Age
DESCRIPTION:Marijuana Anonymous (MA)
URL:https://lambdahouston.org/events/queers-of-the-stoner-age/2026-01-29
LOCATION:Lambda Center Houston\, West Clay Street\, Houston\, TX\, 77019\, United States
CATEGORIES:MA
GEO:29.7551684;-95.3940619
X-APPLE-STRUCTURED-LOCATION;VALUE=URI;X-ADDRESS=Lambda Center Houston West Clay Street Houston TX 77019 United States;X-APPLE-RADIUS=500;X-TITLE=West Clay Street:geo:-95.3940619,29.7551684
END:VEVENT
BEGIN:VEVENT
DTSTART;TZID=America/Chicago:20260125T130000
DTEND;TZID=America/Chicago:20260125T140000
DTSTAMP:20260423T162141
CREATED:20250308T235628Z
LAST-MODIFIED:20260114T214204Z
UID:10027981-1769346000-1769349600@lambdahouston.org
SUMMARY:Turning Over a New Leaf
DESCRIPTION:
URL:https://lambdahouston.org/events/turning-over-a-new-leaf/2026-01-25
LOCATION:Lambda Center Houston\, West Clay Street\, Houston\, TX\, 77019\, United States
CATEGORIES:MA
GEO:29.7551684;-95.3940619
X-APPLE-STRUCTURED-LOCATION;VALUE=URI;X-ADDRESS=Lambda Center Houston West Clay Street Houston TX 77019 United States;X-APPLE-RADIUS=500;X-TITLE=West Clay Street:geo:-95.3940619,29.7551684
END:VEVENT
BEGIN:VEVENT
DTSTART;TZID=America/Chicago:20260122T200000
DTEND;TZID=America/Chicago:20260122T210000
DTSTAMP:20260423T162141
CREATED:20240715T022757Z
LAST-MODIFIED:20240715T022757Z
UID:10016131-1769112000-1769115600@lambdahouston.org
SUMMARY:Queers of the Stoner Age
DESCRIPTION:Marijuana Anonymous (MA)
URL:https://lambdahouston.org/events/queers-of-the-stoner-age/2026-01-22
LOCATION:Lambda Center Houston\, West Clay Street\, Houston\, TX\, 77019\, United States
CATEGORIES:MA
GEO:29.7551684;-95.3940619
X-APPLE-STRUCTURED-LOCATION;VALUE=URI;X-ADDRESS=Lambda Center Houston West Clay Street Houston TX 77019 United States;X-APPLE-RADIUS=500;X-TITLE=West Clay Street:geo:-95.3940619,29.7551684
END:VEVENT
BEGIN:VEVENT
DTSTART;TZID=America/Chicago:20260118T130000
DTEND;TZID=America/Chicago:20260118T140000
DTSTAMP:20260423T162141
CREATED:20250308T235628Z
LAST-MODIFIED:20260114T214204Z
UID:10027980-1768741200-1768744800@lambdahouston.org
SUMMARY:Turning Over a New Leaf
DESCRIPTION:
URL:https://lambdahouston.org/events/turning-over-a-new-leaf/2026-01-18
LOCATION:Lambda Center Houston\, West Clay Street\, Houston\, TX\, 77019\, United States
CATEGORIES:MA
GEO:29.7551684;-95.3940619
X-APPLE-STRUCTURED-LOCATION;VALUE=URI;X-ADDRESS=Lambda Center Houston West Clay Street Houston TX 77019 United States;X-APPLE-RADIUS=500;X-TITLE=West Clay Street:geo:-95.3940619,29.7551684
END:VEVENT
BEGIN:VEVENT
DTSTART;TZID=America/Chicago:20260115T200000
DTEND;TZID=America/Chicago:20260115T210000
DTSTAMP:20260423T162141
CREATED:20240715T022757Z
LAST-MODIFIED:20240715T022757Z
UID:10016130-1768507200-1768510800@lambdahouston.org
SUMMARY:Queers of the Stoner Age
DESCRIPTION:Marijuana Anonymous (MA)
URL:https://lambdahouston.org/events/queers-of-the-stoner-age/2026-01-15
LOCATION:Lambda Center Houston\, West Clay Street\, Houston\, TX\, 77019\, United States
CATEGORIES:MA
GEO:29.7551684;-95.3940619
X-APPLE-STRUCTURED-LOCATION;VALUE=URI;X-ADDRESS=Lambda Center Houston West Clay Street Houston TX 77019 United States;X-APPLE-RADIUS=500;X-TITLE=West Clay Street:geo:-95.3940619,29.7551684
END:VEVENT
BEGIN:VEVENT
DTSTART;TZID=America/Chicago:20260111T130000
DTEND;TZID=America/Chicago:20260111T140000
DTSTAMP:20260423T162141
CREATED:20250308T235628Z
LAST-MODIFIED:20260114T214204Z
UID:10027979-1768136400-1768140000@lambdahouston.org
SUMMARY:Turning Over a New Leaf
DESCRIPTION:
URL:https://lambdahouston.org/events/turning-over-a-new-leaf/2026-01-11
LOCATION:Lambda Center Houston\, West Clay Street\, Houston\, TX\, 77019\, United States
CATEGORIES:MA
GEO:29.7551684;-95.3940619
X-APPLE-STRUCTURED-LOCATION;VALUE=URI;X-ADDRESS=Lambda Center Houston West Clay Street Houston TX 77019 United States;X-APPLE-RADIUS=500;X-TITLE=West Clay Street:geo:-95.3940619,29.7551684
END:VEVENT
BEGIN:VEVENT
DTSTART;TZID=America/Chicago:20260108T200000
DTEND;TZID=America/Chicago:20260108T210000
DTSTAMP:20260423T162141
CREATED:20240715T022757Z
LAST-MODIFIED:20240715T022757Z
UID:10016129-1767902400-1767906000@lambdahouston.org
SUMMARY:Queers of the Stoner Age
DESCRIPTION:Marijuana Anonymous (MA)
URL:https://lambdahouston.org/events/queers-of-the-stoner-age/2026-01-08
LOCATION:Lambda Center Houston\, West Clay Street\, Houston\, TX\, 77019\, United States
CATEGORIES:MA
GEO:29.7551684;-95.3940619
X-APPLE-STRUCTURED-LOCATION;VALUE=URI;X-ADDRESS=Lambda Center Houston West Clay Street Houston TX 77019 United States;X-APPLE-RADIUS=500;X-TITLE=West Clay Street:geo:-95.3940619,29.7551684
END:VEVENT
BEGIN:VEVENT
DTSTART;TZID=America/Chicago:20260104T130000
DTEND;TZID=America/Chicago:20260104T140000
DTSTAMP:20260423T162141
CREATED:20250308T235628Z
LAST-MODIFIED:20260114T214204Z
UID:10027978-1767531600-1767535200@lambdahouston.org
SUMMARY:Turning Over a New Leaf
DESCRIPTION:
URL:https://lambdahouston.org/events/turning-over-a-new-leaf/2026-01-04
LOCATION:Lambda Center Houston\, West Clay Street\, Houston\, TX\, 77019\, United States
CATEGORIES:MA
GEO:29.7551684;-95.3940619
X-APPLE-STRUCTURED-LOCATION;VALUE=URI;X-ADDRESS=Lambda Center Houston West Clay Street Houston TX 77019 United States;X-APPLE-RADIUS=500;X-TITLE=West Clay Street:geo:-95.3940619,29.7551684
END:VEVENT
BEGIN:VEVENT
DTSTART;TZID=America/Chicago:20260101T200000
DTEND;TZID=America/Chicago:20260101T210000
DTSTAMP:20260423T162141
CREATED:20240715T022757Z
LAST-MODIFIED:20240715T022757Z
UID:10016128-1767297600-1767301200@lambdahouston.org
SUMMARY:Queers of the Stoner Age
DESCRIPTION:Marijuana Anonymous (MA)
URL:https://lambdahouston.org/events/queers-of-the-stoner-age/2026-01-01
LOCATION:Lambda Center Houston\, West Clay Street\, Houston\, TX\, 77019\, United States
CATEGORIES:MA
GEO:29.7551684;-95.3940619
X-APPLE-STRUCTURED-LOCATION;VALUE=URI;X-ADDRESS=Lambda Center Houston West Clay Street Houston TX 77019 United States;X-APPLE-RADIUS=500;X-TITLE=West Clay Street:geo:-95.3940619,29.7551684
END:VEVENT
BEGIN:VEVENT
DTSTART;TZID=America/Chicago:20251228T130000
DTEND;TZID=America/Chicago:20251228T140000
DTSTAMP:20260423T162141
CREATED:20250308T235628Z
LAST-MODIFIED:20260114T214204Z
UID:10027977-1766926800-1766930400@lambdahouston.org
SUMMARY:Turning Over a New Leaf
DESCRIPTION:
URL:https://lambdahouston.org/events/turning-over-a-new-leaf/2025-12-28
LOCATION:Lambda Center Houston\, West Clay Street\, Houston\, TX\, 77019\, United States
CATEGORIES:MA
GEO:29.7551684;-95.3940619
X-APPLE-STRUCTURED-LOCATION;VALUE=URI;X-ADDRESS=Lambda Center Houston West Clay Street Houston TX 77019 United States;X-APPLE-RADIUS=500;X-TITLE=West Clay Street:geo:-95.3940619,29.7551684
END:VEVENT
BEGIN:VEVENT
DTSTART;TZID=America/Chicago:20251225T200000
DTEND;TZID=America/Chicago:20251225T210000
DTSTAMP:20260423T162141
CREATED:20240715T022757Z
LAST-MODIFIED:20240715T022757Z
UID:10016127-1766692800-1766696400@lambdahouston.org
SUMMARY:Queers of the Stoner Age
DESCRIPTION:Marijuana Anonymous (MA)
URL:https://lambdahouston.org/events/queers-of-the-stoner-age/2025-12-25
LOCATION:Lambda Center Houston\, West Clay Street\, Houston\, TX\, 77019\, United States
CATEGORIES:MA
GEO:29.7551684;-95.3940619
X-APPLE-STRUCTURED-LOCATION;VALUE=URI;X-ADDRESS=Lambda Center Houston West Clay Street Houston TX 77019 United States;X-APPLE-RADIUS=500;X-TITLE=West Clay Street:geo:-95.3940619,29.7551684
END:VEVENT
BEGIN:VEVENT
DTSTART;TZID=America/Chicago:20251221T130000
DTEND;TZID=America/Chicago:20251221T140000
DTSTAMP:20260423T162141
CREATED:20250308T235628Z
LAST-MODIFIED:20260114T214204Z
UID:10027976-1766322000-1766325600@lambdahouston.org
SUMMARY:Turning Over a New Leaf
DESCRIPTION:
URL:https://lambdahouston.org/events/turning-over-a-new-leaf/2025-12-21
LOCATION:Lambda Center Houston\, West Clay Street\, Houston\, TX\, 77019\, United States
CATEGORIES:MA
GEO:29.7551684;-95.3940619
X-APPLE-STRUCTURED-LOCATION;VALUE=URI;X-ADDRESS=Lambda Center Houston West Clay Street Houston TX 77019 United States;X-APPLE-RADIUS=500;X-TITLE=West Clay Street:geo:-95.3940619,29.7551684
END:VEVENT
BEGIN:VEVENT
DTSTART;TZID=America/Chicago:20251218T200000
DTEND;TZID=America/Chicago:20251218T210000
DTSTAMP:20260423T162141
CREATED:20240715T022757Z
LAST-MODIFIED:20240715T022757Z
UID:10016126-1766088000-1766091600@lambdahouston.org
SUMMARY:Queers of the Stoner Age
DESCRIPTION:Marijuana Anonymous (MA)
URL:https://lambdahouston.org/events/queers-of-the-stoner-age/2025-12-18
LOCATION:Lambda Center Houston\, West Clay Street\, Houston\, TX\, 77019\, United States
CATEGORIES:MA
GEO:29.7551684;-95.3940619
X-APPLE-STRUCTURED-LOCATION;VALUE=URI;X-ADDRESS=Lambda Center Houston West Clay Street Houston TX 77019 United States;X-APPLE-RADIUS=500;X-TITLE=West Clay Street:geo:-95.3940619,29.7551684
END:VEVENT
BEGIN:VEVENT
DTSTART;TZID=America/Chicago:20251214T130000
DTEND;TZID=America/Chicago:20251214T140000
DTSTAMP:20260423T162141
CREATED:20250308T235628Z
LAST-MODIFIED:20260114T214204Z
UID:10027975-1765717200-1765720800@lambdahouston.org
SUMMARY:Turning Over a New Leaf
DESCRIPTION:
URL:https://lambdahouston.org/events/turning-over-a-new-leaf/2025-12-14
LOCATION:Lambda Center Houston\, West Clay Street\, Houston\, TX\, 77019\, United States
CATEGORIES:MA
GEO:29.7551684;-95.3940619
X-APPLE-STRUCTURED-LOCATION;VALUE=URI;X-ADDRESS=Lambda Center Houston West Clay Street Houston TX 77019 United States;X-APPLE-RADIUS=500;X-TITLE=West Clay Street:geo:-95.3940619,29.7551684
END:VEVENT
BEGIN:VEVENT
DTSTART;TZID=America/Chicago:20251211T200000
DTEND;TZID=America/Chicago:20251211T210000
DTSTAMP:20260423T162141
CREATED:20240715T022757Z
LAST-MODIFIED:20240715T022757Z
UID:10016125-1765483200-1765486800@lambdahouston.org
SUMMARY:Queers of the Stoner Age
DESCRIPTION:Marijuana Anonymous (MA)
URL:https://lambdahouston.org/events/queers-of-the-stoner-age/2025-12-11
LOCATION:Lambda Center Houston\, West Clay Street\, Houston\, TX\, 77019\, United States
CATEGORIES:MA
GEO:29.7551684;-95.3940619
X-APPLE-STRUCTURED-LOCATION;VALUE=URI;X-ADDRESS=Lambda Center Houston West Clay Street Houston TX 77019 United States;X-APPLE-RADIUS=500;X-TITLE=West Clay Street:geo:-95.3940619,29.7551684
END:VEVENT
BEGIN:VEVENT
DTSTART;TZID=America/Chicago:20251207T130000
DTEND;TZID=America/Chicago:20251207T140000
DTSTAMP:20260423T162141
CREATED:20250308T235628Z
LAST-MODIFIED:20260114T214204Z
UID:10027974-1765112400-1765116000@lambdahouston.org
SUMMARY:Turning Over a New Leaf
DESCRIPTION:
URL:https://lambdahouston.org/events/turning-over-a-new-leaf/2025-12-07
LOCATION:Lambda Center Houston\, West Clay Street\, Houston\, TX\, 77019\, United States
CATEGORIES:MA
GEO:29.7551684;-95.3940619
X-APPLE-STRUCTURED-LOCATION;VALUE=URI;X-ADDRESS=Lambda Center Houston West Clay Street Houston TX 77019 United States;X-APPLE-RADIUS=500;X-TITLE=West Clay Street:geo:-95.3940619,29.7551684
END:VEVENT
BEGIN:VEVENT
DTSTART;TZID=America/Chicago:20251204T200000
DTEND;TZID=America/Chicago:20251204T210000
DTSTAMP:20260423T162141
CREATED:20240715T022757Z
LAST-MODIFIED:20240715T022757Z
UID:10016124-1764878400-1764882000@lambdahouston.org
SUMMARY:Queers of the Stoner Age
DESCRIPTION:Marijuana Anonymous (MA)
URL:https://lambdahouston.org/events/queers-of-the-stoner-age/2025-12-04
LOCATION:Lambda Center Houston\, West Clay Street\, Houston\, TX\, 77019\, United States
CATEGORIES:MA
GEO:29.7551684;-95.3940619
X-APPLE-STRUCTURED-LOCATION;VALUE=URI;X-ADDRESS=Lambda Center Houston West Clay Street Houston TX 77019 United States;X-APPLE-RADIUS=500;X-TITLE=West Clay Street:geo:-95.3940619,29.7551684
END:VEVENT
BEGIN:VEVENT
DTSTART;TZID=America/Chicago:20251130T130000
DTEND;TZID=America/Chicago:20251130T140000
DTSTAMP:20260423T162141
CREATED:20250308T235628Z
LAST-MODIFIED:20260114T214204Z
UID:10027973-1764507600-1764511200@lambdahouston.org
SUMMARY:Turning Over a New Leaf
DESCRIPTION:
URL:https://lambdahouston.org/events/turning-over-a-new-leaf/2025-11-30
LOCATION:Lambda Center Houston\, West Clay Street\, Houston\, TX\, 77019\, United States
CATEGORIES:MA
GEO:29.7551684;-95.3940619
X-APPLE-STRUCTURED-LOCATION;VALUE=URI;X-ADDRESS=Lambda Center Houston West Clay Street Houston TX 77019 United States;X-APPLE-RADIUS=500;X-TITLE=West Clay Street:geo:-95.3940619,29.7551684
END:VEVENT
BEGIN:VEVENT
DTSTART;TZID=America/Chicago:20251127T200000
DTEND;TZID=America/Chicago:20251127T210000
DTSTAMP:20260423T162141
CREATED:20240715T022757Z
LAST-MODIFIED:20240715T022757Z
UID:10016123-1764273600-1764277200@lambdahouston.org
SUMMARY:Queers of the Stoner Age
DESCRIPTION:Marijuana Anonymous (MA)
URL:https://lambdahouston.org/events/queers-of-the-stoner-age/2025-11-27
LOCATION:Lambda Center Houston\, West Clay Street\, Houston\, TX\, 77019\, United States
CATEGORIES:MA
GEO:29.7551684;-95.3940619
X-APPLE-STRUCTURED-LOCATION;VALUE=URI;X-ADDRESS=Lambda Center Houston West Clay Street Houston TX 77019 United States;X-APPLE-RADIUS=500;X-TITLE=West Clay Street:geo:-95.3940619,29.7551684
END:VEVENT
BEGIN:VEVENT
DTSTART;TZID=America/Chicago:20251123T130000
DTEND;TZID=America/Chicago:20251123T140000
DTSTAMP:20260423T162141
CREATED:20250308T235628Z
LAST-MODIFIED:20260114T214204Z
UID:10027972-1763902800-1763906400@lambdahouston.org
SUMMARY:Turning Over a New Leaf
DESCRIPTION:
URL:https://lambdahouston.org/events/turning-over-a-new-leaf/2025-11-23
LOCATION:Lambda Center Houston\, West Clay Street\, Houston\, TX\, 77019\, United States
CATEGORIES:MA
GEO:29.7551684;-95.3940619
X-APPLE-STRUCTURED-LOCATION;VALUE=URI;X-ADDRESS=Lambda Center Houston West Clay Street Houston TX 77019 United States;X-APPLE-RADIUS=500;X-TITLE=West Clay Street:geo:-95.3940619,29.7551684
END:VEVENT
BEGIN:VEVENT
DTSTART;TZID=America/Chicago:20251120T200000
DTEND;TZID=America/Chicago:20251120T210000
DTSTAMP:20260423T162141
CREATED:20240715T022757Z
LAST-MODIFIED:20240715T022757Z
UID:10016122-1763668800-1763672400@lambdahouston.org
SUMMARY:Queers of the Stoner Age
DESCRIPTION:Marijuana Anonymous (MA)
URL:https://lambdahouston.org/events/queers-of-the-stoner-age/2025-11-20
LOCATION:Lambda Center Houston\, West Clay Street\, Houston\, TX\, 77019\, United States
CATEGORIES:MA
GEO:29.7551684;-95.3940619
X-APPLE-STRUCTURED-LOCATION;VALUE=URI;X-ADDRESS=Lambda Center Houston West Clay Street Houston TX 77019 United States;X-APPLE-RADIUS=500;X-TITLE=West Clay Street:geo:-95.3940619,29.7551684
END:VEVENT
BEGIN:VEVENT
DTSTART;TZID=America/Chicago:20251116T130000
DTEND;TZID=America/Chicago:20251116T140000
DTSTAMP:20260423T162141
CREATED:20250308T235628Z
LAST-MODIFIED:20260114T214204Z
UID:10027971-1763298000-1763301600@lambdahouston.org
SUMMARY:Turning Over a New Leaf
DESCRIPTION:
URL:https://lambdahouston.org/events/turning-over-a-new-leaf/2025-11-16
LOCATION:Lambda Center Houston\, West Clay Street\, Houston\, TX\, 77019\, United States
CATEGORIES:MA
GEO:29.7551684;-95.3940619
X-APPLE-STRUCTURED-LOCATION;VALUE=URI;X-ADDRESS=Lambda Center Houston West Clay Street Houston TX 77019 United States;X-APPLE-RADIUS=500;X-TITLE=West Clay Street:geo:-95.3940619,29.7551684
END:VEVENT
BEGIN:VEVENT
DTSTART;TZID=America/Chicago:20251113T200000
DTEND;TZID=America/Chicago:20251113T210000
DTSTAMP:20260423T162141
CREATED:20240715T022757Z
LAST-MODIFIED:20240715T022757Z
UID:10016121-1763064000-1763067600@lambdahouston.org
SUMMARY:Queers of the Stoner Age
DESCRIPTION:Marijuana Anonymous (MA)
URL:https://lambdahouston.org/events/queers-of-the-stoner-age/2025-11-13
LOCATION:Lambda Center Houston\, West Clay Street\, Houston\, TX\, 77019\, United States
CATEGORIES:MA
GEO:29.7551684;-95.3940619
X-APPLE-STRUCTURED-LOCATION;VALUE=URI;X-ADDRESS=Lambda Center Houston West Clay Street Houston TX 77019 United States;X-APPLE-RADIUS=500;X-TITLE=West Clay Street:geo:-95.3940619,29.7551684
END:VEVENT
END:VCALENDAR