BEGIN:VCALENDAR
VERSION:2.0
PRODID:-//Lambda Center Houston - ECPv6.15.16//NONSGML v1.0//EN
CALSCALE:GREGORIAN
METHOD:PUBLISH
X-ORIGINAL-URL:https://lambdahouston.org
X-WR-CALDESC:Events for Lambda Center Houston
REFRESH-INTERVAL;VALUE=DURATION:PT1H
X-Robots-Tag:noindex
X-PUBLISHED-TTL:PT1H
BEGIN:VTIMEZONE
TZID:America/Chicago
BEGIN:DAYLIGHT
TZOFFSETFROM:-0600
TZOFFSETTO:-0500
TZNAME:CDT
DTSTART:20250309T080000
END:DAYLIGHT
BEGIN:STANDARD
TZOFFSETFROM:-0500
TZOFFSETTO:-0600
TZNAME:CST
DTSTART:20251102T070000
END:STANDARD
BEGIN:DAYLIGHT
TZOFFSETFROM:-0600
TZOFFSETTO:-0500
TZNAME:CDT
DTSTART:20260308T080000
END:DAYLIGHT
BEGIN:STANDARD
TZOFFSETFROM:-0500
TZOFFSETTO:-0600
TZNAME:CST
DTSTART:20261101T070000
END:STANDARD
BEGIN:DAYLIGHT
TZOFFSETFROM:-0600
TZOFFSETTO:-0500
TZNAME:CDT
DTSTART:20270314T080000
END:DAYLIGHT
BEGIN:STANDARD
TZOFFSETFROM:-0500
TZOFFSETTO:-0600
TZNAME:CST
DTSTART:20271107T070000
END:STANDARD
BEGIN:DAYLIGHT
TZOFFSETFROM:-0600
TZOFFSETTO:-0500
TZNAME:CDT
DTSTART:20280312T080000
END:DAYLIGHT
BEGIN:STANDARD
TZOFFSETFROM:-0500
TZOFFSETTO:-0600
TZNAME:CST
DTSTART:20281105T070000
END:STANDARD
END:VTIMEZONE
BEGIN:VEVENT
DTSTART;TZID=America/Chicago:20261224T183000
DTEND;TZID=America/Chicago:20261224T193000
DTSTAMP:20260424T042455
CREATED:20240715T020854Z
LAST-MODIFIED:20240715T020854Z
UID:10015135-1798137000-1798140600@lambdahouston.org
SUMMARY:LGBTQ+ & Allies SLAA
DESCRIPTION:Sex & Love Addicts Anonymous
URL:https://lambdahouston.org/events/lgbtq-allies-slaa/2026-12-24
LOCATION:Lambda Center Houston\, West Clay Street\, Houston\, TX\, 77019\, United States
CATEGORIES:SLAA
GEO:29.7551684;-95.3940619
X-APPLE-STRUCTURED-LOCATION;VALUE=URI;X-ADDRESS=Lambda Center Houston West Clay Street Houston TX 77019 United States;X-APPLE-RADIUS=500;X-TITLE=West Clay Street:geo:-95.3940619,29.7551684
END:VEVENT
BEGIN:VEVENT
DTSTART;TZID=America/Chicago:20261231T183000
DTEND;TZID=America/Chicago:20261231T193000
DTSTAMP:20260424T042455
CREATED:20240715T020854Z
LAST-MODIFIED:20240715T020854Z
UID:10015136-1798741800-1798745400@lambdahouston.org
SUMMARY:LGBTQ+ & Allies SLAA
DESCRIPTION:Sex & Love Addicts Anonymous
URL:https://lambdahouston.org/events/lgbtq-allies-slaa/2026-12-31
LOCATION:Lambda Center Houston\, West Clay Street\, Houston\, TX\, 77019\, United States
CATEGORIES:SLAA
GEO:29.7551684;-95.3940619
X-APPLE-STRUCTURED-LOCATION;VALUE=URI;X-ADDRESS=Lambda Center Houston West Clay Street Houston TX 77019 United States;X-APPLE-RADIUS=500;X-TITLE=West Clay Street:geo:-95.3940619,29.7551684
END:VEVENT
BEGIN:VEVENT
DTSTART;TZID=America/Chicago:20270107T183000
DTEND;TZID=America/Chicago:20270107T193000
DTSTAMP:20260424T042455
CREATED:20240715T020854Z
LAST-MODIFIED:20240715T020854Z
UID:10015137-1799346600-1799350200@lambdahouston.org
SUMMARY:LGBTQ+ & Allies SLAA
DESCRIPTION:Sex & Love Addicts Anonymous
URL:https://lambdahouston.org/events/lgbtq-allies-slaa/2027-01-07
LOCATION:Lambda Center Houston\, West Clay Street\, Houston\, TX\, 77019\, United States
CATEGORIES:SLAA
GEO:29.7551684;-95.3940619
X-APPLE-STRUCTURED-LOCATION;VALUE=URI;X-ADDRESS=Lambda Center Houston West Clay Street Houston TX 77019 United States;X-APPLE-RADIUS=500;X-TITLE=West Clay Street:geo:-95.3940619,29.7551684
END:VEVENT
BEGIN:VEVENT
DTSTART;TZID=America/Chicago:20270114T183000
DTEND;TZID=America/Chicago:20270114T193000
DTSTAMP:20260424T042455
CREATED:20240715T020854Z
LAST-MODIFIED:20240715T020854Z
UID:10015138-1799951400-1799955000@lambdahouston.org
SUMMARY:LGBTQ+ & Allies SLAA
DESCRIPTION:Sex & Love Addicts Anonymous
URL:https://lambdahouston.org/events/lgbtq-allies-slaa/2027-01-14
LOCATION:Lambda Center Houston\, West Clay Street\, Houston\, TX\, 77019\, United States
CATEGORIES:SLAA
GEO:29.7551684;-95.3940619
X-APPLE-STRUCTURED-LOCATION;VALUE=URI;X-ADDRESS=Lambda Center Houston West Clay Street Houston TX 77019 United States;X-APPLE-RADIUS=500;X-TITLE=West Clay Street:geo:-95.3940619,29.7551684
END:VEVENT
BEGIN:VEVENT
DTSTART;TZID=America/Chicago:20270121T183000
DTEND;TZID=America/Chicago:20270121T193000
DTSTAMP:20260424T042455
CREATED:20240715T020854Z
LAST-MODIFIED:20240715T020854Z
UID:10015139-1800556200-1800559800@lambdahouston.org
SUMMARY:LGBTQ+ & Allies SLAA
DESCRIPTION:Sex & Love Addicts Anonymous
URL:https://lambdahouston.org/events/lgbtq-allies-slaa/2027-01-21
LOCATION:Lambda Center Houston\, West Clay Street\, Houston\, TX\, 77019\, United States
CATEGORIES:SLAA
GEO:29.7551684;-95.3940619
X-APPLE-STRUCTURED-LOCATION;VALUE=URI;X-ADDRESS=Lambda Center Houston West Clay Street Houston TX 77019 United States;X-APPLE-RADIUS=500;X-TITLE=West Clay Street:geo:-95.3940619,29.7551684
END:VEVENT
BEGIN:VEVENT
DTSTART;TZID=America/Chicago:20270128T183000
DTEND;TZID=America/Chicago:20270128T193000
DTSTAMP:20260424T042455
CREATED:20240715T020854Z
LAST-MODIFIED:20240715T020854Z
UID:10015140-1801161000-1801164600@lambdahouston.org
SUMMARY:LGBTQ+ & Allies SLAA
DESCRIPTION:Sex & Love Addicts Anonymous
URL:https://lambdahouston.org/events/lgbtq-allies-slaa/2027-01-28
LOCATION:Lambda Center Houston\, West Clay Street\, Houston\, TX\, 77019\, United States
CATEGORIES:SLAA
GEO:29.7551684;-95.3940619
X-APPLE-STRUCTURED-LOCATION;VALUE=URI;X-ADDRESS=Lambda Center Houston West Clay Street Houston TX 77019 United States;X-APPLE-RADIUS=500;X-TITLE=West Clay Street:geo:-95.3940619,29.7551684
END:VEVENT
BEGIN:VEVENT
DTSTART;TZID=America/Chicago:20270204T183000
DTEND;TZID=America/Chicago:20270204T193000
DTSTAMP:20260424T042455
CREATED:20240715T020854Z
LAST-MODIFIED:20240715T020854Z
UID:10015141-1801765800-1801769400@lambdahouston.org
SUMMARY:LGBTQ+ & Allies SLAA
DESCRIPTION:Sex & Love Addicts Anonymous
URL:https://lambdahouston.org/events/lgbtq-allies-slaa/2027-02-04
LOCATION:Lambda Center Houston\, West Clay Street\, Houston\, TX\, 77019\, United States
CATEGORIES:SLAA
GEO:29.7551684;-95.3940619
X-APPLE-STRUCTURED-LOCATION;VALUE=URI;X-ADDRESS=Lambda Center Houston West Clay Street Houston TX 77019 United States;X-APPLE-RADIUS=500;X-TITLE=West Clay Street:geo:-95.3940619,29.7551684
END:VEVENT
BEGIN:VEVENT
DTSTART;TZID=America/Chicago:20270211T183000
DTEND;TZID=America/Chicago:20270211T193000
DTSTAMP:20260424T042455
CREATED:20240715T020854Z
LAST-MODIFIED:20240715T020854Z
UID:10015142-1802370600-1802374200@lambdahouston.org
SUMMARY:LGBTQ+ & Allies SLAA
DESCRIPTION:Sex & Love Addicts Anonymous
URL:https://lambdahouston.org/events/lgbtq-allies-slaa/2027-02-11
LOCATION:Lambda Center Houston\, West Clay Street\, Houston\, TX\, 77019\, United States
CATEGORIES:SLAA
GEO:29.7551684;-95.3940619
X-APPLE-STRUCTURED-LOCATION;VALUE=URI;X-ADDRESS=Lambda Center Houston West Clay Street Houston TX 77019 United States;X-APPLE-RADIUS=500;X-TITLE=West Clay Street:geo:-95.3940619,29.7551684
END:VEVENT
BEGIN:VEVENT
DTSTART;TZID=America/Chicago:20270218T183000
DTEND;TZID=America/Chicago:20270218T193000
DTSTAMP:20260424T042455
CREATED:20240715T020854Z
LAST-MODIFIED:20240715T020854Z
UID:10015143-1802975400-1802979000@lambdahouston.org
SUMMARY:LGBTQ+ & Allies SLAA
DESCRIPTION:Sex & Love Addicts Anonymous
URL:https://lambdahouston.org/events/lgbtq-allies-slaa/2027-02-18
LOCATION:Lambda Center Houston\, West Clay Street\, Houston\, TX\, 77019\, United States
CATEGORIES:SLAA
GEO:29.7551684;-95.3940619
X-APPLE-STRUCTURED-LOCATION;VALUE=URI;X-ADDRESS=Lambda Center Houston West Clay Street Houston TX 77019 United States;X-APPLE-RADIUS=500;X-TITLE=West Clay Street:geo:-95.3940619,29.7551684
END:VEVENT
BEGIN:VEVENT
DTSTART;TZID=America/Chicago:20270225T183000
DTEND;TZID=America/Chicago:20270225T193000
DTSTAMP:20260424T042455
CREATED:20240715T020854Z
LAST-MODIFIED:20240715T020854Z
UID:10015144-1803580200-1803583800@lambdahouston.org
SUMMARY:LGBTQ+ & Allies SLAA
DESCRIPTION:Sex & Love Addicts Anonymous
URL:https://lambdahouston.org/events/lgbtq-allies-slaa/2027-02-25
LOCATION:Lambda Center Houston\, West Clay Street\, Houston\, TX\, 77019\, United States
CATEGORIES:SLAA
GEO:29.7551684;-95.3940619
X-APPLE-STRUCTURED-LOCATION;VALUE=URI;X-ADDRESS=Lambda Center Houston West Clay Street Houston TX 77019 United States;X-APPLE-RADIUS=500;X-TITLE=West Clay Street:geo:-95.3940619,29.7551684
END:VEVENT
BEGIN:VEVENT
DTSTART;TZID=America/Chicago:20270304T183000
DTEND;TZID=America/Chicago:20270304T193000
DTSTAMP:20260424T042455
CREATED:20240715T020854Z
LAST-MODIFIED:20240715T020854Z
UID:10015145-1804185000-1804188600@lambdahouston.org
SUMMARY:LGBTQ+ & Allies SLAA
DESCRIPTION:Sex & Love Addicts Anonymous
URL:https://lambdahouston.org/events/lgbtq-allies-slaa/2027-03-04
LOCATION:Lambda Center Houston\, West Clay Street\, Houston\, TX\, 77019\, United States
CATEGORIES:SLAA
GEO:29.7551684;-95.3940619
X-APPLE-STRUCTURED-LOCATION;VALUE=URI;X-ADDRESS=Lambda Center Houston West Clay Street Houston TX 77019 United States;X-APPLE-RADIUS=500;X-TITLE=West Clay Street:geo:-95.3940619,29.7551684
END:VEVENT
BEGIN:VEVENT
DTSTART;TZID=America/Chicago:20270311T183000
DTEND;TZID=America/Chicago:20270311T193000
DTSTAMP:20260424T042455
CREATED:20240715T020854Z
LAST-MODIFIED:20240715T020854Z
UID:10015146-1804789800-1804793400@lambdahouston.org
SUMMARY:LGBTQ+ & Allies SLAA
DESCRIPTION:Sex & Love Addicts Anonymous
URL:https://lambdahouston.org/events/lgbtq-allies-slaa/2027-03-11
LOCATION:Lambda Center Houston\, West Clay Street\, Houston\, TX\, 77019\, United States
CATEGORIES:SLAA
GEO:29.7551684;-95.3940619
X-APPLE-STRUCTURED-LOCATION;VALUE=URI;X-ADDRESS=Lambda Center Houston West Clay Street Houston TX 77019 United States;X-APPLE-RADIUS=500;X-TITLE=West Clay Street:geo:-95.3940619,29.7551684
END:VEVENT
BEGIN:VEVENT
DTSTART;TZID=America/Chicago:20270318T183000
DTEND;TZID=America/Chicago:20270318T193000
DTSTAMP:20260424T042455
CREATED:20240715T020854Z
LAST-MODIFIED:20240715T020854Z
UID:10015147-1805394600-1805398200@lambdahouston.org
SUMMARY:LGBTQ+ & Allies SLAA
DESCRIPTION:Sex & Love Addicts Anonymous
URL:https://lambdahouston.org/events/lgbtq-allies-slaa/2027-03-18
LOCATION:Lambda Center Houston\, West Clay Street\, Houston\, TX\, 77019\, United States
CATEGORIES:SLAA
GEO:29.7551684;-95.3940619
X-APPLE-STRUCTURED-LOCATION;VALUE=URI;X-ADDRESS=Lambda Center Houston West Clay Street Houston TX 77019 United States;X-APPLE-RADIUS=500;X-TITLE=West Clay Street:geo:-95.3940619,29.7551684
END:VEVENT
BEGIN:VEVENT
DTSTART;TZID=America/Chicago:20270325T183000
DTEND;TZID=America/Chicago:20270325T193000
DTSTAMP:20260424T042455
CREATED:20240715T020854Z
LAST-MODIFIED:20240715T020854Z
UID:10015148-1805999400-1806003000@lambdahouston.org
SUMMARY:LGBTQ+ & Allies SLAA
DESCRIPTION:Sex & Love Addicts Anonymous
URL:https://lambdahouston.org/events/lgbtq-allies-slaa/2027-03-25
LOCATION:Lambda Center Houston\, West Clay Street\, Houston\, TX\, 77019\, United States
CATEGORIES:SLAA
GEO:29.7551684;-95.3940619
X-APPLE-STRUCTURED-LOCATION;VALUE=URI;X-ADDRESS=Lambda Center Houston West Clay Street Houston TX 77019 United States;X-APPLE-RADIUS=500;X-TITLE=West Clay Street:geo:-95.3940619,29.7551684
END:VEVENT
BEGIN:VEVENT
DTSTART;TZID=America/Chicago:20270401T183000
DTEND;TZID=America/Chicago:20270401T193000
DTSTAMP:20260424T042455
CREATED:20240715T020854Z
LAST-MODIFIED:20240715T020854Z
UID:10015149-1806604200-1806607800@lambdahouston.org
SUMMARY:LGBTQ+ & Allies SLAA
DESCRIPTION:Sex & Love Addicts Anonymous
URL:https://lambdahouston.org/events/lgbtq-allies-slaa/2027-04-01
LOCATION:Lambda Center Houston\, West Clay Street\, Houston\, TX\, 77019\, United States
CATEGORIES:SLAA
GEO:29.7551684;-95.3940619
X-APPLE-STRUCTURED-LOCATION;VALUE=URI;X-ADDRESS=Lambda Center Houston West Clay Street Houston TX 77019 United States;X-APPLE-RADIUS=500;X-TITLE=West Clay Street:geo:-95.3940619,29.7551684
END:VEVENT
BEGIN:VEVENT
DTSTART;TZID=America/Chicago:20270408T183000
DTEND;TZID=America/Chicago:20270408T193000
DTSTAMP:20260424T042455
CREATED:20240715T020854Z
LAST-MODIFIED:20240715T020854Z
UID:10015150-1807209000-1807212600@lambdahouston.org
SUMMARY:LGBTQ+ & Allies SLAA
DESCRIPTION:Sex & Love Addicts Anonymous
URL:https://lambdahouston.org/events/lgbtq-allies-slaa/2027-04-08
LOCATION:Lambda Center Houston\, West Clay Street\, Houston\, TX\, 77019\, United States
CATEGORIES:SLAA
GEO:29.7551684;-95.3940619
X-APPLE-STRUCTURED-LOCATION;VALUE=URI;X-ADDRESS=Lambda Center Houston West Clay Street Houston TX 77019 United States;X-APPLE-RADIUS=500;X-TITLE=West Clay Street:geo:-95.3940619,29.7551684
END:VEVENT
BEGIN:VEVENT
DTSTART;TZID=America/Chicago:20270415T183000
DTEND;TZID=America/Chicago:20270415T193000
DTSTAMP:20260424T042455
CREATED:20240715T020854Z
LAST-MODIFIED:20240715T020854Z
UID:10015151-1807813800-1807817400@lambdahouston.org
SUMMARY:LGBTQ+ & Allies SLAA
DESCRIPTION:Sex & Love Addicts Anonymous
URL:https://lambdahouston.org/events/lgbtq-allies-slaa/2027-04-15
LOCATION:Lambda Center Houston\, West Clay Street\, Houston\, TX\, 77019\, United States
CATEGORIES:SLAA
GEO:29.7551684;-95.3940619
X-APPLE-STRUCTURED-LOCATION;VALUE=URI;X-ADDRESS=Lambda Center Houston West Clay Street Houston TX 77019 United States;X-APPLE-RADIUS=500;X-TITLE=West Clay Street:geo:-95.3940619,29.7551684
END:VEVENT
BEGIN:VEVENT
DTSTART;TZID=America/Chicago:20270422T183000
DTEND;TZID=America/Chicago:20270422T193000
DTSTAMP:20260424T042455
CREATED:20240715T020854Z
LAST-MODIFIED:20240715T020854Z
UID:10015152-1808418600-1808422200@lambdahouston.org
SUMMARY:LGBTQ+ & Allies SLAA
DESCRIPTION:Sex & Love Addicts Anonymous
URL:https://lambdahouston.org/events/lgbtq-allies-slaa/2027-04-22
LOCATION:Lambda Center Houston\, West Clay Street\, Houston\, TX\, 77019\, United States
CATEGORIES:SLAA
GEO:29.7551684;-95.3940619
X-APPLE-STRUCTURED-LOCATION;VALUE=URI;X-ADDRESS=Lambda Center Houston West Clay Street Houston TX 77019 United States;X-APPLE-RADIUS=500;X-TITLE=West Clay Street:geo:-95.3940619,29.7551684
END:VEVENT
BEGIN:VEVENT
DTSTART;TZID=America/Chicago:20270429T183000
DTEND;TZID=America/Chicago:20270429T193000
DTSTAMP:20260424T042455
CREATED:20240715T020854Z
LAST-MODIFIED:20240715T020854Z
UID:10015153-1809023400-1809027000@lambdahouston.org
SUMMARY:LGBTQ+ & Allies SLAA
DESCRIPTION:Sex & Love Addicts Anonymous
URL:https://lambdahouston.org/events/lgbtq-allies-slaa/2027-04-29
LOCATION:Lambda Center Houston\, West Clay Street\, Houston\, TX\, 77019\, United States
CATEGORIES:SLAA
GEO:29.7551684;-95.3940619
X-APPLE-STRUCTURED-LOCATION;VALUE=URI;X-ADDRESS=Lambda Center Houston West Clay Street Houston TX 77019 United States;X-APPLE-RADIUS=500;X-TITLE=West Clay Street:geo:-95.3940619,29.7551684
END:VEVENT
BEGIN:VEVENT
DTSTART;TZID=America/Chicago:20270506T183000
DTEND;TZID=America/Chicago:20270506T193000
DTSTAMP:20260424T042455
CREATED:20240715T020854Z
LAST-MODIFIED:20240715T020854Z
UID:10015154-1809628200-1809631800@lambdahouston.org
SUMMARY:LGBTQ+ & Allies SLAA
DESCRIPTION:Sex & Love Addicts Anonymous
URL:https://lambdahouston.org/events/lgbtq-allies-slaa/2027-05-06
LOCATION:Lambda Center Houston\, West Clay Street\, Houston\, TX\, 77019\, United States
CATEGORIES:SLAA
GEO:29.7551684;-95.3940619
X-APPLE-STRUCTURED-LOCATION;VALUE=URI;X-ADDRESS=Lambda Center Houston West Clay Street Houston TX 77019 United States;X-APPLE-RADIUS=500;X-TITLE=West Clay Street:geo:-95.3940619,29.7551684
END:VEVENT
BEGIN:VEVENT
DTSTART;TZID=America/Chicago:20270513T183000
DTEND;TZID=America/Chicago:20270513T193000
DTSTAMP:20260424T042455
CREATED:20240715T020854Z
LAST-MODIFIED:20240715T020854Z
UID:10015155-1810233000-1810236600@lambdahouston.org
SUMMARY:LGBTQ+ & Allies SLAA
DESCRIPTION:Sex & Love Addicts Anonymous
URL:https://lambdahouston.org/events/lgbtq-allies-slaa/2027-05-13
LOCATION:Lambda Center Houston\, West Clay Street\, Houston\, TX\, 77019\, United States
CATEGORIES:SLAA
GEO:29.7551684;-95.3940619
X-APPLE-STRUCTURED-LOCATION;VALUE=URI;X-ADDRESS=Lambda Center Houston West Clay Street Houston TX 77019 United States;X-APPLE-RADIUS=500;X-TITLE=West Clay Street:geo:-95.3940619,29.7551684
END:VEVENT
BEGIN:VEVENT
DTSTART;TZID=America/Chicago:20270520T183000
DTEND;TZID=America/Chicago:20270520T193000
DTSTAMP:20260424T042455
CREATED:20240715T020854Z
LAST-MODIFIED:20240715T020854Z
UID:10015156-1810837800-1810841400@lambdahouston.org
SUMMARY:LGBTQ+ & Allies SLAA
DESCRIPTION:Sex & Love Addicts Anonymous
URL:https://lambdahouston.org/events/lgbtq-allies-slaa/2027-05-20
LOCATION:Lambda Center Houston\, West Clay Street\, Houston\, TX\, 77019\, United States
CATEGORIES:SLAA
GEO:29.7551684;-95.3940619
X-APPLE-STRUCTURED-LOCATION;VALUE=URI;X-ADDRESS=Lambda Center Houston West Clay Street Houston TX 77019 United States;X-APPLE-RADIUS=500;X-TITLE=West Clay Street:geo:-95.3940619,29.7551684
END:VEVENT
BEGIN:VEVENT
DTSTART;TZID=America/Chicago:20270527T183000
DTEND;TZID=America/Chicago:20270527T193000
DTSTAMP:20260424T042455
CREATED:20240715T020854Z
LAST-MODIFIED:20240715T020854Z
UID:10015157-1811442600-1811446200@lambdahouston.org
SUMMARY:LGBTQ+ & Allies SLAA
DESCRIPTION:Sex & Love Addicts Anonymous
URL:https://lambdahouston.org/events/lgbtq-allies-slaa/2027-05-27
LOCATION:Lambda Center Houston\, West Clay Street\, Houston\, TX\, 77019\, United States
CATEGORIES:SLAA
GEO:29.7551684;-95.3940619
X-APPLE-STRUCTURED-LOCATION;VALUE=URI;X-ADDRESS=Lambda Center Houston West Clay Street Houston TX 77019 United States;X-APPLE-RADIUS=500;X-TITLE=West Clay Street:geo:-95.3940619,29.7551684
END:VEVENT
BEGIN:VEVENT
DTSTART;TZID=America/Chicago:20270603T183000
DTEND;TZID=America/Chicago:20270603T193000
DTSTAMP:20260424T042455
CREATED:20240715T020854Z
LAST-MODIFIED:20240715T020854Z
UID:10015158-1812047400-1812051000@lambdahouston.org
SUMMARY:LGBTQ+ & Allies SLAA
DESCRIPTION:Sex & Love Addicts Anonymous
URL:https://lambdahouston.org/events/lgbtq-allies-slaa/2027-06-03
LOCATION:Lambda Center Houston\, West Clay Street\, Houston\, TX\, 77019\, United States
CATEGORIES:SLAA
GEO:29.7551684;-95.3940619
X-APPLE-STRUCTURED-LOCATION;VALUE=URI;X-ADDRESS=Lambda Center Houston West Clay Street Houston TX 77019 United States;X-APPLE-RADIUS=500;X-TITLE=West Clay Street:geo:-95.3940619,29.7551684
END:VEVENT
BEGIN:VEVENT
DTSTART;TZID=America/Chicago:20270610T183000
DTEND;TZID=America/Chicago:20270610T193000
DTSTAMP:20260424T042455
CREATED:20240715T020854Z
LAST-MODIFIED:20240715T020854Z
UID:10015159-1812652200-1812655800@lambdahouston.org
SUMMARY:LGBTQ+ & Allies SLAA
DESCRIPTION:Sex & Love Addicts Anonymous
URL:https://lambdahouston.org/events/lgbtq-allies-slaa/2027-06-10
LOCATION:Lambda Center Houston\, West Clay Street\, Houston\, TX\, 77019\, United States
CATEGORIES:SLAA
GEO:29.7551684;-95.3940619
X-APPLE-STRUCTURED-LOCATION;VALUE=URI;X-ADDRESS=Lambda Center Houston West Clay Street Houston TX 77019 United States;X-APPLE-RADIUS=500;X-TITLE=West Clay Street:geo:-95.3940619,29.7551684
END:VEVENT
BEGIN:VEVENT
DTSTART;TZID=America/Chicago:20270617T183000
DTEND;TZID=America/Chicago:20270617T193000
DTSTAMP:20260424T042455
CREATED:20240715T020854Z
LAST-MODIFIED:20240715T020854Z
UID:10015160-1813257000-1813260600@lambdahouston.org
SUMMARY:LGBTQ+ & Allies SLAA
DESCRIPTION:Sex & Love Addicts Anonymous
URL:https://lambdahouston.org/events/lgbtq-allies-slaa/2027-06-17
LOCATION:Lambda Center Houston\, West Clay Street\, Houston\, TX\, 77019\, United States
CATEGORIES:SLAA
GEO:29.7551684;-95.3940619
X-APPLE-STRUCTURED-LOCATION;VALUE=URI;X-ADDRESS=Lambda Center Houston West Clay Street Houston TX 77019 United States;X-APPLE-RADIUS=500;X-TITLE=West Clay Street:geo:-95.3940619,29.7551684
END:VEVENT
BEGIN:VEVENT
DTSTART;TZID=America/Chicago:20270624T183000
DTEND;TZID=America/Chicago:20270624T193000
DTSTAMP:20260424T042455
CREATED:20240715T020854Z
LAST-MODIFIED:20240715T020854Z
UID:10015161-1813861800-1813865400@lambdahouston.org
SUMMARY:LGBTQ+ & Allies SLAA
DESCRIPTION:Sex & Love Addicts Anonymous
URL:https://lambdahouston.org/events/lgbtq-allies-slaa/2027-06-24
LOCATION:Lambda Center Houston\, West Clay Street\, Houston\, TX\, 77019\, United States
CATEGORIES:SLAA
GEO:29.7551684;-95.3940619
X-APPLE-STRUCTURED-LOCATION;VALUE=URI;X-ADDRESS=Lambda Center Houston West Clay Street Houston TX 77019 United States;X-APPLE-RADIUS=500;X-TITLE=West Clay Street:geo:-95.3940619,29.7551684
END:VEVENT
BEGIN:VEVENT
DTSTART;TZID=America/Chicago:20270701T183000
DTEND;TZID=America/Chicago:20270701T193000
DTSTAMP:20260424T042455
CREATED:20240715T020854Z
LAST-MODIFIED:20240715T020854Z
UID:10015162-1814466600-1814470200@lambdahouston.org
SUMMARY:LGBTQ+ & Allies SLAA
DESCRIPTION:Sex & Love Addicts Anonymous
URL:https://lambdahouston.org/events/lgbtq-allies-slaa/2027-07-01
LOCATION:Lambda Center Houston\, West Clay Street\, Houston\, TX\, 77019\, United States
CATEGORIES:SLAA
GEO:29.7551684;-95.3940619
X-APPLE-STRUCTURED-LOCATION;VALUE=URI;X-ADDRESS=Lambda Center Houston West Clay Street Houston TX 77019 United States;X-APPLE-RADIUS=500;X-TITLE=West Clay Street:geo:-95.3940619,29.7551684
END:VEVENT
BEGIN:VEVENT
DTSTART;TZID=America/Chicago:20270708T183000
DTEND;TZID=America/Chicago:20270708T193000
DTSTAMP:20260424T042455
CREATED:20240715T020854Z
LAST-MODIFIED:20240715T020854Z
UID:10015163-1815071400-1815075000@lambdahouston.org
SUMMARY:LGBTQ+ & Allies SLAA
DESCRIPTION:Sex & Love Addicts Anonymous
URL:https://lambdahouston.org/events/lgbtq-allies-slaa/2027-07-08
LOCATION:Lambda Center Houston\, West Clay Street\, Houston\, TX\, 77019\, United States
CATEGORIES:SLAA
GEO:29.7551684;-95.3940619
X-APPLE-STRUCTURED-LOCATION;VALUE=URI;X-ADDRESS=Lambda Center Houston West Clay Street Houston TX 77019 United States;X-APPLE-RADIUS=500;X-TITLE=West Clay Street:geo:-95.3940619,29.7551684
END:VEVENT
BEGIN:VEVENT
DTSTART;TZID=America/Chicago:20270715T183000
DTEND;TZID=America/Chicago:20270715T193000
DTSTAMP:20260424T042455
CREATED:20240715T020854Z
LAST-MODIFIED:20240715T020854Z
UID:10015164-1815676200-1815679800@lambdahouston.org
SUMMARY:LGBTQ+ & Allies SLAA
DESCRIPTION:Sex & Love Addicts Anonymous
URL:https://lambdahouston.org/events/lgbtq-allies-slaa/2027-07-15
LOCATION:Lambda Center Houston\, West Clay Street\, Houston\, TX\, 77019\, United States
CATEGORIES:SLAA
GEO:29.7551684;-95.3940619
X-APPLE-STRUCTURED-LOCATION;VALUE=URI;X-ADDRESS=Lambda Center Houston West Clay Street Houston TX 77019 United States;X-APPLE-RADIUS=500;X-TITLE=West Clay Street:geo:-95.3940619,29.7551684
END:VEVENT
END:VCALENDAR