BEGIN:VCALENDAR
VERSION:2.0
PRODID:-//Lambda Center Houston - ECPv6.15.16//NONSGML v1.0//EN
CALSCALE:GREGORIAN
METHOD:PUBLISH
X-WR-CALNAME:Lambda Center Houston
X-ORIGINAL-URL:https://lambdahouston.org
X-WR-CALDESC:Events for Lambda Center Houston
REFRESH-INTERVAL;VALUE=DURATION:PT1H
X-Robots-Tag:noindex
X-PUBLISHED-TTL:PT1H
BEGIN:VTIMEZONE
TZID:America/Chicago
BEGIN:DAYLIGHT
TZOFFSETFROM:-0600
TZOFFSETTO:-0500
TZNAME:CDT
DTSTART:20250309T080000
END:DAYLIGHT
BEGIN:STANDARD
TZOFFSETFROM:-0500
TZOFFSETTO:-0600
TZNAME:CST
DTSTART:20251102T070000
END:STANDARD
BEGIN:DAYLIGHT
TZOFFSETFROM:-0600
TZOFFSETTO:-0500
TZNAME:CDT
DTSTART:20260308T080000
END:DAYLIGHT
BEGIN:STANDARD
TZOFFSETFROM:-0500
TZOFFSETTO:-0600
TZNAME:CST
DTSTART:20261101T070000
END:STANDARD
BEGIN:DAYLIGHT
TZOFFSETFROM:-0600
TZOFFSETTO:-0500
TZNAME:CDT
DTSTART:20270314T080000
END:DAYLIGHT
BEGIN:STANDARD
TZOFFSETFROM:-0500
TZOFFSETTO:-0600
TZNAME:CST
DTSTART:20271107T070000
END:STANDARD
END:VTIMEZONE
BEGIN:VEVENT
DTSTART;TZID=America/Chicago:20260616T230000
DTEND;TZID=America/Chicago:20260616T230000
DTSTAMP:20260424T094406
CREATED:20240715T033509Z
LAST-MODIFIED:20240715T035944Z
UID:10021251-1781650800-1781650800@lambdahouston.org
SUMMARY:Lambda Center Closes
DESCRIPTION:
URL:https://lambdahouston.org/events/lambda-center-closes/2026-06-16
LOCATION:Lambda Center Houston\, West Clay Street\, Houston\, TX\, 77019\, United States
GEO:29.7551684;-95.3940619
X-APPLE-STRUCTURED-LOCATION;VALUE=URI;X-ADDRESS=Lambda Center Houston West Clay Street Houston TX 77019 United States;X-APPLE-RADIUS=500;X-TITLE=West Clay Street:geo:-95.3940619,29.7551684
END:VEVENT
BEGIN:VEVENT
DTSTART;TZID=America/Chicago:20260616T213000
DTEND;TZID=America/Chicago:20260616T223000
DTSTAMP:20260424T094406
CREATED:20250623T200839Z
LAST-MODIFIED:20250623T205152Z
UID:10032141-1781645400-1781649000@lambdahouston.org
SUMMARY:Last Call for Serenity
DESCRIPTION:
URL:https://lambdahouston.org/events/last-call-for-serenity-2/2026-06-16
LOCATION:Lambda Center Houston\, West Clay Street\, Houston\, TX\, 77019\, United States
CATEGORIES:AA
GEO:29.7551684;-95.3940619
X-APPLE-STRUCTURED-LOCATION;VALUE=URI;X-ADDRESS=Lambda Center Houston West Clay Street Houston TX 77019 United States;X-APPLE-RADIUS=500;X-TITLE=West Clay Street:geo:-95.3940619,29.7551684
END:VEVENT
BEGIN:VEVENT
DTSTART;TZID=America/Chicago:20260616T200000
DTEND;TZID=America/Chicago:20260616T210000
DTSTAMP:20260424T094406
CREATED:20240715T013444Z
LAST-MODIFIED:20240715T013444Z
UID:10012759-1781640000-1781643600@lambdahouston.org
SUMMARY:Keep It Simple
DESCRIPTION:
URL:https://lambdahouston.org/events/keep-it-simple/2026-06-16
LOCATION:Lambda Center Houston\, West Clay Street\, Houston\, TX\, 77019\, United States
CATEGORIES:CMA
GEO:29.7551684;-95.3940619
X-APPLE-STRUCTURED-LOCATION;VALUE=URI;X-ADDRESS=Lambda Center Houston West Clay Street Houston TX 77019 United States;X-APPLE-RADIUS=500;X-TITLE=West Clay Street:geo:-95.3940619,29.7551684
END:VEVENT
BEGIN:VEVENT
DTSTART;TZID=America/Chicago:20260616T183000
DTEND;TZID=America/Chicago:20260616T193000
DTSTAMP:20260424T094406
CREATED:20240715T013044Z
LAST-MODIFIED:20240715T013044Z
UID:10012498-1781634600-1781638200@lambdahouston.org
SUMMARY:Double Digit
DESCRIPTION:
URL:https://lambdahouston.org/events/double-digit/2026-06-16
LOCATION:Lambda Center Houston\, West Clay Street\, Houston\, TX\, 77019\, United States
CATEGORIES:AA
GEO:29.7551684;-95.3940619
X-APPLE-STRUCTURED-LOCATION;VALUE=URI;X-ADDRESS=Lambda Center Houston West Clay Street Houston TX 77019 United States;X-APPLE-RADIUS=500;X-TITLE=West Clay Street:geo:-95.3940619,29.7551684
END:VEVENT
BEGIN:VEVENT
DTSTART;TZID=America/Chicago:20260616T180000
DTEND;TZID=America/Chicago:20260616T190000
DTSTAMP:20260424T094406
CREATED:20240715T012540Z
LAST-MODIFIED:20240715T012642Z
UID:10012237-1781632800-1781636400@lambdahouston.org
SUMMARY:Lambda Al-Anon
DESCRIPTION:Lambda Al-Anon Birthday Night is celebrated the last week of every month.
URL:https://lambdahouston.org/events/lambda-al-anon-tuesday/2026-06-16
LOCATION:Lambda Center Houston\, West Clay Street\, Houston\, TX\, 77019\, United States
CATEGORIES:Al-Anon
GEO:29.7551684;-95.3940619
X-APPLE-STRUCTURED-LOCATION;VALUE=URI;X-ADDRESS=Lambda Center Houston West Clay Street Houston TX 77019 United States;X-APPLE-RADIUS=500;X-TITLE=West Clay Street:geo:-95.3940619,29.7551684
END:VEVENT
BEGIN:VEVENT
DTSTART;TZID=America/Chicago:20260616T171500
DTEND;TZID=America/Chicago:20260616T181500
DTSTAMP:20260424T094406
CREATED:20240715T011450Z
LAST-MODIFIED:20240715T011848Z
UID:10011976-1781630100-1781633700@lambdahouston.org
SUMMARY:Unwound
DESCRIPTION:
URL:https://lambdahouston.org/events/unwound/2026-06-16
LOCATION:Lambda Center Houston\, West Clay Street\, Houston\, TX\, 77019\, United States
CATEGORIES:AA
GEO:29.7551684;-95.3940619
X-APPLE-STRUCTURED-LOCATION;VALUE=URI;X-ADDRESS=Lambda Center Houston West Clay Street Houston TX 77019 United States;X-APPLE-RADIUS=500;X-TITLE=West Clay Street:geo:-95.3940619,29.7551684
END:VEVENT
BEGIN:VEVENT
DTSTART;TZID=America/Chicago:20260616T121500
DTEND;TZID=America/Chicago:20260616T131500
DTSTAMP:20260424T094406
CREATED:20240714T234530Z
LAST-MODIFIED:20240714T234633Z
UID:10007739-1781612100-1781615700@lambdahouston.org
SUMMARY:The 12:15 Group
DESCRIPTION:
URL:https://lambdahouston.org/events/the-1215-group/2026-06-16
LOCATION:Lambda Center Houston\, West Clay Street\, Houston\, TX\, 77019\, United States
CATEGORIES:AA
GEO:29.7551684;-95.3940619
X-APPLE-STRUCTURED-LOCATION;VALUE=URI;X-ADDRESS=Lambda Center Houston West Clay Street Houston TX 77019 United States;X-APPLE-RADIUS=500;X-TITLE=West Clay Street:geo:-95.3940619,29.7551684
END:VEVENT
BEGIN:VEVENT
DTSTART;TZID=America/Chicago:20260616T063000
DTEND;TZID=America/Chicago:20260616T073000
DTSTAMP:20260424T094406
CREATED:20240719T140125Z
LAST-MODIFIED:20240719T140125Z
UID:10023596-1781591400-1781595000@lambdahouston.org
SUMMARY:Virtual Eyes Wide Shut
DESCRIPTION:Monday-Friday 6:30 AM\nOpen AA Discussion\nbit.ly/lambdavirtualews\nMeeting ID: 199-058-948 | Passcode: 364724 \n  \nJOIN 6:30 AM MEETING
URL:https://lambdahouston.org/events/virtual-eyes-wide-shut/2026-06-16
LOCATION:Lambda Center Houston\, West Clay Street\, Houston\, TX\, 77019\, United States
CATEGORIES:AA
GEO:29.7551684;-95.3940619
X-APPLE-STRUCTURED-LOCATION;VALUE=URI;X-ADDRESS=Lambda Center Houston West Clay Street Houston TX 77019 United States;X-APPLE-RADIUS=500;X-TITLE=West Clay Street:geo:-95.3940619,29.7551684
END:VEVENT
BEGIN:VEVENT
DTSTART;TZID=America/Chicago:20260616T063000
DTEND;TZID=America/Chicago:20260616T073000
DTSTAMP:20260424T094406
CREATED:20240714T234047Z
LAST-MODIFIED:20240714T234955Z
UID:10006234-1781591400-1781595000@lambdahouston.org
SUMMARY:Eyes Wide Shut (Book Study)
DESCRIPTION:
URL:https://lambdahouston.org/events/eyes-wide-shut-book-study/2026-06-16
LOCATION:Lambda Center Houston\, West Clay Street\, Houston\, TX\, 77019\, United States
CATEGORIES:AA
GEO:29.7551684;-95.3940619
X-APPLE-STRUCTURED-LOCATION;VALUE=URI;X-ADDRESS=Lambda Center Houston West Clay Street Houston TX 77019 United States;X-APPLE-RADIUS=500;X-TITLE=West Clay Street:geo:-95.3940619,29.7551684
END:VEVENT
BEGIN:VEVENT
DTSTART;TZID=America/Chicago:20260616T060000
DTEND;TZID=America/Chicago:20260616T060000
DTSTAMP:20260424T094406
CREATED:20240715T033236Z
LAST-MODIFIED:20240715T135504Z
UID:10019946-1781589600-1781589600@lambdahouston.org
SUMMARY:Lambda Center Opens
DESCRIPTION:
URL:https://lambdahouston.org/events/lambda-center-opens/2026-06-16
LOCATION:Lambda Center Houston\, West Clay Street\, Houston\, TX\, 77019\, United States
GEO:29.7551684;-95.3940619
X-APPLE-STRUCTURED-LOCATION;VALUE=URI;X-ADDRESS=Lambda Center Houston West Clay Street Houston TX 77019 United States;X-APPLE-RADIUS=500;X-TITLE=West Clay Street:geo:-95.3940619,29.7551684
END:VEVENT
BEGIN:VEVENT
DTSTART;TZID=America/Chicago:20260615T230000
DTEND;TZID=America/Chicago:20260615T230000
DTSTAMP:20260424T094406
CREATED:20240715T033509Z
LAST-MODIFIED:20240715T035944Z
UID:10021250-1781564400-1781564400@lambdahouston.org
SUMMARY:Lambda Center Closes
DESCRIPTION:
URL:https://lambdahouston.org/events/lambda-center-closes/2026-06-15
LOCATION:Lambda Center Houston\, West Clay Street\, Houston\, TX\, 77019\, United States
GEO:29.7551684;-95.3940619
X-APPLE-STRUCTURED-LOCATION;VALUE=URI;X-ADDRESS=Lambda Center Houston West Clay Street Houston TX 77019 United States;X-APPLE-RADIUS=500;X-TITLE=West Clay Street:geo:-95.3940619,29.7551684
END:VEVENT
BEGIN:VEVENT
DTSTART;TZID=America/Chicago:20260615T213000
DTEND;TZID=America/Chicago:20260615T223000
DTSTAMP:20260424T094406
CREATED:20250623T200839Z
LAST-MODIFIED:20250623T205152Z
UID:10010810-1781559000-1781562600@lambdahouston.org
SUMMARY:Last Call for Serenity
DESCRIPTION:
URL:https://lambdahouston.org/events/last-call-for-serenity-2/2026-06-15
LOCATION:Lambda Center Houston\, West Clay Street\, Houston\, TX\, 77019\, United States
CATEGORIES:AA
GEO:29.7551684;-95.3940619
X-APPLE-STRUCTURED-LOCATION;VALUE=URI;X-ADDRESS=Lambda Center Houston West Clay Street Houston TX 77019 United States;X-APPLE-RADIUS=500;X-TITLE=West Clay Street:geo:-95.3940619,29.7551684
END:VEVENT
BEGIN:VEVENT
DTSTART;TZID=America/Chicago:20260615T200000
DTEND;TZID=America/Chicago:20260615T200000
DTSTAMP:20260424T094406
CREATED:20240715T010609Z
LAST-MODIFIED:20240715T010609Z
UID:10010149-1781553600-1781553600@lambdahouston.org
SUMMARY:Beginners
DESCRIPTION:
URL:https://lambdahouston.org/events/beginners/2026-06-15
LOCATION:Lambda Center Houston\, West Clay Street\, Houston\, TX\, 77019\, United States
CATEGORIES:AA
GEO:29.7551684;-95.3940619
X-APPLE-STRUCTURED-LOCATION;VALUE=URI;X-ADDRESS=Lambda Center Houston West Clay Street Houston TX 77019 United States;X-APPLE-RADIUS=500;X-TITLE=West Clay Street:geo:-95.3940619,29.7551684
END:VEVENT
BEGIN:VEVENT
DTSTART;TZID=America/Chicago:20260615T184500
DTEND;TZID=America/Chicago:20260615T194500
DTSTAMP:20260424T094406
CREATED:20240715T004614Z
LAST-MODIFIED:20240715T004614Z
UID:10009888-1781549100-1781552700@lambdahouston.org
SUMMARY:Sex\, Intimacy\, and Relationships (Men's Discussion)
DESCRIPTION:
URL:https://lambdahouston.org/events/sex-intimacy-and-relationships-mens-discussion/2026-06-15
LOCATION:Lambda Center Houston\, West Clay Street\, Houston\, TX\, 77019\, United States
CATEGORIES:CMA
GEO:29.7551684;-95.3940619
X-APPLE-STRUCTURED-LOCATION;VALUE=URI;X-ADDRESS=Lambda Center Houston West Clay Street Houston TX 77019 United States;X-APPLE-RADIUS=500;X-TITLE=West Clay Street:geo:-95.3940619,29.7551684
END:VEVENT
BEGIN:VEVENT
DTSTART;TZID=America/Chicago:20260615T183000
DTEND;TZID=America/Chicago:20260615T193000
DTSTAMP:20260424T094406
CREATED:20250909T170902Z
LAST-MODIFIED:20250909T174723Z
UID:10033022-1781548200-1781551800@lambdahouston.org
SUMMARY:Miss Amphetamine
DESCRIPTION:
URL:https://lambdahouston.org/events/miss-amphetamine/2026-06-15
LOCATION:Lambda Center Houston\, West Clay Street\, Houston\, TX\, 77019\, United States
CATEGORIES:CMA,Meetings
GEO:29.7551684;-95.3940619
X-APPLE-STRUCTURED-LOCATION;VALUE=URI;X-ADDRESS=Lambda Center Houston West Clay Street Houston TX 77019 United States;X-APPLE-RADIUS=500;X-TITLE=West Clay Street:geo:-95.3940619,29.7551684
END:VEVENT
BEGIN:VEVENT
DTSTART;TZID=America/Chicago:20260615T183000
DTEND;TZID=America/Chicago:20260615T193000
DTSTAMP:20260424T094406
CREATED:20240715T003558Z
LAST-MODIFIED:20240715T003558Z
UID:10009627-1781548200-1781551800@lambdahouston.org
SUMMARY:Back to Basics (Women's Discussion)
DESCRIPTION:
URL:https://lambdahouston.org/events/back-to-basics-womens-discussion/2026-06-15
LOCATION:Lambda Center Houston\, West Clay Street\, Houston\, TX\, 77019\, United States
CATEGORIES:AA
GEO:29.7551684;-95.3940619
X-APPLE-STRUCTURED-LOCATION;VALUE=URI;X-ADDRESS=Lambda Center Houston West Clay Street Houston TX 77019 United States;X-APPLE-RADIUS=500;X-TITLE=West Clay Street:geo:-95.3940619,29.7551684
END:VEVENT
BEGIN:VEVENT
DTSTART;TZID=America/Chicago:20260615T171500
DTEND;TZID=America/Chicago:20260615T181500
DTSTAMP:20260424T094406
CREATED:20240715T000011Z
LAST-MODIFIED:20240715T011758Z
UID:10009366-1781543700-1781547300@lambdahouston.org
SUMMARY:Keep Coming Back
DESCRIPTION:
URL:https://lambdahouston.org/events/keep-coming-back/2026-06-15
LOCATION:Lambda Center Houston\, West Clay Street\, Houston\, TX\, 77019\, United States
CATEGORIES:AA
GEO:29.7551684;-95.3940619
X-APPLE-STRUCTURED-LOCATION;VALUE=URI;X-ADDRESS=Lambda Center Houston West Clay Street Houston TX 77019 United States;X-APPLE-RADIUS=500;X-TITLE=West Clay Street:geo:-95.3940619,29.7551684
END:VEVENT
BEGIN:VEVENT
DTSTART;TZID=America/Chicago:20260615T121500
DTEND;TZID=America/Chicago:20260615T131500
DTSTAMP:20260424T094406
CREATED:20240714T234923Z
LAST-MODIFIED:20240714T234923Z
UID:10009105-1781525700-1781529300@lambdahouston.org
SUMMARY:The 12:15 Group (Step Study)
DESCRIPTION:
URL:https://lambdahouston.org/events/the-1215-group-step-study/2026-06-15
LOCATION:Lambda Center Houston\, West Clay Street\, Houston\, TX\, 77019\, United States
CATEGORIES:AA
GEO:29.7551684;-95.3940619
X-APPLE-STRUCTURED-LOCATION;VALUE=URI;X-ADDRESS=Lambda Center Houston West Clay Street Houston TX 77019 United States;X-APPLE-RADIUS=500;X-TITLE=West Clay Street:geo:-95.3940619,29.7551684
END:VEVENT
BEGIN:VEVENT
DTSTART;TZID=America/Chicago:20260615T063000
DTEND;TZID=America/Chicago:20260615T073000
DTSTAMP:20260424T094406
CREATED:20240719T140125Z
LAST-MODIFIED:20240719T140125Z
UID:10023595-1781505000-1781508600@lambdahouston.org
SUMMARY:Virtual Eyes Wide Shut
DESCRIPTION:Monday-Friday 6:30 AM\nOpen AA Discussion\nbit.ly/lambdavirtualews\nMeeting ID: 199-058-948 | Passcode: 364724 \n  \nJOIN 6:30 AM MEETING
URL:https://lambdahouston.org/events/virtual-eyes-wide-shut/2026-06-15
LOCATION:Lambda Center Houston\, West Clay Street\, Houston\, TX\, 77019\, United States
CATEGORIES:AA
GEO:29.7551684;-95.3940619
X-APPLE-STRUCTURED-LOCATION;VALUE=URI;X-ADDRESS=Lambda Center Houston West Clay Street Houston TX 77019 United States;X-APPLE-RADIUS=500;X-TITLE=West Clay Street:geo:-95.3940619,29.7551684
END:VEVENT
BEGIN:VEVENT
DTSTART;TZID=America/Chicago:20260615T063000
DTEND;TZID=America/Chicago:20260615T073000
DTSTAMP:20260424T094406
CREATED:20240714T233421Z
LAST-MODIFIED:20240714T233729Z
UID:10002841-1781505000-1781508600@lambdahouston.org
SUMMARY:Eyes Wide Shut
DESCRIPTION:
URL:https://lambdahouston.org/events/eyes-wide-shut/2026-06-15
LOCATION:Lambda Center Houston\, West Clay Street\, Houston\, TX\, 77019\, United States
CATEGORIES:AA
GEO:29.7551684;-95.3940619
X-APPLE-STRUCTURED-LOCATION;VALUE=URI;X-ADDRESS=Lambda Center Houston West Clay Street Houston TX 77019 United States;X-APPLE-RADIUS=500;X-TITLE=West Clay Street:geo:-95.3940619,29.7551684
END:VEVENT
BEGIN:VEVENT
DTSTART;TZID=America/Chicago:20260615T060000
DTEND;TZID=America/Chicago:20260615T060000
DTSTAMP:20260424T094406
CREATED:20240715T033236Z
LAST-MODIFIED:20240715T135504Z
UID:10019945-1781503200-1781503200@lambdahouston.org
SUMMARY:Lambda Center Opens
DESCRIPTION:
URL:https://lambdahouston.org/events/lambda-center-opens/2026-06-15
LOCATION:Lambda Center Houston\, West Clay Street\, Houston\, TX\, 77019\, United States
GEO:29.7551684;-95.3940619
X-APPLE-STRUCTURED-LOCATION;VALUE=URI;X-ADDRESS=Lambda Center Houston West Clay Street Houston TX 77019 United States;X-APPLE-RADIUS=500;X-TITLE=West Clay Street:geo:-95.3940619,29.7551684
END:VEVENT
BEGIN:VEVENT
DTSTART;TZID=America/Chicago:20260614T220000
DTEND;TZID=America/Chicago:20260614T220000
DTSTAMP:20260424T094406
CREATED:20240715T035412Z
LAST-MODIFIED:20240715T135616Z
UID:10022936-1781474400-1781474400@lambdahouston.org
SUMMARY:Lambda Center Closes
DESCRIPTION:
URL:https://lambdahouston.org/events/lambda-center-closes-3/2026-06-14
LOCATION:Lambda Center Houston\, West Clay Street\, Houston\, TX\, 77019\, United States
GEO:29.7551684;-95.3940619
X-APPLE-STRUCTURED-LOCATION;VALUE=URI;X-ADDRESS=Lambda Center Houston West Clay Street Houston TX 77019 United States;X-APPLE-RADIUS=500;X-TITLE=West Clay Street:geo:-95.3940619,29.7551684
END:VEVENT
BEGIN:VEVENT
DTSTART;TZID=America/Chicago:20260614T203000
DTEND;TZID=America/Chicago:20260614T213000
DTSTAMP:20260424T094406
CREATED:20250623T201137Z
LAST-MODIFIED:20250623T205043Z
UID:10031679-1781469000-1781472600@lambdahouston.org
SUMMARY:Last Call for Serenity Sunday
DESCRIPTION:
URL:https://lambdahouston.org/events/last-call-for-serenity-sunday-2/2026-06-14
LOCATION:Lambda Center Houston\, West Clay Street\, Houston\, TX\, 77019\, United States
CATEGORIES:AA
GEO:29.7551684;-95.3940619
X-APPLE-STRUCTURED-LOCATION;VALUE=URI;X-ADDRESS=Lambda Center Houston West Clay Street Houston TX 77019 United States;X-APPLE-RADIUS=500;X-TITLE=West Clay Street:geo:-95.3940619,29.7551684
END:VEVENT
BEGIN:VEVENT
DTSTART;TZID=America/Chicago:20260614T190000
DTEND;TZID=America/Chicago:20260614T200000
DTSTAMP:20260424T094406
CREATED:20250506T003549Z
LAST-MODIFIED:20250506T003549Z
UID:10028255-1781463600-1781467200@lambdahouston.org
SUMMARY:Lambda Al-Anon
DESCRIPTION:
URL:https://lambdahouston.org/events/lambda-al-anon/2026-06-14
LOCATION:Lambda Center Houston\, West Clay Street\, Houston\, TX\, 77019\, United States
CATEGORIES:Al-Anon
GEO:29.7551684;-95.3940619
X-APPLE-STRUCTURED-LOCATION;VALUE=URI;X-ADDRESS=Lambda Center Houston West Clay Street Houston TX 77019 United States;X-APPLE-RADIUS=500;X-TITLE=West Clay Street:geo:-95.3940619,29.7551684
END:VEVENT
BEGIN:VEVENT
DTSTART;TZID=America/Chicago:20260614T190000
DTEND;TZID=America/Chicago:20260614T200000
DTSTAMP:20260424T094406
CREATED:20240714T232711Z
LAST-MODIFIED:20240714T232724Z
UID:10002319-1781463600-1781467200@lambdahouston.org
SUMMARY:PA Solutions
DESCRIPTION:
URL:https://lambdahouston.org/events/pa-solutions/2026-06-14
LOCATION:Lambda Center Houston\, West Clay Street\, Houston\, TX\, 77019\, United States
CATEGORIES:PA
GEO:29.7551684;-95.3940619
X-APPLE-STRUCTURED-LOCATION;VALUE=URI;X-ADDRESS=Lambda Center Houston West Clay Street Houston TX 77019 United States;X-APPLE-RADIUS=500;X-TITLE=West Clay Street:geo:-95.3940619,29.7551684
END:VEVENT
BEGIN:VEVENT
DTSTART;TZID=America/Chicago:20260614T190000
DTEND;TZID=America/Chicago:20260614T200000
DTSTAMP:20260424T094406
CREATED:20240714T231512Z
LAST-MODIFIED:20240714T232212Z
UID:10002057-1781463600-1781467200@lambdahouston.org
SUMMARY:Sunday Evening
DESCRIPTION:
URL:https://lambdahouston.org/events/sunday-evening/2026-06-14
LOCATION:Lambda Center Houston\, West Clay Street\, Houston\, TX\, 77019\, United States
CATEGORIES:AA
GEO:29.7551684;-95.3940619
X-APPLE-STRUCTURED-LOCATION;VALUE=URI;X-ADDRESS=Lambda Center Houston West Clay Street Houston TX 77019 United States;X-APPLE-RADIUS=500;X-TITLE=West Clay Street:geo:-95.3940619,29.7551684
END:VEVENT
BEGIN:VEVENT
DTSTART;TZID=America/Chicago:20260614T173000
DTEND;TZID=America/Chicago:20260614T183000
DTSTAMP:20260424T094406
CREATED:20240714T231133Z
LAST-MODIFIED:20240714T231133Z
UID:10001796-1781458200-1781461800@lambdahouston.org
SUMMARY:Breaking Free
DESCRIPTION:
URL:https://lambdahouston.org/events/breaking-free/2026-06-14
LOCATION:Lambda Center Houston\, West Clay Street\, Houston\, TX\, 77019\, United States
CATEGORIES:CMA
GEO:29.7551684;-95.3940619
X-APPLE-STRUCTURED-LOCATION;VALUE=URI;X-ADDRESS=Lambda Center Houston West Clay Street Houston TX 77019 United States;X-APPLE-RADIUS=500;X-TITLE=West Clay Street:geo:-95.3940619,29.7551684
END:VEVENT
BEGIN:VEVENT
DTSTART;TZID=America/Chicago:20260614T170000
DTEND;TZID=America/Chicago:20260614T180000
DTSTAMP:20260424T094406
CREATED:20250105T191631Z
LAST-MODIFIED:20250623T195737Z
UID:10029149-1781456400-1781460000@lambdahouston.org
SUMMARY:Laundry List
DESCRIPTION:
URL:https://lambdahouston.org/events/laundry-list/2026-06-14
LOCATION:Lambda Center Houston\, West Clay Street\, Houston\, TX\, 77019\, United States
CATEGORIES:ACA
GEO:29.7551684;-95.3940619
X-APPLE-STRUCTURED-LOCATION;VALUE=URI;X-ADDRESS=Lambda Center Houston West Clay Street Houston TX 77019 United States;X-APPLE-RADIUS=500;X-TITLE=West Clay Street:geo:-95.3940619,29.7551684
END:VEVENT
BEGIN:VEVENT
DTSTART;TZID=America/Chicago:20260614T170000
DTEND;TZID=America/Chicago:20260614T180000
DTSTAMP:20260424T094406
CREATED:20240714T230656Z
LAST-MODIFIED:20240714T230656Z
UID:10001535-1781456400-1781460000@lambdahouston.org
SUMMARY:Stretch & Surrender (Yoga & Discussion)
DESCRIPTION:
URL:https://lambdahouston.org/events/stretch-surrender-yoga-discussion/2026-06-14
LOCATION:Lambda Center Houston\, West Clay Street\, Houston\, TX\, 77019\, United States
CATEGORIES:AA
GEO:29.7551684;-95.3940619
X-APPLE-STRUCTURED-LOCATION;VALUE=URI;X-ADDRESS=Lambda Center Houston West Clay Street Houston TX 77019 United States;X-APPLE-RADIUS=500;X-TITLE=West Clay Street:geo:-95.3940619,29.7551684
END:VEVENT
BEGIN:VEVENT
DTSTART;TZID=America/Chicago:20260614T150000
DTEND;TZID=America/Chicago:20260614T160000
DTSTAMP:20260424T094406
CREATED:20250506T003927Z
LAST-MODIFIED:20250506T003927Z
UID:10028517-1781449200-1781452800@lambdahouston.org
SUMMARY:Internet & Technology Addicts Anonymous
DESCRIPTION:
URL:https://lambdahouston.org/events/internet-technology-addicts-anonymous/2026-06-14
LOCATION:Lambda Center Houston\, West Clay Street\, Houston\, TX\, 77019\, United States
CATEGORIES:ITAA
GEO:29.7551684;-95.3940619
X-APPLE-STRUCTURED-LOCATION;VALUE=URI;X-ADDRESS=Lambda Center Houston West Clay Street Houston TX 77019 United States;X-APPLE-RADIUS=500;X-TITLE=West Clay Street:geo:-95.3940619,29.7551684
END:VEVENT
END:VCALENDAR