BEGIN:VCALENDAR
VERSION:2.0
PRODID:-//Lambda Center Houston - ECPv6.15.16//NONSGML v1.0//EN
CALSCALE:GREGORIAN
METHOD:PUBLISH
X-WR-CALNAME:Lambda Center Houston
X-ORIGINAL-URL:https://lambdahouston.org
X-WR-CALDESC:Events for Lambda Center Houston
REFRESH-INTERVAL;VALUE=DURATION:PT1H
X-Robots-Tag:noindex
X-PUBLISHED-TTL:PT1H
BEGIN:VTIMEZONE
TZID:America/Chicago
BEGIN:DAYLIGHT
TZOFFSETFROM:-0600
TZOFFSETTO:-0500
TZNAME:CDT
DTSTART:20250309T080000
END:DAYLIGHT
BEGIN:STANDARD
TZOFFSETFROM:-0500
TZOFFSETTO:-0600
TZNAME:CST
DTSTART:20251102T070000
END:STANDARD
BEGIN:DAYLIGHT
TZOFFSETFROM:-0600
TZOFFSETTO:-0500
TZNAME:CDT
DTSTART:20260308T080000
END:DAYLIGHT
BEGIN:STANDARD
TZOFFSETFROM:-0500
TZOFFSETTO:-0600
TZNAME:CST
DTSTART:20261101T070000
END:STANDARD
BEGIN:DAYLIGHT
TZOFFSETFROM:-0600
TZOFFSETTO:-0500
TZNAME:CDT
DTSTART:20270314T080000
END:DAYLIGHT
BEGIN:STANDARD
TZOFFSETFROM:-0500
TZOFFSETTO:-0600
TZNAME:CST
DTSTART:20271107T070000
END:STANDARD
END:VTIMEZONE
BEGIN:VEVENT
DTSTART;TZID=America/Chicago:20260825T230000
DTEND;TZID=America/Chicago:20260825T230000
DTSTAMP:20260425T083436
CREATED:20240715T033509Z
LAST-MODIFIED:20240715T035944Z
UID:10021301-1787698800-1787698800@lambdahouston.org
SUMMARY:Lambda Center Closes
DESCRIPTION:
URL:https://lambdahouston.org/events/lambda-center-closes/2026-08-25
LOCATION:Lambda Center Houston\, West Clay Street\, Houston\, TX\, 77019\, United States
GEO:29.7551684;-95.3940619
X-APPLE-STRUCTURED-LOCATION;VALUE=URI;X-ADDRESS=Lambda Center Houston West Clay Street Houston TX 77019 United States;X-APPLE-RADIUS=500;X-TITLE=West Clay Street:geo:-95.3940619,29.7551684
END:VEVENT
BEGIN:VEVENT
DTSTART;TZID=America/Chicago:20260825T213000
DTEND;TZID=America/Chicago:20260825T223000
DTSTAMP:20260425T083436
CREATED:20250623T200839Z
LAST-MODIFIED:20250623T205152Z
UID:10032181-1787693400-1787697000@lambdahouston.org
SUMMARY:Last Call for Serenity
DESCRIPTION:
URL:https://lambdahouston.org/events/last-call-for-serenity-2/2026-08-25
LOCATION:Lambda Center Houston\, West Clay Street\, Houston\, TX\, 77019\, United States
CATEGORIES:AA
GEO:29.7551684;-95.3940619
X-APPLE-STRUCTURED-LOCATION;VALUE=URI;X-ADDRESS=Lambda Center Houston West Clay Street Houston TX 77019 United States;X-APPLE-RADIUS=500;X-TITLE=West Clay Street:geo:-95.3940619,29.7551684
END:VEVENT
BEGIN:VEVENT
DTSTART;TZID=America/Chicago:20260825T200000
DTEND;TZID=America/Chicago:20260825T210000
DTSTAMP:20260425T083436
CREATED:20240715T013444Z
LAST-MODIFIED:20240715T013444Z
UID:10012769-1787688000-1787691600@lambdahouston.org
SUMMARY:Keep It Simple
DESCRIPTION:
URL:https://lambdahouston.org/events/keep-it-simple/2026-08-25
LOCATION:Lambda Center Houston\, West Clay Street\, Houston\, TX\, 77019\, United States
CATEGORIES:CMA
GEO:29.7551684;-95.3940619
X-APPLE-STRUCTURED-LOCATION;VALUE=URI;X-ADDRESS=Lambda Center Houston West Clay Street Houston TX 77019 United States;X-APPLE-RADIUS=500;X-TITLE=West Clay Street:geo:-95.3940619,29.7551684
END:VEVENT
BEGIN:VEVENT
DTSTART;TZID=America/Chicago:20260825T183000
DTEND;TZID=America/Chicago:20260825T193000
DTSTAMP:20260425T083436
CREATED:20240715T013044Z
LAST-MODIFIED:20240715T013044Z
UID:10012508-1787682600-1787686200@lambdahouston.org
SUMMARY:Double Digit
DESCRIPTION:
URL:https://lambdahouston.org/events/double-digit/2026-08-25
LOCATION:Lambda Center Houston\, West Clay Street\, Houston\, TX\, 77019\, United States
CATEGORIES:AA
GEO:29.7551684;-95.3940619
X-APPLE-STRUCTURED-LOCATION;VALUE=URI;X-ADDRESS=Lambda Center Houston West Clay Street Houston TX 77019 United States;X-APPLE-RADIUS=500;X-TITLE=West Clay Street:geo:-95.3940619,29.7551684
END:VEVENT
BEGIN:VEVENT
DTSTART;TZID=America/Chicago:20260825T180000
DTEND;TZID=America/Chicago:20260825T190000
DTSTAMP:20260425T083436
CREATED:20240715T012540Z
LAST-MODIFIED:20240715T012642Z
UID:10012247-1787680800-1787684400@lambdahouston.org
SUMMARY:Lambda Al-Anon
DESCRIPTION:Lambda Al-Anon Birthday Night is celebrated the last week of every month.
URL:https://lambdahouston.org/events/lambda-al-anon-tuesday/2026-08-25
LOCATION:Lambda Center Houston\, West Clay Street\, Houston\, TX\, 77019\, United States
CATEGORIES:Al-Anon
GEO:29.7551684;-95.3940619
X-APPLE-STRUCTURED-LOCATION;VALUE=URI;X-ADDRESS=Lambda Center Houston West Clay Street Houston TX 77019 United States;X-APPLE-RADIUS=500;X-TITLE=West Clay Street:geo:-95.3940619,29.7551684
END:VEVENT
BEGIN:VEVENT
DTSTART;TZID=America/Chicago:20260825T171500
DTEND;TZID=America/Chicago:20260825T181500
DTSTAMP:20260425T083436
CREATED:20240715T011450Z
LAST-MODIFIED:20240715T011848Z
UID:10011986-1787678100-1787681700@lambdahouston.org
SUMMARY:Unwound
DESCRIPTION:
URL:https://lambdahouston.org/events/unwound/2026-08-25
LOCATION:Lambda Center Houston\, West Clay Street\, Houston\, TX\, 77019\, United States
CATEGORIES:AA
GEO:29.7551684;-95.3940619
X-APPLE-STRUCTURED-LOCATION;VALUE=URI;X-ADDRESS=Lambda Center Houston West Clay Street Houston TX 77019 United States;X-APPLE-RADIUS=500;X-TITLE=West Clay Street:geo:-95.3940619,29.7551684
END:VEVENT
BEGIN:VEVENT
DTSTART;TZID=America/Chicago:20260825T121500
DTEND;TZID=America/Chicago:20260825T131500
DTSTAMP:20260425T083436
CREATED:20240714T234530Z
LAST-MODIFIED:20240714T234633Z
UID:10007769-1787660100-1787663700@lambdahouston.org
SUMMARY:The 12:15 Group
DESCRIPTION:
URL:https://lambdahouston.org/events/the-1215-group/2026-08-25
LOCATION:Lambda Center Houston\, West Clay Street\, Houston\, TX\, 77019\, United States
CATEGORIES:AA
GEO:29.7551684;-95.3940619
X-APPLE-STRUCTURED-LOCATION;VALUE=URI;X-ADDRESS=Lambda Center Houston West Clay Street Houston TX 77019 United States;X-APPLE-RADIUS=500;X-TITLE=West Clay Street:geo:-95.3940619,29.7551684
END:VEVENT
BEGIN:VEVENT
DTSTART;TZID=America/Chicago:20260825T063000
DTEND;TZID=America/Chicago:20260825T073000
DTSTAMP:20260425T083436
CREATED:20240719T140125Z
LAST-MODIFIED:20240719T140125Z
UID:10023646-1787639400-1787643000@lambdahouston.org
SUMMARY:Virtual Eyes Wide Shut
DESCRIPTION:Monday-Friday 6:30 AM\nOpen AA Discussion\nbit.ly/lambdavirtualews\nMeeting ID: 199-058-948 | Passcode: 364724 \n  \nJOIN 6:30 AM MEETING
URL:https://lambdahouston.org/events/virtual-eyes-wide-shut/2026-08-25
LOCATION:Lambda Center Houston\, West Clay Street\, Houston\, TX\, 77019\, United States
CATEGORIES:AA
GEO:29.7551684;-95.3940619
X-APPLE-STRUCTURED-LOCATION;VALUE=URI;X-ADDRESS=Lambda Center Houston West Clay Street Houston TX 77019 United States;X-APPLE-RADIUS=500;X-TITLE=West Clay Street:geo:-95.3940619,29.7551684
END:VEVENT
BEGIN:VEVENT
DTSTART;TZID=America/Chicago:20260825T063000
DTEND;TZID=America/Chicago:20260825T073000
DTSTAMP:20260425T083437
CREATED:20240714T234047Z
LAST-MODIFIED:20240714T234955Z
UID:10006244-1787639400-1787643000@lambdahouston.org
SUMMARY:Eyes Wide Shut (Book Study)
DESCRIPTION:
URL:https://lambdahouston.org/events/eyes-wide-shut-book-study/2026-08-25
LOCATION:Lambda Center Houston\, West Clay Street\, Houston\, TX\, 77019\, United States
CATEGORIES:AA
GEO:29.7551684;-95.3940619
X-APPLE-STRUCTURED-LOCATION;VALUE=URI;X-ADDRESS=Lambda Center Houston West Clay Street Houston TX 77019 United States;X-APPLE-RADIUS=500;X-TITLE=West Clay Street:geo:-95.3940619,29.7551684
END:VEVENT
BEGIN:VEVENT
DTSTART;TZID=America/Chicago:20260825T060000
DTEND;TZID=America/Chicago:20260825T060000
DTSTAMP:20260425T083437
CREATED:20240715T033236Z
LAST-MODIFIED:20240715T135504Z
UID:10019996-1787637600-1787637600@lambdahouston.org
SUMMARY:Lambda Center Opens
DESCRIPTION:
URL:https://lambdahouston.org/events/lambda-center-opens/2026-08-25
LOCATION:Lambda Center Houston\, West Clay Street\, Houston\, TX\, 77019\, United States
GEO:29.7551684;-95.3940619
X-APPLE-STRUCTURED-LOCATION;VALUE=URI;X-ADDRESS=Lambda Center Houston West Clay Street Houston TX 77019 United States;X-APPLE-RADIUS=500;X-TITLE=West Clay Street:geo:-95.3940619,29.7551684
END:VEVENT
BEGIN:VEVENT
DTSTART;TZID=America/Chicago:20260824T230000
DTEND;TZID=America/Chicago:20260824T230000
DTSTAMP:20260425T083437
CREATED:20240715T033509Z
LAST-MODIFIED:20240715T035944Z
UID:10021300-1787612400-1787612400@lambdahouston.org
SUMMARY:Lambda Center Closes
DESCRIPTION:
URL:https://lambdahouston.org/events/lambda-center-closes/2026-08-24
LOCATION:Lambda Center Houston\, West Clay Street\, Houston\, TX\, 77019\, United States
GEO:29.7551684;-95.3940619
X-APPLE-STRUCTURED-LOCATION;VALUE=URI;X-ADDRESS=Lambda Center Houston West Clay Street Houston TX 77019 United States;X-APPLE-RADIUS=500;X-TITLE=West Clay Street:geo:-95.3940619,29.7551684
END:VEVENT
BEGIN:VEVENT
DTSTART;TZID=America/Chicago:20260824T213000
DTEND;TZID=America/Chicago:20260824T223000
DTSTAMP:20260425T083437
CREATED:20250623T200839Z
LAST-MODIFIED:20250623T205152Z
UID:10010860-1787607000-1787610600@lambdahouston.org
SUMMARY:Last Call for Serenity
DESCRIPTION:
URL:https://lambdahouston.org/events/last-call-for-serenity-2/2026-08-24
LOCATION:Lambda Center Houston\, West Clay Street\, Houston\, TX\, 77019\, United States
CATEGORIES:AA
GEO:29.7551684;-95.3940619
X-APPLE-STRUCTURED-LOCATION;VALUE=URI;X-ADDRESS=Lambda Center Houston West Clay Street Houston TX 77019 United States;X-APPLE-RADIUS=500;X-TITLE=West Clay Street:geo:-95.3940619,29.7551684
END:VEVENT
BEGIN:VEVENT
DTSTART;TZID=America/Chicago:20260824T200000
DTEND;TZID=America/Chicago:20260824T200000
DTSTAMP:20260425T083437
CREATED:20240715T010609Z
LAST-MODIFIED:20240715T010609Z
UID:10010159-1787601600-1787601600@lambdahouston.org
SUMMARY:Beginners
DESCRIPTION:
URL:https://lambdahouston.org/events/beginners/2026-08-24
LOCATION:Lambda Center Houston\, West Clay Street\, Houston\, TX\, 77019\, United States
CATEGORIES:AA
GEO:29.7551684;-95.3940619
X-APPLE-STRUCTURED-LOCATION;VALUE=URI;X-ADDRESS=Lambda Center Houston West Clay Street Houston TX 77019 United States;X-APPLE-RADIUS=500;X-TITLE=West Clay Street:geo:-95.3940619,29.7551684
END:VEVENT
BEGIN:VEVENT
DTSTART;TZID=America/Chicago:20260824T184500
DTEND;TZID=America/Chicago:20260824T194500
DTSTAMP:20260425T083437
CREATED:20240715T004614Z
LAST-MODIFIED:20240715T004614Z
UID:10009898-1787597100-1787600700@lambdahouston.org
SUMMARY:Sex\, Intimacy\, and Relationships (Men's Discussion)
DESCRIPTION:
URL:https://lambdahouston.org/events/sex-intimacy-and-relationships-mens-discussion/2026-08-24
LOCATION:Lambda Center Houston\, West Clay Street\, Houston\, TX\, 77019\, United States
CATEGORIES:CMA
GEO:29.7551684;-95.3940619
X-APPLE-STRUCTURED-LOCATION;VALUE=URI;X-ADDRESS=Lambda Center Houston West Clay Street Houston TX 77019 United States;X-APPLE-RADIUS=500;X-TITLE=West Clay Street:geo:-95.3940619,29.7551684
END:VEVENT
BEGIN:VEVENT
DTSTART;TZID=America/Chicago:20260824T183000
DTEND;TZID=America/Chicago:20260824T193000
DTSTAMP:20260425T083437
CREATED:20250909T170902Z
LAST-MODIFIED:20250909T174723Z
UID:10033032-1787596200-1787599800@lambdahouston.org
SUMMARY:Miss Amphetamine
DESCRIPTION:
URL:https://lambdahouston.org/events/miss-amphetamine/2026-08-24
LOCATION:Lambda Center Houston\, West Clay Street\, Houston\, TX\, 77019\, United States
CATEGORIES:CMA,Meetings
GEO:29.7551684;-95.3940619
X-APPLE-STRUCTURED-LOCATION;VALUE=URI;X-ADDRESS=Lambda Center Houston West Clay Street Houston TX 77019 United States;X-APPLE-RADIUS=500;X-TITLE=West Clay Street:geo:-95.3940619,29.7551684
END:VEVENT
BEGIN:VEVENT
DTSTART;TZID=America/Chicago:20260824T183000
DTEND;TZID=America/Chicago:20260824T193000
DTSTAMP:20260425T083437
CREATED:20240715T003558Z
LAST-MODIFIED:20240715T003558Z
UID:10009637-1787596200-1787599800@lambdahouston.org
SUMMARY:Back to Basics (Women's Discussion)
DESCRIPTION:
URL:https://lambdahouston.org/events/back-to-basics-womens-discussion/2026-08-24
LOCATION:Lambda Center Houston\, West Clay Street\, Houston\, TX\, 77019\, United States
CATEGORIES:AA
GEO:29.7551684;-95.3940619
X-APPLE-STRUCTURED-LOCATION;VALUE=URI;X-ADDRESS=Lambda Center Houston West Clay Street Houston TX 77019 United States;X-APPLE-RADIUS=500;X-TITLE=West Clay Street:geo:-95.3940619,29.7551684
END:VEVENT
BEGIN:VEVENT
DTSTART;TZID=America/Chicago:20260824T171500
DTEND;TZID=America/Chicago:20260824T181500
DTSTAMP:20260425T083437
CREATED:20240715T000011Z
LAST-MODIFIED:20240715T011758Z
UID:10009376-1787591700-1787595300@lambdahouston.org
SUMMARY:Keep Coming Back
DESCRIPTION:
URL:https://lambdahouston.org/events/keep-coming-back/2026-08-24
LOCATION:Lambda Center Houston\, West Clay Street\, Houston\, TX\, 77019\, United States
CATEGORIES:AA
GEO:29.7551684;-95.3940619
X-APPLE-STRUCTURED-LOCATION;VALUE=URI;X-ADDRESS=Lambda Center Houston West Clay Street Houston TX 77019 United States;X-APPLE-RADIUS=500;X-TITLE=West Clay Street:geo:-95.3940619,29.7551684
END:VEVENT
BEGIN:VEVENT
DTSTART;TZID=America/Chicago:20260824T121500
DTEND;TZID=America/Chicago:20260824T131500
DTSTAMP:20260425T083437
CREATED:20240714T234923Z
LAST-MODIFIED:20240714T234923Z
UID:10009115-1787573700-1787577300@lambdahouston.org
SUMMARY:The 12:15 Group (Step Study)
DESCRIPTION:
URL:https://lambdahouston.org/events/the-1215-group-step-study/2026-08-24
LOCATION:Lambda Center Houston\, West Clay Street\, Houston\, TX\, 77019\, United States
CATEGORIES:AA
GEO:29.7551684;-95.3940619
X-APPLE-STRUCTURED-LOCATION;VALUE=URI;X-ADDRESS=Lambda Center Houston West Clay Street Houston TX 77019 United States;X-APPLE-RADIUS=500;X-TITLE=West Clay Street:geo:-95.3940619,29.7551684
END:VEVENT
BEGIN:VEVENT
DTSTART;TZID=America/Chicago:20260824T063000
DTEND;TZID=America/Chicago:20260824T073000
DTSTAMP:20260425T083437
CREATED:20240719T140125Z
LAST-MODIFIED:20240719T140125Z
UID:10023645-1787553000-1787556600@lambdahouston.org
SUMMARY:Virtual Eyes Wide Shut
DESCRIPTION:Monday-Friday 6:30 AM\nOpen AA Discussion\nbit.ly/lambdavirtualews\nMeeting ID: 199-058-948 | Passcode: 364724 \n  \nJOIN 6:30 AM MEETING
URL:https://lambdahouston.org/events/virtual-eyes-wide-shut/2026-08-24
LOCATION:Lambda Center Houston\, West Clay Street\, Houston\, TX\, 77019\, United States
CATEGORIES:AA
GEO:29.7551684;-95.3940619
X-APPLE-STRUCTURED-LOCATION;VALUE=URI;X-ADDRESS=Lambda Center Houston West Clay Street Houston TX 77019 United States;X-APPLE-RADIUS=500;X-TITLE=West Clay Street:geo:-95.3940619,29.7551684
END:VEVENT
BEGIN:VEVENT
DTSTART;TZID=America/Chicago:20260824T063000
DTEND;TZID=America/Chicago:20260824T073000
DTSTAMP:20260425T083437
CREATED:20240714T233421Z
LAST-MODIFIED:20240714T233729Z
UID:10002851-1787553000-1787556600@lambdahouston.org
SUMMARY:Eyes Wide Shut
DESCRIPTION:
URL:https://lambdahouston.org/events/eyes-wide-shut/2026-08-24
LOCATION:Lambda Center Houston\, West Clay Street\, Houston\, TX\, 77019\, United States
CATEGORIES:AA
GEO:29.7551684;-95.3940619
X-APPLE-STRUCTURED-LOCATION;VALUE=URI;X-ADDRESS=Lambda Center Houston West Clay Street Houston TX 77019 United States;X-APPLE-RADIUS=500;X-TITLE=West Clay Street:geo:-95.3940619,29.7551684
END:VEVENT
BEGIN:VEVENT
DTSTART;TZID=America/Chicago:20260824T060000
DTEND;TZID=America/Chicago:20260824T060000
DTSTAMP:20260425T083437
CREATED:20240715T033236Z
LAST-MODIFIED:20240715T135504Z
UID:10019995-1787551200-1787551200@lambdahouston.org
SUMMARY:Lambda Center Opens
DESCRIPTION:
URL:https://lambdahouston.org/events/lambda-center-opens/2026-08-24
LOCATION:Lambda Center Houston\, West Clay Street\, Houston\, TX\, 77019\, United States
GEO:29.7551684;-95.3940619
X-APPLE-STRUCTURED-LOCATION;VALUE=URI;X-ADDRESS=Lambda Center Houston West Clay Street Houston TX 77019 United States;X-APPLE-RADIUS=500;X-TITLE=West Clay Street:geo:-95.3940619,29.7551684
END:VEVENT
BEGIN:VEVENT
DTSTART;TZID=America/Chicago:20260823T220000
DTEND;TZID=America/Chicago:20260823T220000
DTSTAMP:20260425T083437
CREATED:20240715T035412Z
LAST-MODIFIED:20240715T135616Z
UID:10022946-1787522400-1787522400@lambdahouston.org
SUMMARY:Lambda Center Closes
DESCRIPTION:
URL:https://lambdahouston.org/events/lambda-center-closes-3/2026-08-23
LOCATION:Lambda Center Houston\, West Clay Street\, Houston\, TX\, 77019\, United States
GEO:29.7551684;-95.3940619
X-APPLE-STRUCTURED-LOCATION;VALUE=URI;X-ADDRESS=Lambda Center Houston West Clay Street Houston TX 77019 United States;X-APPLE-RADIUS=500;X-TITLE=West Clay Street:geo:-95.3940619,29.7551684
END:VEVENT
BEGIN:VEVENT
DTSTART;TZID=America/Chicago:20260823T203000
DTEND;TZID=America/Chicago:20260823T213000
DTSTAMP:20260425T083437
CREATED:20250623T201137Z
LAST-MODIFIED:20250623T205043Z
UID:10031689-1787517000-1787520600@lambdahouston.org
SUMMARY:Last Call for Serenity Sunday
DESCRIPTION:
URL:https://lambdahouston.org/events/last-call-for-serenity-sunday-2/2026-08-23
LOCATION:Lambda Center Houston\, West Clay Street\, Houston\, TX\, 77019\, United States
CATEGORIES:AA
GEO:29.7551684;-95.3940619
X-APPLE-STRUCTURED-LOCATION;VALUE=URI;X-ADDRESS=Lambda Center Houston West Clay Street Houston TX 77019 United States;X-APPLE-RADIUS=500;X-TITLE=West Clay Street:geo:-95.3940619,29.7551684
END:VEVENT
BEGIN:VEVENT
DTSTART;TZID=America/Chicago:20260823T190000
DTEND;TZID=America/Chicago:20260823T200000
DTSTAMP:20260425T083437
CREATED:20250506T003549Z
LAST-MODIFIED:20250506T003549Z
UID:10028265-1787511600-1787515200@lambdahouston.org
SUMMARY:Lambda Al-Anon
DESCRIPTION:
URL:https://lambdahouston.org/events/lambda-al-anon/2026-08-23
LOCATION:Lambda Center Houston\, West Clay Street\, Houston\, TX\, 77019\, United States
CATEGORIES:Al-Anon
GEO:29.7551684;-95.3940619
X-APPLE-STRUCTURED-LOCATION;VALUE=URI;X-ADDRESS=Lambda Center Houston West Clay Street Houston TX 77019 United States;X-APPLE-RADIUS=500;X-TITLE=West Clay Street:geo:-95.3940619,29.7551684
END:VEVENT
BEGIN:VEVENT
DTSTART;TZID=America/Chicago:20260823T190000
DTEND;TZID=America/Chicago:20260823T200000
DTSTAMP:20260425T083437
CREATED:20240714T232711Z
LAST-MODIFIED:20240714T232724Z
UID:10002329-1787511600-1787515200@lambdahouston.org
SUMMARY:PA Solutions
DESCRIPTION:
URL:https://lambdahouston.org/events/pa-solutions/2026-08-23
LOCATION:Lambda Center Houston\, West Clay Street\, Houston\, TX\, 77019\, United States
CATEGORIES:PA
GEO:29.7551684;-95.3940619
X-APPLE-STRUCTURED-LOCATION;VALUE=URI;X-ADDRESS=Lambda Center Houston West Clay Street Houston TX 77019 United States;X-APPLE-RADIUS=500;X-TITLE=West Clay Street:geo:-95.3940619,29.7551684
END:VEVENT
BEGIN:VEVENT
DTSTART;TZID=America/Chicago:20260823T190000
DTEND;TZID=America/Chicago:20260823T200000
DTSTAMP:20260425T083437
CREATED:20240714T231512Z
LAST-MODIFIED:20240714T232212Z
UID:10002067-1787511600-1787515200@lambdahouston.org
SUMMARY:Sunday Evening
DESCRIPTION:
URL:https://lambdahouston.org/events/sunday-evening/2026-08-23
LOCATION:Lambda Center Houston\, West Clay Street\, Houston\, TX\, 77019\, United States
CATEGORIES:AA
GEO:29.7551684;-95.3940619
X-APPLE-STRUCTURED-LOCATION;VALUE=URI;X-ADDRESS=Lambda Center Houston West Clay Street Houston TX 77019 United States;X-APPLE-RADIUS=500;X-TITLE=West Clay Street:geo:-95.3940619,29.7551684
END:VEVENT
BEGIN:VEVENT
DTSTART;TZID=America/Chicago:20260823T173000
DTEND;TZID=America/Chicago:20260823T183000
DTSTAMP:20260425T083437
CREATED:20240714T231133Z
LAST-MODIFIED:20240714T231133Z
UID:10001806-1787506200-1787509800@lambdahouston.org
SUMMARY:Breaking Free
DESCRIPTION:
URL:https://lambdahouston.org/events/breaking-free/2026-08-23
LOCATION:Lambda Center Houston\, West Clay Street\, Houston\, TX\, 77019\, United States
CATEGORIES:CMA
GEO:29.7551684;-95.3940619
X-APPLE-STRUCTURED-LOCATION;VALUE=URI;X-ADDRESS=Lambda Center Houston West Clay Street Houston TX 77019 United States;X-APPLE-RADIUS=500;X-TITLE=West Clay Street:geo:-95.3940619,29.7551684
END:VEVENT
BEGIN:VEVENT
DTSTART;TZID=America/Chicago:20260823T170000
DTEND;TZID=America/Chicago:20260823T180000
DTSTAMP:20260425T083437
CREATED:20250105T191631Z
LAST-MODIFIED:20250623T195737Z
UID:10029159-1787504400-1787508000@lambdahouston.org
SUMMARY:Laundry List
DESCRIPTION:
URL:https://lambdahouston.org/events/laundry-list/2026-08-23
LOCATION:Lambda Center Houston\, West Clay Street\, Houston\, TX\, 77019\, United States
CATEGORIES:ACA
GEO:29.7551684;-95.3940619
X-APPLE-STRUCTURED-LOCATION;VALUE=URI;X-ADDRESS=Lambda Center Houston West Clay Street Houston TX 77019 United States;X-APPLE-RADIUS=500;X-TITLE=West Clay Street:geo:-95.3940619,29.7551684
END:VEVENT
BEGIN:VEVENT
DTSTART;TZID=America/Chicago:20260823T170000
DTEND;TZID=America/Chicago:20260823T180000
DTSTAMP:20260425T083437
CREATED:20240714T230656Z
LAST-MODIFIED:20240714T230656Z
UID:10001545-1787504400-1787508000@lambdahouston.org
SUMMARY:Stretch & Surrender (Yoga & Discussion)
DESCRIPTION:
URL:https://lambdahouston.org/events/stretch-surrender-yoga-discussion/2026-08-23
LOCATION:Lambda Center Houston\, West Clay Street\, Houston\, TX\, 77019\, United States
CATEGORIES:AA
GEO:29.7551684;-95.3940619
X-APPLE-STRUCTURED-LOCATION;VALUE=URI;X-ADDRESS=Lambda Center Houston West Clay Street Houston TX 77019 United States;X-APPLE-RADIUS=500;X-TITLE=West Clay Street:geo:-95.3940619,29.7551684
END:VEVENT
BEGIN:VEVENT
DTSTART;TZID=America/Chicago:20260823T150000
DTEND;TZID=America/Chicago:20260823T160000
DTSTAMP:20260425T083437
CREATED:20250506T003927Z
LAST-MODIFIED:20250506T003927Z
UID:10028527-1787497200-1787500800@lambdahouston.org
SUMMARY:Internet & Technology Addicts Anonymous
DESCRIPTION:
URL:https://lambdahouston.org/events/internet-technology-addicts-anonymous/2026-08-23
LOCATION:Lambda Center Houston\, West Clay Street\, Houston\, TX\, 77019\, United States
CATEGORIES:ITAA
GEO:29.7551684;-95.3940619
X-APPLE-STRUCTURED-LOCATION;VALUE=URI;X-ADDRESS=Lambda Center Houston West Clay Street Houston TX 77019 United States;X-APPLE-RADIUS=500;X-TITLE=West Clay Street:geo:-95.3940619,29.7551684
END:VEVENT
END:VCALENDAR