BEGIN:VCALENDAR
VERSION:2.0
PRODID:-//Lambda Center Houston - ECPv6.15.16//NONSGML v1.0//EN
CALSCALE:GREGORIAN
METHOD:PUBLISH
X-ORIGINAL-URL:https://lambdahouston.org
X-WR-CALDESC:Events for Lambda Center Houston
REFRESH-INTERVAL;VALUE=DURATION:PT1H
X-Robots-Tag:noindex
X-PUBLISHED-TTL:PT1H
BEGIN:VTIMEZONE
TZID:America/Chicago
BEGIN:DAYLIGHT
TZOFFSETFROM:-0600
TZOFFSETTO:-0500
TZNAME:CDT
DTSTART:20250309T080000
END:DAYLIGHT
BEGIN:STANDARD
TZOFFSETFROM:-0500
TZOFFSETTO:-0600
TZNAME:CST
DTSTART:20251102T070000
END:STANDARD
BEGIN:DAYLIGHT
TZOFFSETFROM:-0600
TZOFFSETTO:-0500
TZNAME:CDT
DTSTART:20260308T080000
END:DAYLIGHT
BEGIN:STANDARD
TZOFFSETFROM:-0500
TZOFFSETTO:-0600
TZNAME:CST
DTSTART:20261101T070000
END:STANDARD
BEGIN:DAYLIGHT
TZOFFSETFROM:-0600
TZOFFSETTO:-0500
TZNAME:CDT
DTSTART:20270314T080000
END:DAYLIGHT
BEGIN:STANDARD
TZOFFSETFROM:-0500
TZOFFSETTO:-0600
TZNAME:CST
DTSTART:20271107T070000
END:STANDARD
END:VTIMEZONE
BEGIN:VEVENT
DTSTART;TZID=America/Chicago:20260122T183000
DTEND;TZID=America/Chicago:20260122T200000
DTSTAMP:20260425T230051
CREATED:20240715T021458Z
LAST-MODIFIED:20240715T021458Z
UID:10015348-1769106600-1769112000@lambdahouston.org
SUMMARY:Big Red Book (90 mins)
DESCRIPTION:
URL:https://lambdahouston.org/events/big-red-book-90-mins/2026-01-22
LOCATION:Lambda Center Houston\, West Clay Street\, Houston\, TX\, 77019\, United States
CATEGORIES:ACA
GEO:29.7551684;-95.3940619
X-APPLE-STRUCTURED-LOCATION;VALUE=URI;X-ADDRESS=Lambda Center Houston West Clay Street Houston TX 77019 United States;X-APPLE-RADIUS=500;X-TITLE=West Clay Street:geo:-95.3940619,29.7551684
END:VEVENT
BEGIN:VEVENT
DTSTART;TZID=America/Chicago:20260122T200000
DTEND;TZID=America/Chicago:20260122T210000
DTSTAMP:20260425T230051
CREATED:20240715T022505Z
LAST-MODIFIED:20240715T022505Z
UID:10015870-1769112000-1769115600@lambdahouston.org
SUMMARY:Are You a Tweaker?
DESCRIPTION:
URL:https://lambdahouston.org/events/are-you-a-tweaker/2026-01-22
LOCATION:Lambda Center Houston\, West Clay Street\, Houston\, TX\, 77019\, United States
CATEGORIES:CMA
GEO:29.7551684;-95.3940619
X-APPLE-STRUCTURED-LOCATION;VALUE=URI;X-ADDRESS=Lambda Center Houston West Clay Street Houston TX 77019 United States;X-APPLE-RADIUS=500;X-TITLE=West Clay Street:geo:-95.3940619,29.7551684
END:VEVENT
BEGIN:VEVENT
DTSTART;TZID=America/Chicago:20260122T200000
DTEND;TZID=America/Chicago:20260122T210000
DTSTAMP:20260425T230051
CREATED:20240715T022757Z
LAST-MODIFIED:20240715T022757Z
UID:10016131-1769112000-1769115600@lambdahouston.org
SUMMARY:Queers of the Stoner Age
DESCRIPTION:Marijuana Anonymous (MA)
URL:https://lambdahouston.org/events/queers-of-the-stoner-age/2026-01-22
LOCATION:Lambda Center Houston\, West Clay Street\, Houston\, TX\, 77019\, United States
CATEGORIES:MA
GEO:29.7551684;-95.3940619
X-APPLE-STRUCTURED-LOCATION;VALUE=URI;X-ADDRESS=Lambda Center Houston West Clay Street Houston TX 77019 United States;X-APPLE-RADIUS=500;X-TITLE=West Clay Street:geo:-95.3940619,29.7551684
END:VEVENT
BEGIN:VEVENT
DTSTART;TZID=America/Chicago:20260122T213000
DTEND;TZID=America/Chicago:20260122T223000
DTSTAMP:20260425T230051
CREATED:20250623T200839Z
LAST-MODIFIED:20250623T205152Z
UID:10032059-1769117400-1769121000@lambdahouston.org
SUMMARY:Last Call for Serenity
DESCRIPTION:
URL:https://lambdahouston.org/events/last-call-for-serenity-2/2026-01-22
LOCATION:Lambda Center Houston\, West Clay Street\, Houston\, TX\, 77019\, United States
CATEGORIES:AA
GEO:29.7551684;-95.3940619
X-APPLE-STRUCTURED-LOCATION;VALUE=URI;X-ADDRESS=Lambda Center Houston West Clay Street Houston TX 77019 United States;X-APPLE-RADIUS=500;X-TITLE=West Clay Street:geo:-95.3940619,29.7551684
END:VEVENT
BEGIN:VEVENT
DTSTART;TZID=America/Chicago:20260122T230000
DTEND;TZID=America/Chicago:20260122T230000
DTSTAMP:20260425T230051
CREATED:20240715T033509Z
LAST-MODIFIED:20240715T035944Z
UID:10021148-1769122800-1769122800@lambdahouston.org
SUMMARY:Lambda Center Closes
DESCRIPTION:
URL:https://lambdahouston.org/events/lambda-center-closes/2026-01-22
LOCATION:Lambda Center Houston\, West Clay Street\, Houston\, TX\, 77019\, United States
GEO:29.7551684;-95.3940619
X-APPLE-STRUCTURED-LOCATION;VALUE=URI;X-ADDRESS=Lambda Center Houston West Clay Street Houston TX 77019 United States;X-APPLE-RADIUS=500;X-TITLE=West Clay Street:geo:-95.3940619,29.7551684
END:VEVENT
BEGIN:VEVENT
DTSTART;TZID=America/Chicago:20260123T060000
DTEND;TZID=America/Chicago:20260123T060000
DTSTAMP:20260425T230051
CREATED:20240715T033236Z
LAST-MODIFIED:20240715T135504Z
UID:10019844-1769148000-1769148000@lambdahouston.org
SUMMARY:Lambda Center Opens
DESCRIPTION:
URL:https://lambdahouston.org/events/lambda-center-opens/2026-01-23
LOCATION:Lambda Center Houston\, West Clay Street\, Houston\, TX\, 77019\, United States
GEO:29.7551684;-95.3940619
X-APPLE-STRUCTURED-LOCATION;VALUE=URI;X-ADDRESS=Lambda Center Houston West Clay Street Houston TX 77019 United States;X-APPLE-RADIUS=500;X-TITLE=West Clay Street:geo:-95.3940619,29.7551684
END:VEVENT
BEGIN:VEVENT
DTSTART;TZID=America/Chicago:20260123T063000
DTEND;TZID=America/Chicago:20260123T073000
DTSTAMP:20260425T230051
CREATED:20240714T233421Z
LAST-MODIFIED:20240714T233729Z
UID:10003502-1769149800-1769153400@lambdahouston.org
SUMMARY:Eyes Wide Shut
DESCRIPTION:
URL:https://lambdahouston.org/events/eyes-wide-shut/2026-01-23
LOCATION:Lambda Center Houston\, West Clay Street\, Houston\, TX\, 77019\, United States
CATEGORIES:AA
GEO:29.7551684;-95.3940619
X-APPLE-STRUCTURED-LOCATION;VALUE=URI;X-ADDRESS=Lambda Center Houston West Clay Street Houston TX 77019 United States;X-APPLE-RADIUS=500;X-TITLE=West Clay Street:geo:-95.3940619,29.7551684
END:VEVENT
BEGIN:VEVENT
DTSTART;TZID=America/Chicago:20260123T063000
DTEND;TZID=America/Chicago:20260123T073000
DTSTAMP:20260425T230051
CREATED:20240719T140125Z
LAST-MODIFIED:20240719T140125Z
UID:10023494-1769149800-1769153400@lambdahouston.org
SUMMARY:Virtual Eyes Wide Shut
DESCRIPTION:Monday-Friday 6:30 AM\nOpen AA Discussion\nbit.ly/lambdavirtualews\nMeeting ID: 199-058-948 | Passcode: 364724 \n  \nJOIN 6:30 AM MEETING
URL:https://lambdahouston.org/events/virtual-eyes-wide-shut/2026-01-23
LOCATION:Lambda Center Houston\, West Clay Street\, Houston\, TX\, 77019\, United States
CATEGORIES:AA
GEO:29.7551684;-95.3940619
X-APPLE-STRUCTURED-LOCATION;VALUE=URI;X-ADDRESS=Lambda Center Houston West Clay Street Houston TX 77019 United States;X-APPLE-RADIUS=500;X-TITLE=West Clay Street:geo:-95.3940619,29.7551684
END:VEVENT
BEGIN:VEVENT
DTSTART;TZID=America/Chicago:20260123T121500
DTEND;TZID=America/Chicago:20260123T131500
DTSTAMP:20260425T230051
CREATED:20240714T234530Z
LAST-MODIFIED:20240714T234633Z
UID:10007678-1769170500-1769174100@lambdahouston.org
SUMMARY:The 12:15 Group
DESCRIPTION:
URL:https://lambdahouston.org/events/the-1215-group/2026-01-23
LOCATION:Lambda Center Houston\, West Clay Street\, Houston\, TX\, 77019\, United States
CATEGORIES:AA
GEO:29.7551684;-95.3940619
X-APPLE-STRUCTURED-LOCATION;VALUE=URI;X-ADDRESS=Lambda Center Houston West Clay Street Houston TX 77019 United States;X-APPLE-RADIUS=500;X-TITLE=West Clay Street:geo:-95.3940619,29.7551684
END:VEVENT
BEGIN:VEVENT
DTSTART;TZID=America/Chicago:20260123T171500
DTEND;TZID=America/Chicago:20260123T181500
DTSTAMP:20260425T230051
CREATED:20240715T023311Z
LAST-MODIFIED:20240715T023311Z
UID:10016392-1769188500-1769192100@lambdahouston.org
SUMMARY:Study and Grow
DESCRIPTION:
URL:https://lambdahouston.org/events/study-and-grow/2026-01-23
LOCATION:Lambda Center Houston\, West Clay Street\, Houston\, TX\, 77019\, United States
CATEGORIES:AA
GEO:29.7551684;-95.3940619
X-APPLE-STRUCTURED-LOCATION;VALUE=URI;X-ADDRESS=Lambda Center Houston West Clay Street Houston TX 77019 United States;X-APPLE-RADIUS=500;X-TITLE=West Clay Street:geo:-95.3940619,29.7551684
END:VEVENT
BEGIN:VEVENT
DTSTART;TZID=America/Chicago:20260123T183000
DTEND;TZID=America/Chicago:20260123T193000
DTSTAMP:20260425T230051
CREATED:20240715T023703Z
LAST-MODIFIED:20240715T024155Z
UID:10016653-1769193000-1769196600@lambdahouston.org
SUMMARY:Positive Sobriety
DESCRIPTION:
URL:https://lambdahouston.org/events/positive-sobriety/2026-01-23
LOCATION:Lambda Center Houston\, West Clay Street\, Houston\, TX\, 77019\, United States
CATEGORIES:AA
GEO:29.7551684;-95.3940619
X-APPLE-STRUCTURED-LOCATION;VALUE=URI;X-ADDRESS=Lambda Center Houston West Clay Street Houston TX 77019 United States;X-APPLE-RADIUS=500;X-TITLE=West Clay Street:geo:-95.3940619,29.7551684
END:VEVENT
BEGIN:VEVENT
DTSTART;TZID=America/Chicago:20260123T183000
DTEND;TZID=America/Chicago:20260123T193000
DTSTAMP:20260425T230052
CREATED:20250105T191127Z
LAST-MODIFIED:20250105T191129Z
UID:10026136-1769193000-1769196600@lambdahouston.org
SUMMARY:Free Spirits
DESCRIPTION:
URL:https://lambdahouston.org/events/free-spirits/2026-01-23
LOCATION:Lambda Center Houston\, West Clay Street\, Houston\, TX\, 77019\, United States
CATEGORIES:ACA
GEO:29.7551684;-95.3940619
X-APPLE-STRUCTURED-LOCATION;VALUE=URI;X-ADDRESS=Lambda Center Houston West Clay Street Houston TX 77019 United States;X-APPLE-RADIUS=500;X-TITLE=West Clay Street:geo:-95.3940619,29.7551684
END:VEVENT
BEGIN:VEVENT
DTSTART;TZID=America/Chicago:20260123T194500
DTEND;TZID=America/Chicago:20260123T204500
DTSTAMP:20260425T230052
CREATED:20240715T024046Z
LAST-MODIFIED:20240715T024046Z
UID:10016914-1769197500-1769201100@lambdahouston.org
SUMMARY:The 10th Step Group
DESCRIPTION:
URL:https://lambdahouston.org/events/the-10th-step-group/2026-01-23
LOCATION:Lambda Center Houston\, West Clay Street\, Houston\, TX\, 77019\, United States
CATEGORIES:AA
GEO:29.7551684;-95.3940619
X-APPLE-STRUCTURED-LOCATION;VALUE=URI;X-ADDRESS=Lambda Center Houston West Clay Street Houston TX 77019 United States;X-APPLE-RADIUS=500;X-TITLE=West Clay Street:geo:-95.3940619,29.7551684
END:VEVENT
BEGIN:VEVENT
DTSTART;TZID=America/Chicago:20260123T200000
DTEND;TZID=America/Chicago:20260123T210000
DTSTAMP:20260425T230052
CREATED:20240715T024356Z
LAST-MODIFIED:20240715T024356Z
UID:10017175-1769198400-1769202000@lambdahouston.org
SUMMARY:The Young and The Restless
DESCRIPTION:
URL:https://lambdahouston.org/events/the-young-and-the-restless/2026-01-23
LOCATION:Lambda Center Houston\, West Clay Street\, Houston\, TX\, 77019\, United States
CATEGORIES:CMA
GEO:29.7551684;-95.3940619
X-APPLE-STRUCTURED-LOCATION;VALUE=URI;X-ADDRESS=Lambda Center Houston West Clay Street Houston TX 77019 United States;X-APPLE-RADIUS=500;X-TITLE=West Clay Street:geo:-95.3940619,29.7551684
END:VEVENT
BEGIN:VEVENT
DTSTART;TZID=America/Chicago:20260123T213000
DTEND;TZID=America/Chicago:20260123T223000
DTSTAMP:20260425T230052
CREATED:20250623T200839Z
LAST-MODIFIED:20250623T205152Z
UID:10032060-1769203800-1769207400@lambdahouston.org
SUMMARY:Last Call for Serenity
DESCRIPTION:
URL:https://lambdahouston.org/events/last-call-for-serenity-2/2026-01-23
LOCATION:Lambda Center Houston\, West Clay Street\, Houston\, TX\, 77019\, United States
CATEGORIES:AA
GEO:29.7551684;-95.3940619
X-APPLE-STRUCTURED-LOCATION;VALUE=URI;X-ADDRESS=Lambda Center Houston West Clay Street Houston TX 77019 United States;X-APPLE-RADIUS=500;X-TITLE=West Clay Street:geo:-95.3940619,29.7551684
END:VEVENT
BEGIN:VEVENT
DTSTART;TZID=America/Chicago:20260123T230000
DTEND;TZID=America/Chicago:20260123T230000
DTSTAMP:20260425T230052
CREATED:20240715T033509Z
LAST-MODIFIED:20240715T035944Z
UID:10021149-1769209200-1769209200@lambdahouston.org
SUMMARY:Lambda Center Closes
DESCRIPTION:
URL:https://lambdahouston.org/events/lambda-center-closes/2026-01-23
LOCATION:Lambda Center Houston\, West Clay Street\, Houston\, TX\, 77019\, United States
GEO:29.7551684;-95.3940619
X-APPLE-STRUCTURED-LOCATION;VALUE=URI;X-ADDRESS=Lambda Center Houston West Clay Street Houston TX 77019 United States;X-APPLE-RADIUS=500;X-TITLE=West Clay Street:geo:-95.3940619,29.7551684
END:VEVENT
BEGIN:VEVENT
DTSTART;TZID=America/Chicago:20260124T080000
DTEND;TZID=America/Chicago:20260124T080000
DTSTAMP:20260425T230052
CREATED:20240715T034549Z
LAST-MODIFIED:20240715T135408Z
UID:10022134-1769241600-1769241600@lambdahouston.org
SUMMARY:Lambda Center Opens
DESCRIPTION:
URL:https://lambdahouston.org/events/lambda-center-opens-2/2026-01-24
LOCATION:Lambda Center Houston\, West Clay Street\, Houston\, TX\, 77019\, United States
GEO:29.7551684;-95.3940619
X-APPLE-STRUCTURED-LOCATION;VALUE=URI;X-ADDRESS=Lambda Center Houston West Clay Street Houston TX 77019 United States;X-APPLE-RADIUS=500;X-TITLE=West Clay Street:geo:-95.3940619,29.7551684
END:VEVENT
BEGIN:VEVENT
DTSTART;TZID=America/Chicago:20260124T083000
DTEND;TZID=America/Chicago:20260124T093000
DTSTAMP:20260425T230052
CREATED:20240715T024602Z
LAST-MODIFIED:20240715T024602Z
UID:10017436-1769243400-1769247000@lambdahouston.org
SUMMARY:Early Bird
DESCRIPTION:
URL:https://lambdahouston.org/events/early-bird/2026-01-24
LOCATION:Lambda Center Houston\, West Clay Street\, Houston\, TX\, 77019\, United States
CATEGORIES:AA
GEO:29.7551684;-95.3940619
X-APPLE-STRUCTURED-LOCATION;VALUE=URI;X-ADDRESS=Lambda Center Houston West Clay Street Houston TX 77019 United States;X-APPLE-RADIUS=500;X-TITLE=West Clay Street:geo:-95.3940619,29.7551684
END:VEVENT
BEGIN:VEVENT
DTSTART;TZID=America/Chicago:20260124T100000
DTEND;TZID=America/Chicago:20260124T110000
DTSTAMP:20260425T230052
CREATED:20240715T024855Z
LAST-MODIFIED:20240715T024855Z
UID:10017697-1769248800-1769252400@lambdahouston.org
SUMMARY:The 11th Step Group
DESCRIPTION:
URL:https://lambdahouston.org/events/the-11th-step-group/2026-01-24
LOCATION:Lambda Center Houston\, West Clay Street\, Houston\, TX\, 77019\, United States
CATEGORIES:AA
GEO:29.7551684;-95.3940619
X-APPLE-STRUCTURED-LOCATION;VALUE=URI;X-ADDRESS=Lambda Center Houston West Clay Street Houston TX 77019 United States;X-APPLE-RADIUS=500;X-TITLE=West Clay Street:geo:-95.3940619,29.7551684
END:VEVENT
BEGIN:VEVENT
DTSTART;TZID=America/Chicago:20260124T100000
DTEND;TZID=America/Chicago:20260124T110000
DTSTAMP:20260425T230052
CREATED:20240715T025304Z
LAST-MODIFIED:20240715T025304Z
UID:10017958-1769248800-1769252400@lambdahouston.org
SUMMARY:4th Dimension (Women's Discussion)
DESCRIPTION:
URL:https://lambdahouston.org/events/4th-dimension-womens-discussion/2026-01-24
LOCATION:Lambda Center Houston\, West Clay Street\, Houston\, TX\, 77019\, United States
CATEGORIES:AA
GEO:29.7551684;-95.3940619
X-APPLE-STRUCTURED-LOCATION;VALUE=URI;X-ADDRESS=Lambda Center Houston West Clay Street Houston TX 77019 United States;X-APPLE-RADIUS=500;X-TITLE=West Clay Street:geo:-95.3940619,29.7551684
END:VEVENT
BEGIN:VEVENT
DTSTART;TZID=America/Chicago:20260124T113000
DTEND;TZID=America/Chicago:20260124T123000
DTSTAMP:20260425T230052
CREATED:20240715T025611Z
LAST-MODIFIED:20240715T025611Z
UID:10018219-1769254200-1769257800@lambdahouston.org
SUMMARY:Eye Opener
DESCRIPTION:
URL:https://lambdahouston.org/events/eye-opener/2026-01-24
LOCATION:Lambda Center Houston\, West Clay Street\, Houston\, TX\, 77019\, United States
CATEGORIES:AA
GEO:29.7551684;-95.3940619
X-APPLE-STRUCTURED-LOCATION;VALUE=URI;X-ADDRESS=Lambda Center Houston West Clay Street Houston TX 77019 United States;X-APPLE-RADIUS=500;X-TITLE=West Clay Street:geo:-95.3940619,29.7551684
END:VEVENT
BEGIN:VEVENT
DTSTART;TZID=America/Chicago:20260124T113000
DTEND;TZID=America/Chicago:20260124T130000
DTSTAMP:20260425T230052
CREATED:20240715T030301Z
LAST-MODIFIED:20240715T030301Z
UID:10018480-1769254200-1769259600@lambdahouston.org
SUMMARY:Loving Parent Guidebook (90 mins)
DESCRIPTION:
URL:https://lambdahouston.org/events/loving-parent-guidebook-90-mins/2026-01-24
LOCATION:Lambda Center Houston\, West Clay Street\, Houston\, TX\, 77019\, United States
CATEGORIES:ACA
GEO:29.7551684;-95.3940619
X-APPLE-STRUCTURED-LOCATION;VALUE=URI;X-ADDRESS=Lambda Center Houston West Clay Street Houston TX 77019 United States;X-APPLE-RADIUS=500;X-TITLE=West Clay Street:geo:-95.3940619,29.7551684
END:VEVENT
BEGIN:VEVENT
DTSTART;TZID=America/Chicago:20260124T150000
DTEND;TZID=America/Chicago:20260124T160000
DTSTAMP:20260425T230052
CREATED:20240715T030647Z
LAST-MODIFIED:20240715T030647Z
UID:10018741-1769266800-1769270400@lambdahouston.org
SUMMARY:Meditate & Create
DESCRIPTION:
URL:https://lambdahouston.org/events/meditate-create/2026-01-24
LOCATION:Lambda Center Houston\, West Clay Street\, Houston\, TX\, 77019\, United States
CATEGORIES:AA
GEO:29.7551684;-95.3940619
X-APPLE-STRUCTURED-LOCATION;VALUE=URI;X-ADDRESS=Lambda Center Houston West Clay Street Houston TX 77019 United States;X-APPLE-RADIUS=500;X-TITLE=West Clay Street:geo:-95.3940619,29.7551684
END:VEVENT
BEGIN:VEVENT
DTSTART;TZID=America/Chicago:20260124T190000
DTEND;TZID=America/Chicago:20260124T200000
DTSTAMP:20260425T230052
CREATED:20240715T031101Z
LAST-MODIFIED:20240715T031135Z
UID:10018984-1769281200-1769284800@lambdahouston.org
SUMMARY:Saturday Night Live
DESCRIPTION:Every Saturday except for the last Saturday of the month.
URL:https://lambdahouston.org/events/saturday-night-live/2026-01-24
LOCATION:Lambda Center Houston\, West Clay Street\, Houston\, TX\, 77019\, United States
CATEGORIES:AA
GEO:29.7551684;-95.3940619
X-APPLE-STRUCTURED-LOCATION;VALUE=URI;X-ADDRESS=Lambda Center Houston West Clay Street Houston TX 77019 United States;X-APPLE-RADIUS=500;X-TITLE=West Clay Street:geo:-95.3940619,29.7551684
END:VEVENT
BEGIN:VEVENT
DTSTART;TZID=America/Chicago:20260124T203000
DTEND;TZID=America/Chicago:20260124T213000
DTSTAMP:20260425T230052
CREATED:20240715T032739Z
LAST-MODIFIED:20250601T152213Z
UID:10028846-1769286600-1769290200@lambdahouston.org
SUMMARY:Candlelight Meeting
DESCRIPTION:
URL:https://lambdahouston.org/events/candlelight-meeting/2026-01-24
LOCATION:Lambda Center Houston\, West Clay Street\, Houston\, TX\, 77019\, United States
CATEGORIES:CMA
GEO:29.7551684;-95.3940619
X-APPLE-STRUCTURED-LOCATION;VALUE=URI;X-ADDRESS=Lambda Center Houston West Clay Street Houston TX 77019 United States;X-APPLE-RADIUS=500;X-TITLE=West Clay Street:geo:-95.3940619,29.7551684
END:VEVENT
BEGIN:VEVENT
DTSTART;TZID=America/Chicago:20260124T230000
DTEND;TZID=America/Chicago:20260124T230000
DTSTAMP:20260425T230052
CREATED:20240715T034712Z
LAST-MODIFIED:20240715T135633Z
UID:10022395-1769295600-1769295600@lambdahouston.org
SUMMARY:Lambda Center Closes
DESCRIPTION:
URL:https://lambdahouston.org/events/lambda-center-closes-2/2026-01-24
LOCATION:Lambda Center Houston\, West Clay Street\, Houston\, TX\, 77019\, United States
GEO:29.7551684;-95.3940619
X-APPLE-STRUCTURED-LOCATION;VALUE=URI;X-ADDRESS=Lambda Center Houston West Clay Street Houston TX 77019 United States;X-APPLE-RADIUS=500;X-TITLE=West Clay Street:geo:-95.3940619,29.7551684
END:VEVENT
BEGIN:VEVENT
DTSTART;TZID=America/Chicago:20260125T090000
DTEND;TZID=America/Chicago:20260125T090000
DTSTAMP:20260425T230052
CREATED:20240715T034904Z
LAST-MODIFIED:20240715T135258Z
UID:10022656-1769331600-1769331600@lambdahouston.org
SUMMARY:Lambda Center Opens
DESCRIPTION:
URL:https://lambdahouston.org/events/lambda-center-opens-3/2026-01-25
LOCATION:Lambda Center Houston\, West Clay Street\, Houston\, TX\, 77019\, United States
GEO:29.7551684;-95.3940619
X-APPLE-STRUCTURED-LOCATION;VALUE=URI;X-ADDRESS=Lambda Center Houston West Clay Street Houston TX 77019 United States;X-APPLE-RADIUS=500;X-TITLE=West Clay Street:geo:-95.3940619,29.7551684
END:VEVENT
BEGIN:VEVENT
DTSTART;TZID=America/Chicago:20260125T093000
DTEND;TZID=America/Chicago:20260125T100000
DTSTAMP:20260425T230052
CREATED:20240714T150551Z
LAST-MODIFIED:20240714T150711Z
UID:10000731-1769333400-1769335200@lambdahouston.org
SUMMARY:Came to Believe
DESCRIPTION:
URL:https://lambdahouston.org/events/came-to-believe/2026-01-25
LOCATION:Lambda Center Houston\, West Clay Street\, Houston\, TX\, 77019\, United States
CATEGORIES:AA
GEO:29.7551684;-95.3940619
X-APPLE-STRUCTURED-LOCATION;VALUE=URI;X-ADDRESS=Lambda Center Houston West Clay Street Houston TX 77019 United States;X-APPLE-RADIUS=500;X-TITLE=West Clay Street:geo:-95.3940619,29.7551684
END:VEVENT
BEGIN:VEVENT
DTSTART;TZID=America/Chicago:20260125T093000
DTEND;TZID=America/Chicago:20260125T103000
DTSTAMP:20260425T230052
CREATED:20240719T141047Z
LAST-MODIFIED:20240719T141047Z
UID:10025005-1769333400-1769337000@lambdahouston.org
SUMMARY:Virtual Came to Believe
DESCRIPTION:Sunday 9:30 AM\nOpen AA Discussion\nbit.ly/lambdasun930\nMeeting ID: 236-304-186 | Passcode: 878696 \nJOIN MEETING
URL:https://lambdahouston.org/events/virtual-came-to-believe/2026-01-25
LOCATION:Zoom
CATEGORIES:AA
END:VEVENT
BEGIN:VEVENT
DTSTART;TZID=America/Chicago:20260125T104500
DTEND;TZID=America/Chicago:20260125T114500
DTSTAMP:20260425T230052
CREATED:20240719T141309Z
LAST-MODIFIED:20240719T141309Z
UID:10025266-1769337900-1769341500@lambdahouston.org
SUMMARY:Virtual Sunday ACA
DESCRIPTION:Sunday 10:45 PM\nOpen ACA Discussion\nbit.ly/lambdaaca\nMeeting ID: 898-5987-2968 | Passcode: None (Waiting Room) \nJOIN MEETING
URL:https://lambdahouston.org/events/virtual-sunday-aca/2026-01-25
LOCATION:Zoom
CATEGORIES:ACA
END:VEVENT
END:VCALENDAR