BEGIN:VCALENDAR
VERSION:2.0
PRODID:-//Lambda Center Houston - ECPv6.15.16//NONSGML v1.0//EN
CALSCALE:GREGORIAN
METHOD:PUBLISH
X-WR-CALNAME:Lambda Center Houston
X-ORIGINAL-URL:https://lambdahouston.org
X-WR-CALDESC:Events for Lambda Center Houston
REFRESH-INTERVAL;VALUE=DURATION:PT1H
X-Robots-Tag:noindex
X-PUBLISHED-TTL:PT1H
BEGIN:VTIMEZONE
TZID:America/Chicago
BEGIN:DAYLIGHT
TZOFFSETFROM:-0600
TZOFFSETTO:-0500
TZNAME:CDT
DTSTART:20250309T080000
END:DAYLIGHT
BEGIN:STANDARD
TZOFFSETFROM:-0500
TZOFFSETTO:-0600
TZNAME:CST
DTSTART:20251102T070000
END:STANDARD
BEGIN:DAYLIGHT
TZOFFSETFROM:-0600
TZOFFSETTO:-0500
TZNAME:CDT
DTSTART:20260308T080000
END:DAYLIGHT
BEGIN:STANDARD
TZOFFSETFROM:-0500
TZOFFSETTO:-0600
TZNAME:CST
DTSTART:20261101T070000
END:STANDARD
BEGIN:DAYLIGHT
TZOFFSETFROM:-0600
TZOFFSETTO:-0500
TZNAME:CDT
DTSTART:20270314T080000
END:DAYLIGHT
BEGIN:STANDARD
TZOFFSETFROM:-0500
TZOFFSETTO:-0600
TZNAME:CST
DTSTART:20271107T070000
END:STANDARD
END:VTIMEZONE
BEGIN:VEVENT
DTSTART;TZID=America/Chicago:20260823T220000
DTEND;TZID=America/Chicago:20260823T220000
DTSTAMP:20260425T052221
CREATED:20240715T035412Z
LAST-MODIFIED:20240715T135616Z
UID:10022946-1787522400-1787522400@lambdahouston.org
SUMMARY:Lambda Center Closes
DESCRIPTION:
URL:https://lambdahouston.org/events/lambda-center-closes-3/2026-08-23
LOCATION:Lambda Center Houston\, West Clay Street\, Houston\, TX\, 77019\, United States
GEO:29.7551684;-95.3940619
X-APPLE-STRUCTURED-LOCATION;VALUE=URI;X-ADDRESS=Lambda Center Houston West Clay Street Houston TX 77019 United States;X-APPLE-RADIUS=500;X-TITLE=West Clay Street:geo:-95.3940619,29.7551684
END:VEVENT
BEGIN:VEVENT
DTSTART;TZID=America/Chicago:20260823T203000
DTEND;TZID=America/Chicago:20260823T213000
DTSTAMP:20260425T052221
CREATED:20250623T201137Z
LAST-MODIFIED:20250623T205043Z
UID:10031689-1787517000-1787520600@lambdahouston.org
SUMMARY:Last Call for Serenity Sunday
DESCRIPTION:
URL:https://lambdahouston.org/events/last-call-for-serenity-sunday-2/2026-08-23
LOCATION:Lambda Center Houston\, West Clay Street\, Houston\, TX\, 77019\, United States
CATEGORIES:AA
GEO:29.7551684;-95.3940619
X-APPLE-STRUCTURED-LOCATION;VALUE=URI;X-ADDRESS=Lambda Center Houston West Clay Street Houston TX 77019 United States;X-APPLE-RADIUS=500;X-TITLE=West Clay Street:geo:-95.3940619,29.7551684
END:VEVENT
BEGIN:VEVENT
DTSTART;TZID=America/Chicago:20260823T190000
DTEND;TZID=America/Chicago:20260823T200000
DTSTAMP:20260425T052221
CREATED:20250506T003549Z
LAST-MODIFIED:20250506T003549Z
UID:10028265-1787511600-1787515200@lambdahouston.org
SUMMARY:Lambda Al-Anon
DESCRIPTION:
URL:https://lambdahouston.org/events/lambda-al-anon/2026-08-23
LOCATION:Lambda Center Houston\, West Clay Street\, Houston\, TX\, 77019\, United States
CATEGORIES:Al-Anon
GEO:29.7551684;-95.3940619
X-APPLE-STRUCTURED-LOCATION;VALUE=URI;X-ADDRESS=Lambda Center Houston West Clay Street Houston TX 77019 United States;X-APPLE-RADIUS=500;X-TITLE=West Clay Street:geo:-95.3940619,29.7551684
END:VEVENT
BEGIN:VEVENT
DTSTART;TZID=America/Chicago:20260823T190000
DTEND;TZID=America/Chicago:20260823T200000
DTSTAMP:20260425T052221
CREATED:20240714T232711Z
LAST-MODIFIED:20240714T232724Z
UID:10002329-1787511600-1787515200@lambdahouston.org
SUMMARY:PA Solutions
DESCRIPTION:
URL:https://lambdahouston.org/events/pa-solutions/2026-08-23
LOCATION:Lambda Center Houston\, West Clay Street\, Houston\, TX\, 77019\, United States
CATEGORIES:PA
GEO:29.7551684;-95.3940619
X-APPLE-STRUCTURED-LOCATION;VALUE=URI;X-ADDRESS=Lambda Center Houston West Clay Street Houston TX 77019 United States;X-APPLE-RADIUS=500;X-TITLE=West Clay Street:geo:-95.3940619,29.7551684
END:VEVENT
BEGIN:VEVENT
DTSTART;TZID=America/Chicago:20260823T190000
DTEND;TZID=America/Chicago:20260823T200000
DTSTAMP:20260425T052221
CREATED:20240714T231512Z
LAST-MODIFIED:20240714T232212Z
UID:10002067-1787511600-1787515200@lambdahouston.org
SUMMARY:Sunday Evening
DESCRIPTION:
URL:https://lambdahouston.org/events/sunday-evening/2026-08-23
LOCATION:Lambda Center Houston\, West Clay Street\, Houston\, TX\, 77019\, United States
CATEGORIES:AA
GEO:29.7551684;-95.3940619
X-APPLE-STRUCTURED-LOCATION;VALUE=URI;X-ADDRESS=Lambda Center Houston West Clay Street Houston TX 77019 United States;X-APPLE-RADIUS=500;X-TITLE=West Clay Street:geo:-95.3940619,29.7551684
END:VEVENT
BEGIN:VEVENT
DTSTART;TZID=America/Chicago:20260823T173000
DTEND;TZID=America/Chicago:20260823T183000
DTSTAMP:20260425T052221
CREATED:20240714T231133Z
LAST-MODIFIED:20240714T231133Z
UID:10001806-1787506200-1787509800@lambdahouston.org
SUMMARY:Breaking Free
DESCRIPTION:
URL:https://lambdahouston.org/events/breaking-free/2026-08-23
LOCATION:Lambda Center Houston\, West Clay Street\, Houston\, TX\, 77019\, United States
CATEGORIES:CMA
GEO:29.7551684;-95.3940619
X-APPLE-STRUCTURED-LOCATION;VALUE=URI;X-ADDRESS=Lambda Center Houston West Clay Street Houston TX 77019 United States;X-APPLE-RADIUS=500;X-TITLE=West Clay Street:geo:-95.3940619,29.7551684
END:VEVENT
BEGIN:VEVENT
DTSTART;TZID=America/Chicago:20260823T170000
DTEND;TZID=America/Chicago:20260823T180000
DTSTAMP:20260425T052221
CREATED:20250105T191631Z
LAST-MODIFIED:20250623T195737Z
UID:10029159-1787504400-1787508000@lambdahouston.org
SUMMARY:Laundry List
DESCRIPTION:
URL:https://lambdahouston.org/events/laundry-list/2026-08-23
LOCATION:Lambda Center Houston\, West Clay Street\, Houston\, TX\, 77019\, United States
CATEGORIES:ACA
GEO:29.7551684;-95.3940619
X-APPLE-STRUCTURED-LOCATION;VALUE=URI;X-ADDRESS=Lambda Center Houston West Clay Street Houston TX 77019 United States;X-APPLE-RADIUS=500;X-TITLE=West Clay Street:geo:-95.3940619,29.7551684
END:VEVENT
BEGIN:VEVENT
DTSTART;TZID=America/Chicago:20260823T170000
DTEND;TZID=America/Chicago:20260823T180000
DTSTAMP:20260425T052221
CREATED:20240714T230656Z
LAST-MODIFIED:20240714T230656Z
UID:10001545-1787504400-1787508000@lambdahouston.org
SUMMARY:Stretch & Surrender (Yoga & Discussion)
DESCRIPTION:
URL:https://lambdahouston.org/events/stretch-surrender-yoga-discussion/2026-08-23
LOCATION:Lambda Center Houston\, West Clay Street\, Houston\, TX\, 77019\, United States
CATEGORIES:AA
GEO:29.7551684;-95.3940619
X-APPLE-STRUCTURED-LOCATION;VALUE=URI;X-ADDRESS=Lambda Center Houston West Clay Street Houston TX 77019 United States;X-APPLE-RADIUS=500;X-TITLE=West Clay Street:geo:-95.3940619,29.7551684
END:VEVENT
BEGIN:VEVENT
DTSTART;TZID=America/Chicago:20260823T150000
DTEND;TZID=America/Chicago:20260823T160000
DTSTAMP:20260425T052221
CREATED:20250506T003927Z
LAST-MODIFIED:20250506T003927Z
UID:10028527-1787497200-1787500800@lambdahouston.org
SUMMARY:Internet & Technology Addicts Anonymous
DESCRIPTION:
URL:https://lambdahouston.org/events/internet-technology-addicts-anonymous/2026-08-23
LOCATION:Lambda Center Houston\, West Clay Street\, Houston\, TX\, 77019\, United States
CATEGORIES:ITAA
GEO:29.7551684;-95.3940619
X-APPLE-STRUCTURED-LOCATION;VALUE=URI;X-ADDRESS=Lambda Center Houston West Clay Street Houston TX 77019 United States;X-APPLE-RADIUS=500;X-TITLE=West Clay Street:geo:-95.3940619,29.7551684
END:VEVENT
BEGIN:VEVENT
DTSTART;TZID=America/Chicago:20260823T130000
DTEND;TZID=America/Chicago:20260823T140000
DTSTAMP:20260425T052221
CREATED:20250308T235628Z
LAST-MODIFIED:20260114T214204Z
UID:10028011-1787490000-1787493600@lambdahouston.org
SUMMARY:Turning Over a New Leaf
DESCRIPTION:
URL:https://lambdahouston.org/events/turning-over-a-new-leaf/2026-08-23
LOCATION:Lambda Center Houston\, West Clay Street\, Houston\, TX\, 77019\, United States
CATEGORIES:MA
GEO:29.7551684;-95.3940619
X-APPLE-STRUCTURED-LOCATION;VALUE=URI;X-ADDRESS=Lambda Center Houston West Clay Street Houston TX 77019 United States;X-APPLE-RADIUS=500;X-TITLE=West Clay Street:geo:-95.3940619,29.7551684
END:VEVENT
BEGIN:VEVENT
DTSTART;TZID=America/Chicago:20260823T123000
DTEND;TZID=America/Chicago:20260823T133000
DTSTAMP:20260425T052221
CREATED:20260114T214642Z
LAST-MODIFIED:20260114T214642Z
UID:10033399-1787488200-1787491800@lambdahouston.org
SUMMARY:The Principles in Practice
DESCRIPTION:
URL:https://lambdahouston.org/events/the-principles-in-practice/2026-08-23
LOCATION:Lambda Center Houston\, West Clay Street\, Houston\, TX\, 77019\, United States
CATEGORIES:AA
GEO:29.7551684;-95.3940619
X-APPLE-STRUCTURED-LOCATION;VALUE=URI;X-ADDRESS=Lambda Center Houston West Clay Street Houston TX 77019 United States;X-APPLE-RADIUS=500;X-TITLE=West Clay Street:geo:-95.3940619,29.7551684
END:VEVENT
BEGIN:VEVENT
DTSTART;TZID=America/Chicago:20260823T110000
DTEND;TZID=America/Chicago:20260823T120000
DTSTAMP:20260425T052221
CREATED:20240714T195040Z
LAST-MODIFIED:20240714T195040Z
UID:10001284-1787482800-1787486400@lambdahouston.org
SUMMARY:Hang Loose Grapevine
DESCRIPTION:
URL:https://lambdahouston.org/events/hang-loose-grapevine/2026-08-23
LOCATION:Lambda Center Houston\, West Clay Street\, Houston\, TX\, 77019\, United States
CATEGORIES:AA
GEO:29.7551684;-95.3940619
X-APPLE-STRUCTURED-LOCATION;VALUE=URI;X-ADDRESS=Lambda Center Houston West Clay Street Houston TX 77019 United States;X-APPLE-RADIUS=500;X-TITLE=West Clay Street:geo:-95.3940619,29.7551684
END:VEVENT
BEGIN:VEVENT
DTSTART;TZID=America/Chicago:20260823T104500
DTEND;TZID=America/Chicago:20260823T121500
DTSTAMP:20260425T052221
CREATED:20240714T151926Z
LAST-MODIFIED:20240714T151926Z
UID:10001023-1787481900-1787487300@lambdahouston.org
SUMMARY:The Yellow Workbook (90 mins)
DESCRIPTION:
URL:https://lambdahouston.org/events/the-yellow-workbook-90-mins/2026-08-23
LOCATION:Lambda Center Houston\, West Clay Street\, Houston\, TX\, 77019\, United States
CATEGORIES:ACA
GEO:29.7551684;-95.3940619
X-APPLE-STRUCTURED-LOCATION;VALUE=URI;X-ADDRESS=Lambda Center Houston West Clay Street Houston TX 77019 United States;X-APPLE-RADIUS=500;X-TITLE=West Clay Street:geo:-95.3940619,29.7551684
END:VEVENT
BEGIN:VEVENT
DTSTART;TZID=America/Chicago:20260823T104500
DTEND;TZID=America/Chicago:20260823T114500
DTSTAMP:20260425T052221
CREATED:20240719T141309Z
LAST-MODIFIED:20240719T141309Z
UID:10025296-1787481900-1787485500@lambdahouston.org
SUMMARY:Virtual Sunday ACA
DESCRIPTION:Sunday 10:45 PM\nOpen ACA Discussion\nbit.ly/lambdaaca\nMeeting ID: 898-5987-2968 | Passcode: None (Waiting Room) \nJOIN MEETING
URL:https://lambdahouston.org/events/virtual-sunday-aca/2026-08-23
LOCATION:Zoom
CATEGORIES:ACA
END:VEVENT
BEGIN:VEVENT
DTSTART;TZID=America/Chicago:20260823T093000
DTEND;TZID=America/Chicago:20260823T103000
DTSTAMP:20260425T052221
CREATED:20240719T141047Z
LAST-MODIFIED:20240719T141047Z
UID:10025035-1787477400-1787481000@lambdahouston.org
SUMMARY:Virtual Came to Believe
DESCRIPTION:Sunday 9:30 AM\nOpen AA Discussion\nbit.ly/lambdasun930\nMeeting ID: 236-304-186 | Passcode: 878696 \nJOIN MEETING
URL:https://lambdahouston.org/events/virtual-came-to-believe/2026-08-23
LOCATION:Zoom
CATEGORIES:AA
END:VEVENT
BEGIN:VEVENT
DTSTART;TZID=America/Chicago:20260823T093000
DTEND;TZID=America/Chicago:20260823T100000
DTSTAMP:20260425T052221
CREATED:20240714T150551Z
LAST-MODIFIED:20240714T150711Z
UID:10000761-1787477400-1787479200@lambdahouston.org
SUMMARY:Came to Believe
DESCRIPTION:
URL:https://lambdahouston.org/events/came-to-believe/2026-08-23
LOCATION:Lambda Center Houston\, West Clay Street\, Houston\, TX\, 77019\, United States
CATEGORIES:AA
GEO:29.7551684;-95.3940619
X-APPLE-STRUCTURED-LOCATION;VALUE=URI;X-ADDRESS=Lambda Center Houston West Clay Street Houston TX 77019 United States;X-APPLE-RADIUS=500;X-TITLE=West Clay Street:geo:-95.3940619,29.7551684
END:VEVENT
BEGIN:VEVENT
DTSTART;TZID=America/Chicago:20260823T090000
DTEND;TZID=America/Chicago:20260823T090000
DTSTAMP:20260425T052221
CREATED:20240715T034904Z
LAST-MODIFIED:20240715T135258Z
UID:10022686-1787475600-1787475600@lambdahouston.org
SUMMARY:Lambda Center Opens
DESCRIPTION:
URL:https://lambdahouston.org/events/lambda-center-opens-3/2026-08-23
LOCATION:Lambda Center Houston\, West Clay Street\, Houston\, TX\, 77019\, United States
GEO:29.7551684;-95.3940619
X-APPLE-STRUCTURED-LOCATION;VALUE=URI;X-ADDRESS=Lambda Center Houston West Clay Street Houston TX 77019 United States;X-APPLE-RADIUS=500;X-TITLE=West Clay Street:geo:-95.3940619,29.7551684
END:VEVENT
BEGIN:VEVENT
DTSTART;TZID=America/Chicago:20260822T230000
DTEND;TZID=America/Chicago:20260822T230000
DTSTAMP:20260425T052221
CREATED:20240715T034712Z
LAST-MODIFIED:20240715T135633Z
UID:10022425-1787439600-1787439600@lambdahouston.org
SUMMARY:Lambda Center Closes
DESCRIPTION:
URL:https://lambdahouston.org/events/lambda-center-closes-2/2026-08-22
LOCATION:Lambda Center Houston\, West Clay Street\, Houston\, TX\, 77019\, United States
GEO:29.7551684;-95.3940619
X-APPLE-STRUCTURED-LOCATION;VALUE=URI;X-ADDRESS=Lambda Center Houston West Clay Street Houston TX 77019 United States;X-APPLE-RADIUS=500;X-TITLE=West Clay Street:geo:-95.3940619,29.7551684
END:VEVENT
BEGIN:VEVENT
DTSTART;TZID=America/Chicago:20260822T203000
DTEND;TZID=America/Chicago:20260822T213000
DTSTAMP:20260425T052221
CREATED:20240715T032739Z
LAST-MODIFIED:20250601T152213Z
UID:10028876-1787430600-1787434200@lambdahouston.org
SUMMARY:Candlelight Meeting
DESCRIPTION:
URL:https://lambdahouston.org/events/candlelight-meeting/2026-08-22
LOCATION:Lambda Center Houston\, West Clay Street\, Houston\, TX\, 77019\, United States
CATEGORIES:CMA
GEO:29.7551684;-95.3940619
X-APPLE-STRUCTURED-LOCATION;VALUE=URI;X-ADDRESS=Lambda Center Houston West Clay Street Houston TX 77019 United States;X-APPLE-RADIUS=500;X-TITLE=West Clay Street:geo:-95.3940619,29.7551684
END:VEVENT
BEGIN:VEVENT
DTSTART;TZID=America/Chicago:20260822T190000
DTEND;TZID=America/Chicago:20260822T200000
DTSTAMP:20260425T052221
CREATED:20240715T031101Z
LAST-MODIFIED:20240715T031135Z
UID:10019007-1787425200-1787428800@lambdahouston.org
SUMMARY:Saturday Night Live
DESCRIPTION:Every Saturday except for the last Saturday of the month.
URL:https://lambdahouston.org/events/saturday-night-live/2026-08-22
LOCATION:Lambda Center Houston\, West Clay Street\, Houston\, TX\, 77019\, United States
CATEGORIES:AA
GEO:29.7551684;-95.3940619
X-APPLE-STRUCTURED-LOCATION;VALUE=URI;X-ADDRESS=Lambda Center Houston West Clay Street Houston TX 77019 United States;X-APPLE-RADIUS=500;X-TITLE=West Clay Street:geo:-95.3940619,29.7551684
END:VEVENT
BEGIN:VEVENT
DTSTART;TZID=America/Chicago:20260822T150000
DTEND;TZID=America/Chicago:20260822T160000
DTSTAMP:20260425T052221
CREATED:20240715T030647Z
LAST-MODIFIED:20240715T030647Z
UID:10018771-1787410800-1787414400@lambdahouston.org
SUMMARY:Meditate & Create
DESCRIPTION:
URL:https://lambdahouston.org/events/meditate-create/2026-08-22
LOCATION:Lambda Center Houston\, West Clay Street\, Houston\, TX\, 77019\, United States
CATEGORIES:AA
GEO:29.7551684;-95.3940619
X-APPLE-STRUCTURED-LOCATION;VALUE=URI;X-ADDRESS=Lambda Center Houston West Clay Street Houston TX 77019 United States;X-APPLE-RADIUS=500;X-TITLE=West Clay Street:geo:-95.3940619,29.7551684
END:VEVENT
BEGIN:VEVENT
DTSTART;TZID=America/Chicago:20260822T113000
DTEND;TZID=America/Chicago:20260822T130000
DTSTAMP:20260425T052221
CREATED:20240715T030301Z
LAST-MODIFIED:20240715T030301Z
UID:10018510-1787398200-1787403600@lambdahouston.org
SUMMARY:Loving Parent Guidebook (90 mins)
DESCRIPTION:
URL:https://lambdahouston.org/events/loving-parent-guidebook-90-mins/2026-08-22
LOCATION:Lambda Center Houston\, West Clay Street\, Houston\, TX\, 77019\, United States
CATEGORIES:ACA
GEO:29.7551684;-95.3940619
X-APPLE-STRUCTURED-LOCATION;VALUE=URI;X-ADDRESS=Lambda Center Houston West Clay Street Houston TX 77019 United States;X-APPLE-RADIUS=500;X-TITLE=West Clay Street:geo:-95.3940619,29.7551684
END:VEVENT
BEGIN:VEVENT
DTSTART;TZID=America/Chicago:20260822T113000
DTEND;TZID=America/Chicago:20260822T123000
DTSTAMP:20260425T052221
CREATED:20240715T025611Z
LAST-MODIFIED:20240715T025611Z
UID:10018249-1787398200-1787401800@lambdahouston.org
SUMMARY:Eye Opener
DESCRIPTION:
URL:https://lambdahouston.org/events/eye-opener/2026-08-22
LOCATION:Lambda Center Houston\, West Clay Street\, Houston\, TX\, 77019\, United States
CATEGORIES:AA
GEO:29.7551684;-95.3940619
X-APPLE-STRUCTURED-LOCATION;VALUE=URI;X-ADDRESS=Lambda Center Houston West Clay Street Houston TX 77019 United States;X-APPLE-RADIUS=500;X-TITLE=West Clay Street:geo:-95.3940619,29.7551684
END:VEVENT
BEGIN:VEVENT
DTSTART;TZID=America/Chicago:20260822T100000
DTEND;TZID=America/Chicago:20260822T110000
DTSTAMP:20260425T052221
CREATED:20240715T025304Z
LAST-MODIFIED:20240715T025304Z
UID:10017988-1787392800-1787396400@lambdahouston.org
SUMMARY:4th Dimension (Women's Discussion)
DESCRIPTION:
URL:https://lambdahouston.org/events/4th-dimension-womens-discussion/2026-08-22
LOCATION:Lambda Center Houston\, West Clay Street\, Houston\, TX\, 77019\, United States
CATEGORIES:AA
GEO:29.7551684;-95.3940619
X-APPLE-STRUCTURED-LOCATION;VALUE=URI;X-ADDRESS=Lambda Center Houston West Clay Street Houston TX 77019 United States;X-APPLE-RADIUS=500;X-TITLE=West Clay Street:geo:-95.3940619,29.7551684
END:VEVENT
BEGIN:VEVENT
DTSTART;TZID=America/Chicago:20260822T100000
DTEND;TZID=America/Chicago:20260822T110000
DTSTAMP:20260425T052221
CREATED:20240715T024855Z
LAST-MODIFIED:20240715T024855Z
UID:10017727-1787392800-1787396400@lambdahouston.org
SUMMARY:The 11th Step Group
DESCRIPTION:
URL:https://lambdahouston.org/events/the-11th-step-group/2026-08-22
LOCATION:Lambda Center Houston\, West Clay Street\, Houston\, TX\, 77019\, United States
CATEGORIES:AA
GEO:29.7551684;-95.3940619
X-APPLE-STRUCTURED-LOCATION;VALUE=URI;X-ADDRESS=Lambda Center Houston West Clay Street Houston TX 77019 United States;X-APPLE-RADIUS=500;X-TITLE=West Clay Street:geo:-95.3940619,29.7551684
END:VEVENT
BEGIN:VEVENT
DTSTART;TZID=America/Chicago:20260822T083000
DTEND;TZID=America/Chicago:20260822T093000
DTSTAMP:20260425T052221
CREATED:20240715T024602Z
LAST-MODIFIED:20240715T024602Z
UID:10017466-1787387400-1787391000@lambdahouston.org
SUMMARY:Early Bird
DESCRIPTION:
URL:https://lambdahouston.org/events/early-bird/2026-08-22
LOCATION:Lambda Center Houston\, West Clay Street\, Houston\, TX\, 77019\, United States
CATEGORIES:AA
GEO:29.7551684;-95.3940619
X-APPLE-STRUCTURED-LOCATION;VALUE=URI;X-ADDRESS=Lambda Center Houston West Clay Street Houston TX 77019 United States;X-APPLE-RADIUS=500;X-TITLE=West Clay Street:geo:-95.3940619,29.7551684
END:VEVENT
BEGIN:VEVENT
DTSTART;TZID=America/Chicago:20260822T080000
DTEND;TZID=America/Chicago:20260822T080000
DTSTAMP:20260425T052221
CREATED:20240715T034549Z
LAST-MODIFIED:20240715T135408Z
UID:10022164-1787385600-1787385600@lambdahouston.org
SUMMARY:Lambda Center Opens
DESCRIPTION:
URL:https://lambdahouston.org/events/lambda-center-opens-2/2026-08-22
LOCATION:Lambda Center Houston\, West Clay Street\, Houston\, TX\, 77019\, United States
GEO:29.7551684;-95.3940619
X-APPLE-STRUCTURED-LOCATION;VALUE=URI;X-ADDRESS=Lambda Center Houston West Clay Street Houston TX 77019 United States;X-APPLE-RADIUS=500;X-TITLE=West Clay Street:geo:-95.3940619,29.7551684
END:VEVENT
BEGIN:VEVENT
DTSTART;TZID=America/Chicago:20260821T230000
DTEND;TZID=America/Chicago:20260821T230000
DTSTAMP:20260425T052221
CREATED:20240715T033509Z
LAST-MODIFIED:20240715T035944Z
UID:10021299-1787353200-1787353200@lambdahouston.org
SUMMARY:Lambda Center Closes
DESCRIPTION:
URL:https://lambdahouston.org/events/lambda-center-closes/2026-08-21
LOCATION:Lambda Center Houston\, West Clay Street\, Houston\, TX\, 77019\, United States
GEO:29.7551684;-95.3940619
X-APPLE-STRUCTURED-LOCATION;VALUE=URI;X-ADDRESS=Lambda Center Houston West Clay Street Houston TX 77019 United States;X-APPLE-RADIUS=500;X-TITLE=West Clay Street:geo:-95.3940619,29.7551684
END:VEVENT
BEGIN:VEVENT
DTSTART;TZID=America/Chicago:20260821T213000
DTEND;TZID=America/Chicago:20260821T223000
DTSTAMP:20260425T052221
CREATED:20250623T200839Z
LAST-MODIFIED:20250623T205152Z
UID:10032180-1787347800-1787351400@lambdahouston.org
SUMMARY:Last Call for Serenity
DESCRIPTION:
URL:https://lambdahouston.org/events/last-call-for-serenity-2/2026-08-21
LOCATION:Lambda Center Houston\, West Clay Street\, Houston\, TX\, 77019\, United States
CATEGORIES:AA
GEO:29.7551684;-95.3940619
X-APPLE-STRUCTURED-LOCATION;VALUE=URI;X-ADDRESS=Lambda Center Houston West Clay Street Houston TX 77019 United States;X-APPLE-RADIUS=500;X-TITLE=West Clay Street:geo:-95.3940619,29.7551684
END:VEVENT
BEGIN:VEVENT
DTSTART;TZID=America/Chicago:20260821T200000
DTEND;TZID=America/Chicago:20260821T210000
DTSTAMP:20260425T052221
CREATED:20240715T024356Z
LAST-MODIFIED:20240715T024356Z
UID:10017205-1787342400-1787346000@lambdahouston.org
SUMMARY:The Young and The Restless
DESCRIPTION:
URL:https://lambdahouston.org/events/the-young-and-the-restless/2026-08-21
LOCATION:Lambda Center Houston\, West Clay Street\, Houston\, TX\, 77019\, United States
CATEGORIES:CMA
GEO:29.7551684;-95.3940619
X-APPLE-STRUCTURED-LOCATION;VALUE=URI;X-ADDRESS=Lambda Center Houston West Clay Street Houston TX 77019 United States;X-APPLE-RADIUS=500;X-TITLE=West Clay Street:geo:-95.3940619,29.7551684
END:VEVENT
END:VCALENDAR