BEGIN:VCALENDAR
VERSION:2.0
PRODID:-//Lambda Center Houston - ECPv6.15.16//NONSGML v1.0//EN
CALSCALE:GREGORIAN
METHOD:PUBLISH
X-ORIGINAL-URL:https://lambdahouston.org
X-WR-CALDESC:Events for Lambda Center Houston
REFRESH-INTERVAL;VALUE=DURATION:PT1H
X-Robots-Tag:noindex
X-PUBLISHED-TTL:PT1H
BEGIN:VTIMEZONE
TZID:America/Chicago
BEGIN:DAYLIGHT
TZOFFSETFROM:-0600
TZOFFSETTO:-0500
TZNAME:CDT
DTSTART:20240310T080000
END:DAYLIGHT
BEGIN:STANDARD
TZOFFSETFROM:-0500
TZOFFSETTO:-0600
TZNAME:CST
DTSTART:20241103T070000
END:STANDARD
BEGIN:DAYLIGHT
TZOFFSETFROM:-0600
TZOFFSETTO:-0500
TZNAME:CDT
DTSTART:20250309T080000
END:DAYLIGHT
BEGIN:STANDARD
TZOFFSETFROM:-0500
TZOFFSETTO:-0600
TZNAME:CST
DTSTART:20251102T070000
END:STANDARD
BEGIN:DAYLIGHT
TZOFFSETFROM:-0600
TZOFFSETTO:-0500
TZNAME:CDT
DTSTART:20260308T080000
END:DAYLIGHT
BEGIN:STANDARD
TZOFFSETFROM:-0500
TZOFFSETTO:-0600
TZNAME:CST
DTSTART:20261101T070000
END:STANDARD
END:VTIMEZONE
BEGIN:VEVENT
DTSTART;TZID=America/Chicago:20251029T060000
DTEND;TZID=America/Chicago:20251029T060000
DTSTAMP:20260425T175033
CREATED:20240715T033236Z
LAST-MODIFIED:20240715T135504Z
UID:10019782-1761717600-1761717600@lambdahouston.org
SUMMARY:Lambda Center Opens
DESCRIPTION:
URL:https://lambdahouston.org/events/lambda-center-opens/2025-10-29
LOCATION:Lambda Center Houston\, West Clay Street\, Houston\, TX\, 77019\, United States
GEO:29.7551684;-95.3940619
X-APPLE-STRUCTURED-LOCATION;VALUE=URI;X-ADDRESS=Lambda Center Houston West Clay Street Houston TX 77019 United States;X-APPLE-RADIUS=500;X-TITLE=West Clay Street:geo:-95.3940619,29.7551684
END:VEVENT
BEGIN:VEVENT
DTSTART;TZID=America/Chicago:20251029T063000
DTEND;TZID=America/Chicago:20251029T073000
DTSTAMP:20260425T175033
CREATED:20240714T233421Z
LAST-MODIFIED:20240714T233729Z
UID:10003464-1761719400-1761723000@lambdahouston.org
SUMMARY:Eyes Wide Shut
DESCRIPTION:
URL:https://lambdahouston.org/events/eyes-wide-shut/2025-10-29
LOCATION:Lambda Center Houston\, West Clay Street\, Houston\, TX\, 77019\, United States
CATEGORIES:AA
GEO:29.7551684;-95.3940619
X-APPLE-STRUCTURED-LOCATION;VALUE=URI;X-ADDRESS=Lambda Center Houston West Clay Street Houston TX 77019 United States;X-APPLE-RADIUS=500;X-TITLE=West Clay Street:geo:-95.3940619,29.7551684
END:VEVENT
BEGIN:VEVENT
DTSTART;TZID=America/Chicago:20251029T063000
DTEND;TZID=America/Chicago:20251029T073000
DTSTAMP:20260425T175033
CREATED:20240719T140125Z
LAST-MODIFIED:20240719T140125Z
UID:10023432-1761719400-1761723000@lambdahouston.org
SUMMARY:Virtual Eyes Wide Shut
DESCRIPTION:Monday-Friday 6:30 AM\nOpen AA Discussion\nbit.ly/lambdavirtualews\nMeeting ID: 199-058-948 | Passcode: 364724 \n  \nJOIN 6:30 AM MEETING
URL:https://lambdahouston.org/events/virtual-eyes-wide-shut/2025-10-29
LOCATION:Lambda Center Houston\, West Clay Street\, Houston\, TX\, 77019\, United States
CATEGORIES:AA
GEO:29.7551684;-95.3940619
X-APPLE-STRUCTURED-LOCATION;VALUE=URI;X-ADDRESS=Lambda Center Houston West Clay Street Houston TX 77019 United States;X-APPLE-RADIUS=500;X-TITLE=West Clay Street:geo:-95.3940619,29.7551684
END:VEVENT
BEGIN:VEVENT
DTSTART;TZID=America/Chicago:20251029T121500
DTEND;TZID=America/Chicago:20251029T131500
DTSTAMP:20260425T175033
CREATED:20240715T013955Z
LAST-MODIFIED:20240715T013955Z
UID:10013248-1761740100-1761743700@lambdahouston.org
SUMMARY:The 12:15 Group (Speaker)
DESCRIPTION:
URL:https://lambdahouston.org/events/the-1215-group-speaker/2025-10-29
LOCATION:Lambda Center Houston\, West Clay Street\, Houston\, TX\, 77019\, United States
CATEGORIES:AA
GEO:29.7551684;-95.3940619
X-APPLE-STRUCTURED-LOCATION;VALUE=URI;X-ADDRESS=Lambda Center Houston West Clay Street Houston TX 77019 United States;X-APPLE-RADIUS=500;X-TITLE=West Clay Street:geo:-95.3940619,29.7551684
END:VEVENT
BEGIN:VEVENT
DTSTART;TZID=America/Chicago:20251029T171500
DTEND;TZID=America/Chicago:20251029T181500
DTSTAMP:20260425T175033
CREATED:20240715T014337Z
LAST-MODIFIED:20240715T014337Z
UID:10013509-1761758100-1761761700@lambdahouston.org
SUMMARY:The Promises
DESCRIPTION:
URL:https://lambdahouston.org/events/the-promises/2025-10-29
LOCATION:Lambda Center Houston\, West Clay Street\, Houston\, TX\, 77019\, United States
CATEGORIES:AA
GEO:29.7551684;-95.3940619
X-APPLE-STRUCTURED-LOCATION;VALUE=URI;X-ADDRESS=Lambda Center Houston West Clay Street Houston TX 77019 United States;X-APPLE-RADIUS=500;X-TITLE=West Clay Street:geo:-95.3940619,29.7551684
END:VEVENT
BEGIN:VEVENT
DTSTART;TZID=America/Chicago:20251029T173000
DTEND;TZID=America/Chicago:20251029T183000
DTSTAMP:20260425T175033
CREATED:20241209T003735Z
LAST-MODIFIED:20250623T205438Z
UID:10026661-1761759000-1761762600@lambdahouston.org
SUMMARY:Nurturing/Loving Parent
DESCRIPTION:
URL:https://lambdahouston.org/events/nurturing-loving-parent-2/2025-10-29
LOCATION:Lambda Center Houston\, West Clay Street\, Houston\, TX\, 77019\, United States
CATEGORIES:ACA
GEO:29.7551684;-95.3940619
X-APPLE-STRUCTURED-LOCATION;VALUE=URI;X-ADDRESS=Lambda Center Houston West Clay Street Houston TX 77019 United States;X-APPLE-RADIUS=500;X-TITLE=West Clay Street:geo:-95.3940619,29.7551684
END:VEVENT
BEGIN:VEVENT
DTSTART;TZID=America/Chicago:20251029T183000
DTEND;TZID=America/Chicago:20251029T193000
DTSTAMP:20260425T175033
CREATED:20240715T015054Z
LAST-MODIFIED:20240715T015054Z
UID:10014031-1761762600-1761766200@lambdahouston.org
SUMMARY:Everyone's AFG
DESCRIPTION:Formerly Double Winners Group
URL:https://lambdahouston.org/events/everyones-afg/2025-10-29
LOCATION:Lambda Center Houston\, West Clay Street\, Houston\, TX\, 77019\, United States
CATEGORIES:Al-Anon
GEO:29.7551684;-95.3940619
X-APPLE-STRUCTURED-LOCATION;VALUE=URI;X-ADDRESS=Lambda Center Houston West Clay Street Houston TX 77019 United States;X-APPLE-RADIUS=500;X-TITLE=West Clay Street:geo:-95.3940619,29.7551684
END:VEVENT
BEGIN:VEVENT
DTSTART;TZID=America/Chicago:20251029T183000
DTEND;TZID=America/Chicago:20251029T193000
DTSTAMP:20260425T175033
CREATED:20240715T015640Z
LAST-MODIFIED:20240715T015640Z
UID:10014292-1761762600-1761766200@lambdahouston.org
SUMMARY:Women on Wednesday
DESCRIPTION:
URL:https://lambdahouston.org/events/women-on-wednesday/2025-10-29
LOCATION:Lambda Center Houston\, West Clay Street\, Houston\, TX\, 77019\, United States
CATEGORIES:AA
GEO:29.7551684;-95.3940619
X-APPLE-STRUCTURED-LOCATION;VALUE=URI;X-ADDRESS=Lambda Center Houston West Clay Street Houston TX 77019 United States;X-APPLE-RADIUS=500;X-TITLE=West Clay Street:geo:-95.3940619,29.7551684
END:VEVENT
BEGIN:VEVENT
DTSTART;TZID=America/Chicago:20251029T183000
DTEND;TZID=America/Chicago:20251029T193000
DTSTAMP:20260425T175033
CREATED:20240719T140555Z
LAST-MODIFIED:20240829T205958Z
UID:10024470-1761762600-1761766200@lambdahouston.org
SUMMARY:Virtual Everyone’s AFG
DESCRIPTION:Wednesday 6:30 PM\nOpen Al Anon Discussion\nbit.ly/lambdaeveryonesafg\nMeeting ID: 717-796-041 | Passcode: 757372 \nJOIN MEETING
URL:https://lambdahouston.org/events/virtual-everyones-afg/2025-10-29
LOCATION:Zoom
CATEGORIES:Al-Anon
END:VEVENT
BEGIN:VEVENT
DTSTART;TZID=America/Chicago:20251029T183000
DTEND;TZID=America/Chicago:20251029T193000
DTSTAMP:20260425T175033
CREATED:20240719T140838Z
LAST-MODIFIED:20240719T140838Z
UID:10024731-1761762600-1761766200@lambdahouston.org
SUMMARY:Virtual Wednesday Silent Journey
DESCRIPTION:Wednesday 6:30 PM\nOpen AA Meditation\nMeeting ID: 817-0558-5298 | Passcode: 630824 \nJOIN MEETING
URL:https://lambdahouston.org/events/virtual-wednesday-silent-journey/2025-10-29
LOCATION:Zoom
CATEGORIES:Al-Anon
END:VEVENT
BEGIN:VEVENT
DTSTART;TZID=America/Chicago:20251029T200000
DTEND;TZID=America/Chicago:20251029T210000
DTSTAMP:20260425T175033
CREATED:20241120T215947Z
LAST-MODIFIED:20241120T215948Z
UID:10014553-1761768000-1761771600@lambdahouston.org
SUMMARY:Secular\, Atheists\, and Free-thinkers
DESCRIPTION:Formerly Atheists & Agnostics Group and Humanist Group
URL:https://lambdahouston.org/events/secular-atheists-and-free-thinkers/2025-10-29
LOCATION:Lambda Center Houston\, West Clay Street\, Houston\, TX\, 77019\, United States
CATEGORIES:AA
GEO:29.7551684;-95.3940619
X-APPLE-STRUCTURED-LOCATION;VALUE=URI;X-ADDRESS=Lambda Center Houston West Clay Street Houston TX 77019 United States;X-APPLE-RADIUS=500;X-TITLE=West Clay Street:geo:-95.3940619,29.7551684
END:VEVENT
BEGIN:VEVENT
DTSTART;TZID=America/Chicago:20251029T213000
DTEND;TZID=America/Chicago:20251029T223000
DTSTAMP:20260425T175033
CREATED:20250623T200839Z
LAST-MODIFIED:20250623T205152Z
UID:10032010-1761773400-1761777000@lambdahouston.org
SUMMARY:Last Call for Serenity
DESCRIPTION:
URL:https://lambdahouston.org/events/last-call-for-serenity-2/2025-10-29
LOCATION:Lambda Center Houston\, West Clay Street\, Houston\, TX\, 77019\, United States
CATEGORIES:AA
GEO:29.7551684;-95.3940619
X-APPLE-STRUCTURED-LOCATION;VALUE=URI;X-ADDRESS=Lambda Center Houston West Clay Street Houston TX 77019 United States;X-APPLE-RADIUS=500;X-TITLE=West Clay Street:geo:-95.3940619,29.7551684
END:VEVENT
BEGIN:VEVENT
DTSTART;TZID=America/Chicago:20251029T230000
DTEND;TZID=America/Chicago:20251029T230000
DTSTAMP:20260425T175033
CREATED:20240715T033509Z
LAST-MODIFIED:20240715T035944Z
UID:10021087-1761778800-1761778800@lambdahouston.org
SUMMARY:Lambda Center Closes
DESCRIPTION:
URL:https://lambdahouston.org/events/lambda-center-closes/2025-10-29
LOCATION:Lambda Center Houston\, West Clay Street\, Houston\, TX\, 77019\, United States
GEO:29.7551684;-95.3940619
X-APPLE-STRUCTURED-LOCATION;VALUE=URI;X-ADDRESS=Lambda Center Houston West Clay Street Houston TX 77019 United States;X-APPLE-RADIUS=500;X-TITLE=West Clay Street:geo:-95.3940619,29.7551684
END:VEVENT
BEGIN:VEVENT
DTSTART;TZID=America/Chicago:20251030T060000
DTEND;TZID=America/Chicago:20251030T060000
DTSTAMP:20260425T175033
CREATED:20240715T033236Z
LAST-MODIFIED:20240715T135504Z
UID:10019783-1761804000-1761804000@lambdahouston.org
SUMMARY:Lambda Center Opens
DESCRIPTION:
URL:https://lambdahouston.org/events/lambda-center-opens/2025-10-30
LOCATION:Lambda Center Houston\, West Clay Street\, Houston\, TX\, 77019\, United States
GEO:29.7551684;-95.3940619
X-APPLE-STRUCTURED-LOCATION;VALUE=URI;X-ADDRESS=Lambda Center Houston West Clay Street Houston TX 77019 United States;X-APPLE-RADIUS=500;X-TITLE=West Clay Street:geo:-95.3940619,29.7551684
END:VEVENT
BEGIN:VEVENT
DTSTART;TZID=America/Chicago:20251030T063000
DTEND;TZID=America/Chicago:20251030T073000
DTSTAMP:20260425T175033
CREATED:20240714T233421Z
LAST-MODIFIED:20240714T233729Z
UID:10003465-1761805800-1761809400@lambdahouston.org
SUMMARY:Eyes Wide Shut
DESCRIPTION:
URL:https://lambdahouston.org/events/eyes-wide-shut/2025-10-30
LOCATION:Lambda Center Houston\, West Clay Street\, Houston\, TX\, 77019\, United States
CATEGORIES:AA
GEO:29.7551684;-95.3940619
X-APPLE-STRUCTURED-LOCATION;VALUE=URI;X-ADDRESS=Lambda Center Houston West Clay Street Houston TX 77019 United States;X-APPLE-RADIUS=500;X-TITLE=West Clay Street:geo:-95.3940619,29.7551684
END:VEVENT
BEGIN:VEVENT
DTSTART;TZID=America/Chicago:20251030T063000
DTEND;TZID=America/Chicago:20251030T073000
DTSTAMP:20260425T175033
CREATED:20240719T140125Z
LAST-MODIFIED:20240719T140125Z
UID:10023433-1761805800-1761809400@lambdahouston.org
SUMMARY:Virtual Eyes Wide Shut
DESCRIPTION:Monday-Friday 6:30 AM\nOpen AA Discussion\nbit.ly/lambdavirtualews\nMeeting ID: 199-058-948 | Passcode: 364724 \n  \nJOIN 6:30 AM MEETING
URL:https://lambdahouston.org/events/virtual-eyes-wide-shut/2025-10-30
LOCATION:Lambda Center Houston\, West Clay Street\, Houston\, TX\, 77019\, United States
CATEGORIES:AA
GEO:29.7551684;-95.3940619
X-APPLE-STRUCTURED-LOCATION;VALUE=URI;X-ADDRESS=Lambda Center Houston West Clay Street Houston TX 77019 United States;X-APPLE-RADIUS=500;X-TITLE=West Clay Street:geo:-95.3940619,29.7551684
END:VEVENT
BEGIN:VEVENT
DTSTART;TZID=America/Chicago:20251030T121500
DTEND;TZID=America/Chicago:20251030T131500
DTSTAMP:20260425T175033
CREATED:20240714T234530Z
LAST-MODIFIED:20240714T234633Z
UID:10007641-1761826500-1761830100@lambdahouston.org
SUMMARY:The 12:15 Group
DESCRIPTION:
URL:https://lambdahouston.org/events/the-1215-group/2025-10-30
LOCATION:Lambda Center Houston\, West Clay Street\, Houston\, TX\, 77019\, United States
CATEGORIES:AA
GEO:29.7551684;-95.3940619
X-APPLE-STRUCTURED-LOCATION;VALUE=URI;X-ADDRESS=Lambda Center Houston West Clay Street Houston TX 77019 United States;X-APPLE-RADIUS=500;X-TITLE=West Clay Street:geo:-95.3940619,29.7551684
END:VEVENT
BEGIN:VEVENT
DTSTART;TZID=America/Chicago:20251030T171500
DTEND;TZID=America/Chicago:20251030T181500
DTSTAMP:20260425T175033
CREATED:20240715T020422Z
LAST-MODIFIED:20240715T020503Z
UID:10014814-1761844500-1761848100@lambdahouston.org
SUMMARY:I Want to Scream!
DESCRIPTION:
URL:https://lambdahouston.org/events/i-want-to-scream/2025-10-30
LOCATION:Lambda Center Houston\, West Clay Street\, Houston\, TX\, 77019\, United States
CATEGORIES:AA
GEO:29.7551684;-95.3940619
X-APPLE-STRUCTURED-LOCATION;VALUE=URI;X-ADDRESS=Lambda Center Houston West Clay Street Houston TX 77019 United States;X-APPLE-RADIUS=500;X-TITLE=West Clay Street:geo:-95.3940619,29.7551684
END:VEVENT
BEGIN:VEVENT
DTSTART;TZID=America/Chicago:20251030T183000
DTEND;TZID=America/Chicago:20251030T193000
DTSTAMP:20260425T175033
CREATED:20240715T020854Z
LAST-MODIFIED:20240715T020854Z
UID:10015075-1761849000-1761852600@lambdahouston.org
SUMMARY:LGBTQ+ & Allies SLAA
DESCRIPTION:Sex & Love Addicts Anonymous
URL:https://lambdahouston.org/events/lgbtq-allies-slaa/2025-10-30
LOCATION:Lambda Center Houston\, West Clay Street\, Houston\, TX\, 77019\, United States
CATEGORIES:SLAA
GEO:29.7551684;-95.3940619
X-APPLE-STRUCTURED-LOCATION;VALUE=URI;X-ADDRESS=Lambda Center Houston West Clay Street Houston TX 77019 United States;X-APPLE-RADIUS=500;X-TITLE=West Clay Street:geo:-95.3940619,29.7551684
END:VEVENT
BEGIN:VEVENT
DTSTART;TZID=America/Chicago:20251030T183000
DTEND;TZID=America/Chicago:20251030T193000
DTSTAMP:20260425T175033
CREATED:20250506T004416Z
LAST-MODIFIED:20250506T004416Z
UID:10015597-1761849000-1761852600@lambdahouston.org
SUMMARY:Plain Language Big Book
DESCRIPTION:
URL:https://lambdahouston.org/events/plain-language-big-book/2025-10-30
LOCATION:Lambda Center Houston\, West Clay Street\, Houston\, TX\, 77019\, United States
CATEGORIES:AA
GEO:29.7551684;-95.3940619
X-APPLE-STRUCTURED-LOCATION;VALUE=URI;X-ADDRESS=Lambda Center Houston West Clay Street Houston TX 77019 United States;X-APPLE-RADIUS=500;X-TITLE=West Clay Street:geo:-95.3940619,29.7551684
END:VEVENT
BEGIN:VEVENT
DTSTART;TZID=America/Chicago:20251030T183000
DTEND;TZID=America/Chicago:20251030T200000
DTSTAMP:20260425T175033
CREATED:20240715T021458Z
LAST-MODIFIED:20240715T021458Z
UID:10015336-1761849000-1761854400@lambdahouston.org
SUMMARY:Big Red Book (90 mins)
DESCRIPTION:
URL:https://lambdahouston.org/events/big-red-book-90-mins/2025-10-30
LOCATION:Lambda Center Houston\, West Clay Street\, Houston\, TX\, 77019\, United States
CATEGORIES:ACA
GEO:29.7551684;-95.3940619
X-APPLE-STRUCTURED-LOCATION;VALUE=URI;X-ADDRESS=Lambda Center Houston West Clay Street Houston TX 77019 United States;X-APPLE-RADIUS=500;X-TITLE=West Clay Street:geo:-95.3940619,29.7551684
END:VEVENT
BEGIN:VEVENT
DTSTART;TZID=America/Chicago:20251030T200000
DTEND;TZID=America/Chicago:20251030T210000
DTSTAMP:20260425T175033
CREATED:20240715T022505Z
LAST-MODIFIED:20240715T022505Z
UID:10015858-1761854400-1761858000@lambdahouston.org
SUMMARY:Are You a Tweaker?
DESCRIPTION:
URL:https://lambdahouston.org/events/are-you-a-tweaker/2025-10-30
LOCATION:Lambda Center Houston\, West Clay Street\, Houston\, TX\, 77019\, United States
CATEGORIES:CMA
GEO:29.7551684;-95.3940619
X-APPLE-STRUCTURED-LOCATION;VALUE=URI;X-ADDRESS=Lambda Center Houston West Clay Street Houston TX 77019 United States;X-APPLE-RADIUS=500;X-TITLE=West Clay Street:geo:-95.3940619,29.7551684
END:VEVENT
BEGIN:VEVENT
DTSTART;TZID=America/Chicago:20251030T200000
DTEND;TZID=America/Chicago:20251030T210000
DTSTAMP:20260425T175033
CREATED:20240715T022757Z
LAST-MODIFIED:20240715T022757Z
UID:10016119-1761854400-1761858000@lambdahouston.org
SUMMARY:Queers of the Stoner Age
DESCRIPTION:Marijuana Anonymous (MA)
URL:https://lambdahouston.org/events/queers-of-the-stoner-age/2025-10-30
LOCATION:Lambda Center Houston\, West Clay Street\, Houston\, TX\, 77019\, United States
CATEGORIES:MA
GEO:29.7551684;-95.3940619
X-APPLE-STRUCTURED-LOCATION;VALUE=URI;X-ADDRESS=Lambda Center Houston West Clay Street Houston TX 77019 United States;X-APPLE-RADIUS=500;X-TITLE=West Clay Street:geo:-95.3940619,29.7551684
END:VEVENT
BEGIN:VEVENT
DTSTART;TZID=America/Chicago:20251030T213000
DTEND;TZID=America/Chicago:20251030T223000
DTSTAMP:20260425T175033
CREATED:20250623T200839Z
LAST-MODIFIED:20250623T205152Z
UID:10032011-1761859800-1761863400@lambdahouston.org
SUMMARY:Last Call for Serenity
DESCRIPTION:
URL:https://lambdahouston.org/events/last-call-for-serenity-2/2025-10-30
LOCATION:Lambda Center Houston\, West Clay Street\, Houston\, TX\, 77019\, United States
CATEGORIES:AA
GEO:29.7551684;-95.3940619
X-APPLE-STRUCTURED-LOCATION;VALUE=URI;X-ADDRESS=Lambda Center Houston West Clay Street Houston TX 77019 United States;X-APPLE-RADIUS=500;X-TITLE=West Clay Street:geo:-95.3940619,29.7551684
END:VEVENT
BEGIN:VEVENT
DTSTART;TZID=America/Chicago:20251030T230000
DTEND;TZID=America/Chicago:20251030T230000
DTSTAMP:20260425T175033
CREATED:20240715T033509Z
LAST-MODIFIED:20240715T035944Z
UID:10021088-1761865200-1761865200@lambdahouston.org
SUMMARY:Lambda Center Closes
DESCRIPTION:
URL:https://lambdahouston.org/events/lambda-center-closes/2025-10-30
LOCATION:Lambda Center Houston\, West Clay Street\, Houston\, TX\, 77019\, United States
GEO:29.7551684;-95.3940619
X-APPLE-STRUCTURED-LOCATION;VALUE=URI;X-ADDRESS=Lambda Center Houston West Clay Street Houston TX 77019 United States;X-APPLE-RADIUS=500;X-TITLE=West Clay Street:geo:-95.3940619,29.7551684
END:VEVENT
BEGIN:VEVENT
DTSTART;TZID=America/Chicago:20251031T060000
DTEND;TZID=America/Chicago:20251031T060000
DTSTAMP:20260425T175033
CREATED:20240715T033236Z
LAST-MODIFIED:20240715T135504Z
UID:10019784-1761890400-1761890400@lambdahouston.org
SUMMARY:Lambda Center Opens
DESCRIPTION:
URL:https://lambdahouston.org/events/lambda-center-opens/2025-10-31
LOCATION:Lambda Center Houston\, West Clay Street\, Houston\, TX\, 77019\, United States
GEO:29.7551684;-95.3940619
X-APPLE-STRUCTURED-LOCATION;VALUE=URI;X-ADDRESS=Lambda Center Houston West Clay Street Houston TX 77019 United States;X-APPLE-RADIUS=500;X-TITLE=West Clay Street:geo:-95.3940619,29.7551684
END:VEVENT
BEGIN:VEVENT
DTSTART;TZID=America/Chicago:20251031T063000
DTEND;TZID=America/Chicago:20251031T073000
DTSTAMP:20260425T175033
CREATED:20240714T233421Z
LAST-MODIFIED:20240714T233729Z
UID:10003466-1761892200-1761895800@lambdahouston.org
SUMMARY:Eyes Wide Shut
DESCRIPTION:
URL:https://lambdahouston.org/events/eyes-wide-shut/2025-10-31
LOCATION:Lambda Center Houston\, West Clay Street\, Houston\, TX\, 77019\, United States
CATEGORIES:AA
GEO:29.7551684;-95.3940619
X-APPLE-STRUCTURED-LOCATION;VALUE=URI;X-ADDRESS=Lambda Center Houston West Clay Street Houston TX 77019 United States;X-APPLE-RADIUS=500;X-TITLE=West Clay Street:geo:-95.3940619,29.7551684
END:VEVENT
BEGIN:VEVENT
DTSTART;TZID=America/Chicago:20251031T063000
DTEND;TZID=America/Chicago:20251031T073000
DTSTAMP:20260425T175033
CREATED:20240719T140125Z
LAST-MODIFIED:20240719T140125Z
UID:10023434-1761892200-1761895800@lambdahouston.org
SUMMARY:Virtual Eyes Wide Shut
DESCRIPTION:Monday-Friday 6:30 AM\nOpen AA Discussion\nbit.ly/lambdavirtualews\nMeeting ID: 199-058-948 | Passcode: 364724 \n  \nJOIN 6:30 AM MEETING
URL:https://lambdahouston.org/events/virtual-eyes-wide-shut/2025-10-31
LOCATION:Lambda Center Houston\, West Clay Street\, Houston\, TX\, 77019\, United States
CATEGORIES:AA
GEO:29.7551684;-95.3940619
X-APPLE-STRUCTURED-LOCATION;VALUE=URI;X-ADDRESS=Lambda Center Houston West Clay Street Houston TX 77019 United States;X-APPLE-RADIUS=500;X-TITLE=West Clay Street:geo:-95.3940619,29.7551684
END:VEVENT
BEGIN:VEVENT
DTSTART;TZID=America/Chicago:20251031T121500
DTEND;TZID=America/Chicago:20251031T131500
DTSTAMP:20260425T175033
CREATED:20240714T234530Z
LAST-MODIFIED:20240714T234633Z
UID:10007642-1761912900-1761916500@lambdahouston.org
SUMMARY:The 12:15 Group
DESCRIPTION:
URL:https://lambdahouston.org/events/the-1215-group/2025-10-31
LOCATION:Lambda Center Houston\, West Clay Street\, Houston\, TX\, 77019\, United States
CATEGORIES:AA
GEO:29.7551684;-95.3940619
X-APPLE-STRUCTURED-LOCATION;VALUE=URI;X-ADDRESS=Lambda Center Houston West Clay Street Houston TX 77019 United States;X-APPLE-RADIUS=500;X-TITLE=West Clay Street:geo:-95.3940619,29.7551684
END:VEVENT
BEGIN:VEVENT
DTSTART;TZID=America/Chicago:20251031T171500
DTEND;TZID=America/Chicago:20251031T181500
DTSTAMP:20260425T175033
CREATED:20240715T023311Z
LAST-MODIFIED:20240715T023311Z
UID:10016380-1761930900-1761934500@lambdahouston.org
SUMMARY:Study and Grow
DESCRIPTION:
URL:https://lambdahouston.org/events/study-and-grow/2025-10-31
LOCATION:Lambda Center Houston\, West Clay Street\, Houston\, TX\, 77019\, United States
CATEGORIES:AA
GEO:29.7551684;-95.3940619
X-APPLE-STRUCTURED-LOCATION;VALUE=URI;X-ADDRESS=Lambda Center Houston West Clay Street Houston TX 77019 United States;X-APPLE-RADIUS=500;X-TITLE=West Clay Street:geo:-95.3940619,29.7551684
END:VEVENT
END:VCALENDAR