BEGIN:VCALENDAR
VERSION:2.0
PRODID:-//Lambda Center Houston - ECPv6.15.16//NONSGML v1.0//EN
CALSCALE:GREGORIAN
METHOD:PUBLISH
X-ORIGINAL-URL:https://lambdahouston.org
X-WR-CALDESC:Events for Lambda Center Houston
REFRESH-INTERVAL;VALUE=DURATION:PT1H
X-Robots-Tag:noindex
X-PUBLISHED-TTL:PT1H
BEGIN:VTIMEZONE
TZID:America/Chicago
BEGIN:DAYLIGHT
TZOFFSETFROM:-0600
TZOFFSETTO:-0500
TZNAME:CDT
DTSTART:20250309T080000
END:DAYLIGHT
BEGIN:STANDARD
TZOFFSETFROM:-0500
TZOFFSETTO:-0600
TZNAME:CST
DTSTART:20251102T070000
END:STANDARD
BEGIN:DAYLIGHT
TZOFFSETFROM:-0600
TZOFFSETTO:-0500
TZNAME:CDT
DTSTART:20260308T080000
END:DAYLIGHT
BEGIN:STANDARD
TZOFFSETFROM:-0500
TZOFFSETTO:-0600
TZNAME:CST
DTSTART:20261101T070000
END:STANDARD
BEGIN:DAYLIGHT
TZOFFSETFROM:-0600
TZOFFSETTO:-0500
TZNAME:CDT
DTSTART:20270314T080000
END:DAYLIGHT
BEGIN:STANDARD
TZOFFSETFROM:-0500
TZOFFSETTO:-0600
TZNAME:CST
DTSTART:20271107T070000
END:STANDARD
BEGIN:DAYLIGHT
TZOFFSETFROM:-0600
TZOFFSETTO:-0500
TZNAME:CDT
DTSTART:20280312T080000
END:DAYLIGHT
BEGIN:STANDARD
TZOFFSETFROM:-0500
TZOFFSETTO:-0600
TZNAME:CST
DTSTART:20281105T070000
END:STANDARD
END:VTIMEZONE
BEGIN:VEVENT
DTSTART;TZID=America/Chicago:20261205T203000
DTEND;TZID=America/Chicago:20261205T213000
DTSTAMP:20260425T131050
CREATED:20240715T032739Z
LAST-MODIFIED:20250601T152213Z
UID:10028891-1796502600-1796506200@lambdahouston.org
SUMMARY:Candlelight Meeting
DESCRIPTION:
URL:https://lambdahouston.org/events/candlelight-meeting/2026-12-05
LOCATION:Lambda Center Houston\, West Clay Street\, Houston\, TX\, 77019\, United States
CATEGORIES:CMA
GEO:29.7551684;-95.3940619
X-APPLE-STRUCTURED-LOCATION;VALUE=URI;X-ADDRESS=Lambda Center Houston West Clay Street Houston TX 77019 United States;X-APPLE-RADIUS=500;X-TITLE=West Clay Street:geo:-95.3940619,29.7551684
END:VEVENT
BEGIN:VEVENT
DTSTART;TZID=America/Chicago:20261212T203000
DTEND;TZID=America/Chicago:20261212T213000
DTSTAMP:20260425T131050
CREATED:20240715T032739Z
LAST-MODIFIED:20250601T152213Z
UID:10028892-1797107400-1797111000@lambdahouston.org
SUMMARY:Candlelight Meeting
DESCRIPTION:
URL:https://lambdahouston.org/events/candlelight-meeting/2026-12-12
LOCATION:Lambda Center Houston\, West Clay Street\, Houston\, TX\, 77019\, United States
CATEGORIES:CMA
GEO:29.7551684;-95.3940619
X-APPLE-STRUCTURED-LOCATION;VALUE=URI;X-ADDRESS=Lambda Center Houston West Clay Street Houston TX 77019 United States;X-APPLE-RADIUS=500;X-TITLE=West Clay Street:geo:-95.3940619,29.7551684
END:VEVENT
BEGIN:VEVENT
DTSTART;TZID=America/Chicago:20261219T203000
DTEND;TZID=America/Chicago:20261219T213000
DTSTAMP:20260425T131050
CREATED:20240715T032739Z
LAST-MODIFIED:20250601T152213Z
UID:10028893-1797712200-1797715800@lambdahouston.org
SUMMARY:Candlelight Meeting
DESCRIPTION:
URL:https://lambdahouston.org/events/candlelight-meeting/2026-12-19
LOCATION:Lambda Center Houston\, West Clay Street\, Houston\, TX\, 77019\, United States
CATEGORIES:CMA
GEO:29.7551684;-95.3940619
X-APPLE-STRUCTURED-LOCATION;VALUE=URI;X-ADDRESS=Lambda Center Houston West Clay Street Houston TX 77019 United States;X-APPLE-RADIUS=500;X-TITLE=West Clay Street:geo:-95.3940619,29.7551684
END:VEVENT
BEGIN:VEVENT
DTSTART;TZID=America/Chicago:20261226T203000
DTEND;TZID=America/Chicago:20261226T213000
DTSTAMP:20260425T131050
CREATED:20240715T032739Z
LAST-MODIFIED:20250601T152213Z
UID:10028894-1798317000-1798320600@lambdahouston.org
SUMMARY:Candlelight Meeting
DESCRIPTION:
URL:https://lambdahouston.org/events/candlelight-meeting/2026-12-26
LOCATION:Lambda Center Houston\, West Clay Street\, Houston\, TX\, 77019\, United States
CATEGORIES:CMA
GEO:29.7551684;-95.3940619
X-APPLE-STRUCTURED-LOCATION;VALUE=URI;X-ADDRESS=Lambda Center Houston West Clay Street Houston TX 77019 United States;X-APPLE-RADIUS=500;X-TITLE=West Clay Street:geo:-95.3940619,29.7551684
END:VEVENT
BEGIN:VEVENT
DTSTART;TZID=America/Chicago:20270102T203000
DTEND;TZID=America/Chicago:20270102T213000
DTSTAMP:20260425T131050
CREATED:20240715T032739Z
LAST-MODIFIED:20250601T152213Z
UID:10028895-1798921800-1798925400@lambdahouston.org
SUMMARY:Candlelight Meeting
DESCRIPTION:
URL:https://lambdahouston.org/events/candlelight-meeting/2027-01-02
LOCATION:Lambda Center Houston\, West Clay Street\, Houston\, TX\, 77019\, United States
CATEGORIES:CMA
GEO:29.7551684;-95.3940619
X-APPLE-STRUCTURED-LOCATION;VALUE=URI;X-ADDRESS=Lambda Center Houston West Clay Street Houston TX 77019 United States;X-APPLE-RADIUS=500;X-TITLE=West Clay Street:geo:-95.3940619,29.7551684
END:VEVENT
BEGIN:VEVENT
DTSTART;TZID=America/Chicago:20270109T203000
DTEND;TZID=America/Chicago:20270109T213000
DTSTAMP:20260425T131050
CREATED:20240715T032739Z
LAST-MODIFIED:20250601T152213Z
UID:10028896-1799526600-1799530200@lambdahouston.org
SUMMARY:Candlelight Meeting
DESCRIPTION:
URL:https://lambdahouston.org/events/candlelight-meeting/2027-01-09
LOCATION:Lambda Center Houston\, West Clay Street\, Houston\, TX\, 77019\, United States
CATEGORIES:CMA
GEO:29.7551684;-95.3940619
X-APPLE-STRUCTURED-LOCATION;VALUE=URI;X-ADDRESS=Lambda Center Houston West Clay Street Houston TX 77019 United States;X-APPLE-RADIUS=500;X-TITLE=West Clay Street:geo:-95.3940619,29.7551684
END:VEVENT
BEGIN:VEVENT
DTSTART;TZID=America/Chicago:20270116T203000
DTEND;TZID=America/Chicago:20270116T213000
DTSTAMP:20260425T131050
CREATED:20240715T032739Z
LAST-MODIFIED:20250601T152213Z
UID:10028897-1800131400-1800135000@lambdahouston.org
SUMMARY:Candlelight Meeting
DESCRIPTION:
URL:https://lambdahouston.org/events/candlelight-meeting/2027-01-16
LOCATION:Lambda Center Houston\, West Clay Street\, Houston\, TX\, 77019\, United States
CATEGORIES:CMA
GEO:29.7551684;-95.3940619
X-APPLE-STRUCTURED-LOCATION;VALUE=URI;X-ADDRESS=Lambda Center Houston West Clay Street Houston TX 77019 United States;X-APPLE-RADIUS=500;X-TITLE=West Clay Street:geo:-95.3940619,29.7551684
END:VEVENT
BEGIN:VEVENT
DTSTART;TZID=America/Chicago:20270123T203000
DTEND;TZID=America/Chicago:20270123T213000
DTSTAMP:20260425T131050
CREATED:20240715T032739Z
LAST-MODIFIED:20250601T152213Z
UID:10028898-1800736200-1800739800@lambdahouston.org
SUMMARY:Candlelight Meeting
DESCRIPTION:
URL:https://lambdahouston.org/events/candlelight-meeting/2027-01-23
LOCATION:Lambda Center Houston\, West Clay Street\, Houston\, TX\, 77019\, United States
CATEGORIES:CMA
GEO:29.7551684;-95.3940619
X-APPLE-STRUCTURED-LOCATION;VALUE=URI;X-ADDRESS=Lambda Center Houston West Clay Street Houston TX 77019 United States;X-APPLE-RADIUS=500;X-TITLE=West Clay Street:geo:-95.3940619,29.7551684
END:VEVENT
BEGIN:VEVENT
DTSTART;TZID=America/Chicago:20270130T203000
DTEND;TZID=America/Chicago:20270130T213000
DTSTAMP:20260425T131050
CREATED:20240715T032739Z
LAST-MODIFIED:20250601T152213Z
UID:10028899-1801341000-1801344600@lambdahouston.org
SUMMARY:Candlelight Meeting
DESCRIPTION:
URL:https://lambdahouston.org/events/candlelight-meeting/2027-01-30
LOCATION:Lambda Center Houston\, West Clay Street\, Houston\, TX\, 77019\, United States
CATEGORIES:CMA
GEO:29.7551684;-95.3940619
X-APPLE-STRUCTURED-LOCATION;VALUE=URI;X-ADDRESS=Lambda Center Houston West Clay Street Houston TX 77019 United States;X-APPLE-RADIUS=500;X-TITLE=West Clay Street:geo:-95.3940619,29.7551684
END:VEVENT
BEGIN:VEVENT
DTSTART;TZID=America/Chicago:20270206T203000
DTEND;TZID=America/Chicago:20270206T213000
DTSTAMP:20260425T131050
CREATED:20240715T032739Z
LAST-MODIFIED:20250601T152213Z
UID:10028900-1801945800-1801949400@lambdahouston.org
SUMMARY:Candlelight Meeting
DESCRIPTION:
URL:https://lambdahouston.org/events/candlelight-meeting/2027-02-06
LOCATION:Lambda Center Houston\, West Clay Street\, Houston\, TX\, 77019\, United States
CATEGORIES:CMA
GEO:29.7551684;-95.3940619
X-APPLE-STRUCTURED-LOCATION;VALUE=URI;X-ADDRESS=Lambda Center Houston West Clay Street Houston TX 77019 United States;X-APPLE-RADIUS=500;X-TITLE=West Clay Street:geo:-95.3940619,29.7551684
END:VEVENT
BEGIN:VEVENT
DTSTART;TZID=America/Chicago:20270213T203000
DTEND;TZID=America/Chicago:20270213T213000
DTSTAMP:20260425T131050
CREATED:20240715T032739Z
LAST-MODIFIED:20250601T152213Z
UID:10028901-1802550600-1802554200@lambdahouston.org
SUMMARY:Candlelight Meeting
DESCRIPTION:
URL:https://lambdahouston.org/events/candlelight-meeting/2027-02-13
LOCATION:Lambda Center Houston\, West Clay Street\, Houston\, TX\, 77019\, United States
CATEGORIES:CMA
GEO:29.7551684;-95.3940619
X-APPLE-STRUCTURED-LOCATION;VALUE=URI;X-ADDRESS=Lambda Center Houston West Clay Street Houston TX 77019 United States;X-APPLE-RADIUS=500;X-TITLE=West Clay Street:geo:-95.3940619,29.7551684
END:VEVENT
BEGIN:VEVENT
DTSTART;TZID=America/Chicago:20270220T203000
DTEND;TZID=America/Chicago:20270220T213000
DTSTAMP:20260425T131050
CREATED:20240715T032739Z
LAST-MODIFIED:20250601T152213Z
UID:10028902-1803155400-1803159000@lambdahouston.org
SUMMARY:Candlelight Meeting
DESCRIPTION:
URL:https://lambdahouston.org/events/candlelight-meeting/2027-02-20
LOCATION:Lambda Center Houston\, West Clay Street\, Houston\, TX\, 77019\, United States
CATEGORIES:CMA
GEO:29.7551684;-95.3940619
X-APPLE-STRUCTURED-LOCATION;VALUE=URI;X-ADDRESS=Lambda Center Houston West Clay Street Houston TX 77019 United States;X-APPLE-RADIUS=500;X-TITLE=West Clay Street:geo:-95.3940619,29.7551684
END:VEVENT
BEGIN:VEVENT
DTSTART;TZID=America/Chicago:20270227T203000
DTEND;TZID=America/Chicago:20270227T213000
DTSTAMP:20260425T131050
CREATED:20240715T032739Z
LAST-MODIFIED:20250601T152213Z
UID:10028903-1803760200-1803763800@lambdahouston.org
SUMMARY:Candlelight Meeting
DESCRIPTION:
URL:https://lambdahouston.org/events/candlelight-meeting/2027-02-27
LOCATION:Lambda Center Houston\, West Clay Street\, Houston\, TX\, 77019\, United States
CATEGORIES:CMA
GEO:29.7551684;-95.3940619
X-APPLE-STRUCTURED-LOCATION;VALUE=URI;X-ADDRESS=Lambda Center Houston West Clay Street Houston TX 77019 United States;X-APPLE-RADIUS=500;X-TITLE=West Clay Street:geo:-95.3940619,29.7551684
END:VEVENT
BEGIN:VEVENT
DTSTART;TZID=America/Chicago:20270306T203000
DTEND;TZID=America/Chicago:20270306T213000
DTSTAMP:20260425T131050
CREATED:20240715T032739Z
LAST-MODIFIED:20250601T152213Z
UID:10028904-1804365000-1804368600@lambdahouston.org
SUMMARY:Candlelight Meeting
DESCRIPTION:
URL:https://lambdahouston.org/events/candlelight-meeting/2027-03-06
LOCATION:Lambda Center Houston\, West Clay Street\, Houston\, TX\, 77019\, United States
CATEGORIES:CMA
GEO:29.7551684;-95.3940619
X-APPLE-STRUCTURED-LOCATION;VALUE=URI;X-ADDRESS=Lambda Center Houston West Clay Street Houston TX 77019 United States;X-APPLE-RADIUS=500;X-TITLE=West Clay Street:geo:-95.3940619,29.7551684
END:VEVENT
BEGIN:VEVENT
DTSTART;TZID=America/Chicago:20270313T203000
DTEND;TZID=America/Chicago:20270313T213000
DTSTAMP:20260425T131050
CREATED:20240715T032739Z
LAST-MODIFIED:20250601T152213Z
UID:10028905-1804969800-1804973400@lambdahouston.org
SUMMARY:Candlelight Meeting
DESCRIPTION:
URL:https://lambdahouston.org/events/candlelight-meeting/2027-03-13
LOCATION:Lambda Center Houston\, West Clay Street\, Houston\, TX\, 77019\, United States
CATEGORIES:CMA
GEO:29.7551684;-95.3940619
X-APPLE-STRUCTURED-LOCATION;VALUE=URI;X-ADDRESS=Lambda Center Houston West Clay Street Houston TX 77019 United States;X-APPLE-RADIUS=500;X-TITLE=West Clay Street:geo:-95.3940619,29.7551684
END:VEVENT
BEGIN:VEVENT
DTSTART;TZID=America/Chicago:20270320T203000
DTEND;TZID=America/Chicago:20270320T213000
DTSTAMP:20260425T131050
CREATED:20240715T032739Z
LAST-MODIFIED:20250601T152213Z
UID:10028906-1805574600-1805578200@lambdahouston.org
SUMMARY:Candlelight Meeting
DESCRIPTION:
URL:https://lambdahouston.org/events/candlelight-meeting/2027-03-20
LOCATION:Lambda Center Houston\, West Clay Street\, Houston\, TX\, 77019\, United States
CATEGORIES:CMA
GEO:29.7551684;-95.3940619
X-APPLE-STRUCTURED-LOCATION;VALUE=URI;X-ADDRESS=Lambda Center Houston West Clay Street Houston TX 77019 United States;X-APPLE-RADIUS=500;X-TITLE=West Clay Street:geo:-95.3940619,29.7551684
END:VEVENT
BEGIN:VEVENT
DTSTART;TZID=America/Chicago:20270327T203000
DTEND;TZID=America/Chicago:20270327T213000
DTSTAMP:20260425T131050
CREATED:20240715T032739Z
LAST-MODIFIED:20250601T152213Z
UID:10028907-1806179400-1806183000@lambdahouston.org
SUMMARY:Candlelight Meeting
DESCRIPTION:
URL:https://lambdahouston.org/events/candlelight-meeting/2027-03-27
LOCATION:Lambda Center Houston\, West Clay Street\, Houston\, TX\, 77019\, United States
CATEGORIES:CMA
GEO:29.7551684;-95.3940619
X-APPLE-STRUCTURED-LOCATION;VALUE=URI;X-ADDRESS=Lambda Center Houston West Clay Street Houston TX 77019 United States;X-APPLE-RADIUS=500;X-TITLE=West Clay Street:geo:-95.3940619,29.7551684
END:VEVENT
BEGIN:VEVENT
DTSTART;TZID=America/Chicago:20270403T203000
DTEND;TZID=America/Chicago:20270403T213000
DTSTAMP:20260425T131050
CREATED:20240715T032739Z
LAST-MODIFIED:20250601T152213Z
UID:10028908-1806784200-1806787800@lambdahouston.org
SUMMARY:Candlelight Meeting
DESCRIPTION:
URL:https://lambdahouston.org/events/candlelight-meeting/2027-04-03
LOCATION:Lambda Center Houston\, West Clay Street\, Houston\, TX\, 77019\, United States
CATEGORIES:CMA
GEO:29.7551684;-95.3940619
X-APPLE-STRUCTURED-LOCATION;VALUE=URI;X-ADDRESS=Lambda Center Houston West Clay Street Houston TX 77019 United States;X-APPLE-RADIUS=500;X-TITLE=West Clay Street:geo:-95.3940619,29.7551684
END:VEVENT
BEGIN:VEVENT
DTSTART;TZID=America/Chicago:20270410T203000
DTEND;TZID=America/Chicago:20270410T213000
DTSTAMP:20260425T131050
CREATED:20240715T032739Z
LAST-MODIFIED:20250601T152213Z
UID:10028909-1807389000-1807392600@lambdahouston.org
SUMMARY:Candlelight Meeting
DESCRIPTION:
URL:https://lambdahouston.org/events/candlelight-meeting/2027-04-10
LOCATION:Lambda Center Houston\, West Clay Street\, Houston\, TX\, 77019\, United States
CATEGORIES:CMA
GEO:29.7551684;-95.3940619
X-APPLE-STRUCTURED-LOCATION;VALUE=URI;X-ADDRESS=Lambda Center Houston West Clay Street Houston TX 77019 United States;X-APPLE-RADIUS=500;X-TITLE=West Clay Street:geo:-95.3940619,29.7551684
END:VEVENT
BEGIN:VEVENT
DTSTART;TZID=America/Chicago:20270417T203000
DTEND;TZID=America/Chicago:20270417T213000
DTSTAMP:20260425T131050
CREATED:20240715T032739Z
LAST-MODIFIED:20250601T152213Z
UID:10028910-1807993800-1807997400@lambdahouston.org
SUMMARY:Candlelight Meeting
DESCRIPTION:
URL:https://lambdahouston.org/events/candlelight-meeting/2027-04-17
LOCATION:Lambda Center Houston\, West Clay Street\, Houston\, TX\, 77019\, United States
CATEGORIES:CMA
GEO:29.7551684;-95.3940619
X-APPLE-STRUCTURED-LOCATION;VALUE=URI;X-ADDRESS=Lambda Center Houston West Clay Street Houston TX 77019 United States;X-APPLE-RADIUS=500;X-TITLE=West Clay Street:geo:-95.3940619,29.7551684
END:VEVENT
BEGIN:VEVENT
DTSTART;TZID=America/Chicago:20270424T203000
DTEND;TZID=America/Chicago:20270424T213000
DTSTAMP:20260425T131050
CREATED:20240715T032739Z
LAST-MODIFIED:20250601T152213Z
UID:10028911-1808598600-1808602200@lambdahouston.org
SUMMARY:Candlelight Meeting
DESCRIPTION:
URL:https://lambdahouston.org/events/candlelight-meeting/2027-04-24
LOCATION:Lambda Center Houston\, West Clay Street\, Houston\, TX\, 77019\, United States
CATEGORIES:CMA
GEO:29.7551684;-95.3940619
X-APPLE-STRUCTURED-LOCATION;VALUE=URI;X-ADDRESS=Lambda Center Houston West Clay Street Houston TX 77019 United States;X-APPLE-RADIUS=500;X-TITLE=West Clay Street:geo:-95.3940619,29.7551684
END:VEVENT
BEGIN:VEVENT
DTSTART;TZID=America/Chicago:20270501T203000
DTEND;TZID=America/Chicago:20270501T213000
DTSTAMP:20260425T131050
CREATED:20240715T032739Z
LAST-MODIFIED:20250601T152213Z
UID:10028912-1809203400-1809207000@lambdahouston.org
SUMMARY:Candlelight Meeting
DESCRIPTION:
URL:https://lambdahouston.org/events/candlelight-meeting/2027-05-01
LOCATION:Lambda Center Houston\, West Clay Street\, Houston\, TX\, 77019\, United States
CATEGORIES:CMA
GEO:29.7551684;-95.3940619
X-APPLE-STRUCTURED-LOCATION;VALUE=URI;X-ADDRESS=Lambda Center Houston West Clay Street Houston TX 77019 United States;X-APPLE-RADIUS=500;X-TITLE=West Clay Street:geo:-95.3940619,29.7551684
END:VEVENT
BEGIN:VEVENT
DTSTART;TZID=America/Chicago:20270508T203000
DTEND;TZID=America/Chicago:20270508T213000
DTSTAMP:20260425T131050
CREATED:20240715T032739Z
LAST-MODIFIED:20250601T152213Z
UID:10028913-1809808200-1809811800@lambdahouston.org
SUMMARY:Candlelight Meeting
DESCRIPTION:
URL:https://lambdahouston.org/events/candlelight-meeting/2027-05-08
LOCATION:Lambda Center Houston\, West Clay Street\, Houston\, TX\, 77019\, United States
CATEGORIES:CMA
GEO:29.7551684;-95.3940619
X-APPLE-STRUCTURED-LOCATION;VALUE=URI;X-ADDRESS=Lambda Center Houston West Clay Street Houston TX 77019 United States;X-APPLE-RADIUS=500;X-TITLE=West Clay Street:geo:-95.3940619,29.7551684
END:VEVENT
BEGIN:VEVENT
DTSTART;TZID=America/Chicago:20270515T203000
DTEND;TZID=America/Chicago:20270515T213000
DTSTAMP:20260425T131050
CREATED:20240715T032739Z
LAST-MODIFIED:20250601T152213Z
UID:10028914-1810413000-1810416600@lambdahouston.org
SUMMARY:Candlelight Meeting
DESCRIPTION:
URL:https://lambdahouston.org/events/candlelight-meeting/2027-05-15
LOCATION:Lambda Center Houston\, West Clay Street\, Houston\, TX\, 77019\, United States
CATEGORIES:CMA
GEO:29.7551684;-95.3940619
X-APPLE-STRUCTURED-LOCATION;VALUE=URI;X-ADDRESS=Lambda Center Houston West Clay Street Houston TX 77019 United States;X-APPLE-RADIUS=500;X-TITLE=West Clay Street:geo:-95.3940619,29.7551684
END:VEVENT
BEGIN:VEVENT
DTSTART;TZID=America/Chicago:20270522T203000
DTEND;TZID=America/Chicago:20270522T213000
DTSTAMP:20260425T131050
CREATED:20240715T032739Z
LAST-MODIFIED:20250601T152213Z
UID:10028915-1811017800-1811021400@lambdahouston.org
SUMMARY:Candlelight Meeting
DESCRIPTION:
URL:https://lambdahouston.org/events/candlelight-meeting/2027-05-22
LOCATION:Lambda Center Houston\, West Clay Street\, Houston\, TX\, 77019\, United States
CATEGORIES:CMA
GEO:29.7551684;-95.3940619
X-APPLE-STRUCTURED-LOCATION;VALUE=URI;X-ADDRESS=Lambda Center Houston West Clay Street Houston TX 77019 United States;X-APPLE-RADIUS=500;X-TITLE=West Clay Street:geo:-95.3940619,29.7551684
END:VEVENT
BEGIN:VEVENT
DTSTART;TZID=America/Chicago:20270529T203000
DTEND;TZID=America/Chicago:20270529T213000
DTSTAMP:20260425T131050
CREATED:20240715T032739Z
LAST-MODIFIED:20250601T152213Z
UID:10028916-1811622600-1811626200@lambdahouston.org
SUMMARY:Candlelight Meeting
DESCRIPTION:
URL:https://lambdahouston.org/events/candlelight-meeting/2027-05-29
LOCATION:Lambda Center Houston\, West Clay Street\, Houston\, TX\, 77019\, United States
CATEGORIES:CMA
GEO:29.7551684;-95.3940619
X-APPLE-STRUCTURED-LOCATION;VALUE=URI;X-ADDRESS=Lambda Center Houston West Clay Street Houston TX 77019 United States;X-APPLE-RADIUS=500;X-TITLE=West Clay Street:geo:-95.3940619,29.7551684
END:VEVENT
BEGIN:VEVENT
DTSTART;TZID=America/Chicago:20270605T203000
DTEND;TZID=America/Chicago:20270605T213000
DTSTAMP:20260425T131050
CREATED:20240715T032739Z
LAST-MODIFIED:20250601T152213Z
UID:10028917-1812227400-1812231000@lambdahouston.org
SUMMARY:Candlelight Meeting
DESCRIPTION:
URL:https://lambdahouston.org/events/candlelight-meeting/2027-06-05
LOCATION:Lambda Center Houston\, West Clay Street\, Houston\, TX\, 77019\, United States
CATEGORIES:CMA
GEO:29.7551684;-95.3940619
X-APPLE-STRUCTURED-LOCATION;VALUE=URI;X-ADDRESS=Lambda Center Houston West Clay Street Houston TX 77019 United States;X-APPLE-RADIUS=500;X-TITLE=West Clay Street:geo:-95.3940619,29.7551684
END:VEVENT
BEGIN:VEVENT
DTSTART;TZID=America/Chicago:20270612T203000
DTEND;TZID=America/Chicago:20270612T213000
DTSTAMP:20260425T131050
CREATED:20240715T032739Z
LAST-MODIFIED:20250601T152213Z
UID:10028918-1812832200-1812835800@lambdahouston.org
SUMMARY:Candlelight Meeting
DESCRIPTION:
URL:https://lambdahouston.org/events/candlelight-meeting/2027-06-12
LOCATION:Lambda Center Houston\, West Clay Street\, Houston\, TX\, 77019\, United States
CATEGORIES:CMA
GEO:29.7551684;-95.3940619
X-APPLE-STRUCTURED-LOCATION;VALUE=URI;X-ADDRESS=Lambda Center Houston West Clay Street Houston TX 77019 United States;X-APPLE-RADIUS=500;X-TITLE=West Clay Street:geo:-95.3940619,29.7551684
END:VEVENT
BEGIN:VEVENT
DTSTART;TZID=America/Chicago:20270619T203000
DTEND;TZID=America/Chicago:20270619T213000
DTSTAMP:20260425T131050
CREATED:20240715T032739Z
LAST-MODIFIED:20250601T152213Z
UID:10028919-1813437000-1813440600@lambdahouston.org
SUMMARY:Candlelight Meeting
DESCRIPTION:
URL:https://lambdahouston.org/events/candlelight-meeting/2027-06-19
LOCATION:Lambda Center Houston\, West Clay Street\, Houston\, TX\, 77019\, United States
CATEGORIES:CMA
GEO:29.7551684;-95.3940619
X-APPLE-STRUCTURED-LOCATION;VALUE=URI;X-ADDRESS=Lambda Center Houston West Clay Street Houston TX 77019 United States;X-APPLE-RADIUS=500;X-TITLE=West Clay Street:geo:-95.3940619,29.7551684
END:VEVENT
BEGIN:VEVENT
DTSTART;TZID=America/Chicago:20270626T203000
DTEND;TZID=America/Chicago:20270626T213000
DTSTAMP:20260425T131050
CREATED:20240715T032739Z
LAST-MODIFIED:20250601T152213Z
UID:10028920-1814041800-1814045400@lambdahouston.org
SUMMARY:Candlelight Meeting
DESCRIPTION:
URL:https://lambdahouston.org/events/candlelight-meeting/2027-06-26
LOCATION:Lambda Center Houston\, West Clay Street\, Houston\, TX\, 77019\, United States
CATEGORIES:CMA
GEO:29.7551684;-95.3940619
X-APPLE-STRUCTURED-LOCATION;VALUE=URI;X-ADDRESS=Lambda Center Houston West Clay Street Houston TX 77019 United States;X-APPLE-RADIUS=500;X-TITLE=West Clay Street:geo:-95.3940619,29.7551684
END:VEVENT
END:VCALENDAR