BEGIN:VCALENDAR
VERSION:2.0
PRODID:-//Lambda Center Houston - ECPv6.15.16//NONSGML v1.0//EN
CALSCALE:GREGORIAN
METHOD:PUBLISH
X-ORIGINAL-URL:https://lambdahouston.org
X-WR-CALDESC:Events for Lambda Center Houston
REFRESH-INTERVAL;VALUE=DURATION:PT1H
X-Robots-Tag:noindex
X-PUBLISHED-TTL:PT1H
BEGIN:VTIMEZONE
TZID:America/Chicago
BEGIN:DAYLIGHT
TZOFFSETFROM:-0600
TZOFFSETTO:-0500
TZNAME:CDT
DTSTART:20240310T080000
END:DAYLIGHT
BEGIN:STANDARD
TZOFFSETFROM:-0500
TZOFFSETTO:-0600
TZNAME:CST
DTSTART:20241103T070000
END:STANDARD
BEGIN:DAYLIGHT
TZOFFSETFROM:-0600
TZOFFSETTO:-0500
TZNAME:CDT
DTSTART:20250309T080000
END:DAYLIGHT
BEGIN:STANDARD
TZOFFSETFROM:-0500
TZOFFSETTO:-0600
TZNAME:CST
DTSTART:20251102T070000
END:STANDARD
BEGIN:DAYLIGHT
TZOFFSETFROM:-0600
TZOFFSETTO:-0500
TZNAME:CDT
DTSTART:20260308T080000
END:DAYLIGHT
BEGIN:STANDARD
TZOFFSETFROM:-0500
TZOFFSETTO:-0600
TZNAME:CST
DTSTART:20261101T070000
END:STANDARD
END:VTIMEZONE
BEGIN:VEVENT
DTSTART;TZID=America/Chicago:20251219T063000
DTEND;TZID=America/Chicago:20251219T073000
DTSTAMP:20260425T193015
CREATED:20240714T233421Z
LAST-MODIFIED:20240714T233729Z
UID:10003487-1766125800-1766129400@lambdahouston.org
SUMMARY:Eyes Wide Shut
DESCRIPTION:
URL:https://lambdahouston.org/events/eyes-wide-shut/2025-12-19
LOCATION:Lambda Center Houston\, West Clay Street\, Houston\, TX\, 77019\, United States
CATEGORIES:AA
GEO:29.7551684;-95.3940619
X-APPLE-STRUCTURED-LOCATION;VALUE=URI;X-ADDRESS=Lambda Center Houston West Clay Street Houston TX 77019 United States;X-APPLE-RADIUS=500;X-TITLE=West Clay Street:geo:-95.3940619,29.7551684
END:VEVENT
BEGIN:VEVENT
DTSTART;TZID=America/Chicago:20251219T063000
DTEND;TZID=America/Chicago:20251219T073000
DTSTAMP:20260425T193015
CREATED:20240719T140125Z
LAST-MODIFIED:20240719T140125Z
UID:10023469-1766125800-1766129400@lambdahouston.org
SUMMARY:Virtual Eyes Wide Shut
DESCRIPTION:Monday-Friday 6:30 AM\nOpen AA Discussion\nbit.ly/lambdavirtualews\nMeeting ID: 199-058-948 | Passcode: 364724 \n  \nJOIN 6:30 AM MEETING
URL:https://lambdahouston.org/events/virtual-eyes-wide-shut/2025-12-19
LOCATION:Lambda Center Houston\, West Clay Street\, Houston\, TX\, 77019\, United States
CATEGORIES:AA
GEO:29.7551684;-95.3940619
X-APPLE-STRUCTURED-LOCATION;VALUE=URI;X-ADDRESS=Lambda Center Houston West Clay Street Houston TX 77019 United States;X-APPLE-RADIUS=500;X-TITLE=West Clay Street:geo:-95.3940619,29.7551684
END:VEVENT
BEGIN:VEVENT
DTSTART;TZID=America/Chicago:20251219T121500
DTEND;TZID=America/Chicago:20251219T131500
DTSTAMP:20260425T193015
CREATED:20240714T234530Z
LAST-MODIFIED:20240714T234633Z
UID:10007663-1766146500-1766150100@lambdahouston.org
SUMMARY:The 12:15 Group
DESCRIPTION:
URL:https://lambdahouston.org/events/the-1215-group/2025-12-19
LOCATION:Lambda Center Houston\, West Clay Street\, Houston\, TX\, 77019\, United States
CATEGORIES:AA
GEO:29.7551684;-95.3940619
X-APPLE-STRUCTURED-LOCATION;VALUE=URI;X-ADDRESS=Lambda Center Houston West Clay Street Houston TX 77019 United States;X-APPLE-RADIUS=500;X-TITLE=West Clay Street:geo:-95.3940619,29.7551684
END:VEVENT
BEGIN:VEVENT
DTSTART;TZID=America/Chicago:20251219T171500
DTEND;TZID=America/Chicago:20251219T181500
DTSTAMP:20260425T193015
CREATED:20240715T023311Z
LAST-MODIFIED:20240715T023311Z
UID:10016387-1766164500-1766168100@lambdahouston.org
SUMMARY:Study and Grow
DESCRIPTION:
URL:https://lambdahouston.org/events/study-and-grow/2025-12-19
LOCATION:Lambda Center Houston\, West Clay Street\, Houston\, TX\, 77019\, United States
CATEGORIES:AA
GEO:29.7551684;-95.3940619
X-APPLE-STRUCTURED-LOCATION;VALUE=URI;X-ADDRESS=Lambda Center Houston West Clay Street Houston TX 77019 United States;X-APPLE-RADIUS=500;X-TITLE=West Clay Street:geo:-95.3940619,29.7551684
END:VEVENT
BEGIN:VEVENT
DTSTART;TZID=America/Chicago:20251219T183000
DTEND;TZID=America/Chicago:20251219T193000
DTSTAMP:20260425T193015
CREATED:20240715T023703Z
LAST-MODIFIED:20240715T024155Z
UID:10016648-1766169000-1766172600@lambdahouston.org
SUMMARY:Positive Sobriety
DESCRIPTION:
URL:https://lambdahouston.org/events/positive-sobriety/2025-12-19
LOCATION:Lambda Center Houston\, West Clay Street\, Houston\, TX\, 77019\, United States
CATEGORIES:AA
GEO:29.7551684;-95.3940619
X-APPLE-STRUCTURED-LOCATION;VALUE=URI;X-ADDRESS=Lambda Center Houston West Clay Street Houston TX 77019 United States;X-APPLE-RADIUS=500;X-TITLE=West Clay Street:geo:-95.3940619,29.7551684
END:VEVENT
BEGIN:VEVENT
DTSTART;TZID=America/Chicago:20251219T183000
DTEND;TZID=America/Chicago:20251219T193000
DTSTAMP:20260425T193015
CREATED:20250105T191127Z
LAST-MODIFIED:20250105T191129Z
UID:10026131-1766169000-1766172600@lambdahouston.org
SUMMARY:Free Spirits
DESCRIPTION:
URL:https://lambdahouston.org/events/free-spirits/2025-12-19
LOCATION:Lambda Center Houston\, West Clay Street\, Houston\, TX\, 77019\, United States
CATEGORIES:ACA
GEO:29.7551684;-95.3940619
X-APPLE-STRUCTURED-LOCATION;VALUE=URI;X-ADDRESS=Lambda Center Houston West Clay Street Houston TX 77019 United States;X-APPLE-RADIUS=500;X-TITLE=West Clay Street:geo:-95.3940619,29.7551684
END:VEVENT
BEGIN:VEVENT
DTSTART;TZID=America/Chicago:20251219T194500
DTEND;TZID=America/Chicago:20251219T204500
DTSTAMP:20260425T193015
CREATED:20240715T024046Z
LAST-MODIFIED:20240715T024046Z
UID:10016909-1766173500-1766177100@lambdahouston.org
SUMMARY:The 10th Step Group
DESCRIPTION:
URL:https://lambdahouston.org/events/the-10th-step-group/2025-12-19
LOCATION:Lambda Center Houston\, West Clay Street\, Houston\, TX\, 77019\, United States
CATEGORIES:AA
GEO:29.7551684;-95.3940619
X-APPLE-STRUCTURED-LOCATION;VALUE=URI;X-ADDRESS=Lambda Center Houston West Clay Street Houston TX 77019 United States;X-APPLE-RADIUS=500;X-TITLE=West Clay Street:geo:-95.3940619,29.7551684
END:VEVENT
BEGIN:VEVENT
DTSTART;TZID=America/Chicago:20251219T200000
DTEND;TZID=America/Chicago:20251219T210000
DTSTAMP:20260425T193015
CREATED:20240715T024356Z
LAST-MODIFIED:20240715T024356Z
UID:10017170-1766174400-1766178000@lambdahouston.org
SUMMARY:The Young and The Restless
DESCRIPTION:
URL:https://lambdahouston.org/events/the-young-and-the-restless/2025-12-19
LOCATION:Lambda Center Houston\, West Clay Street\, Houston\, TX\, 77019\, United States
CATEGORIES:CMA
GEO:29.7551684;-95.3940619
X-APPLE-STRUCTURED-LOCATION;VALUE=URI;X-ADDRESS=Lambda Center Houston West Clay Street Houston TX 77019 United States;X-APPLE-RADIUS=500;X-TITLE=West Clay Street:geo:-95.3940619,29.7551684
END:VEVENT
BEGIN:VEVENT
DTSTART;TZID=America/Chicago:20251219T213000
DTEND;TZID=America/Chicago:20251219T223000
DTSTAMP:20260425T193015
CREATED:20250623T200839Z
LAST-MODIFIED:20250623T205152Z
UID:10032040-1766179800-1766183400@lambdahouston.org
SUMMARY:Last Call for Serenity
DESCRIPTION:
URL:https://lambdahouston.org/events/last-call-for-serenity-2/2025-12-19
LOCATION:Lambda Center Houston\, West Clay Street\, Houston\, TX\, 77019\, United States
CATEGORIES:AA
GEO:29.7551684;-95.3940619
X-APPLE-STRUCTURED-LOCATION;VALUE=URI;X-ADDRESS=Lambda Center Houston West Clay Street Houston TX 77019 United States;X-APPLE-RADIUS=500;X-TITLE=West Clay Street:geo:-95.3940619,29.7551684
END:VEVENT
BEGIN:VEVENT
DTSTART;TZID=America/Chicago:20251219T230000
DTEND;TZID=America/Chicago:20251219T230000
DTSTAMP:20260425T193015
CREATED:20240715T033509Z
LAST-MODIFIED:20240715T035944Z
UID:10021124-1766185200-1766185200@lambdahouston.org
SUMMARY:Lambda Center Closes
DESCRIPTION:
URL:https://lambdahouston.org/events/lambda-center-closes/2025-12-19
LOCATION:Lambda Center Houston\, West Clay Street\, Houston\, TX\, 77019\, United States
GEO:29.7551684;-95.3940619
X-APPLE-STRUCTURED-LOCATION;VALUE=URI;X-ADDRESS=Lambda Center Houston West Clay Street Houston TX 77019 United States;X-APPLE-RADIUS=500;X-TITLE=West Clay Street:geo:-95.3940619,29.7551684
END:VEVENT
BEGIN:VEVENT
DTSTART;TZID=America/Chicago:20251220T080000
DTEND;TZID=America/Chicago:20251220T080000
DTSTAMP:20260425T193015
CREATED:20240715T034549Z
LAST-MODIFIED:20240715T135408Z
UID:10022129-1766217600-1766217600@lambdahouston.org
SUMMARY:Lambda Center Opens
DESCRIPTION:
URL:https://lambdahouston.org/events/lambda-center-opens-2/2025-12-20
LOCATION:Lambda Center Houston\, West Clay Street\, Houston\, TX\, 77019\, United States
GEO:29.7551684;-95.3940619
X-APPLE-STRUCTURED-LOCATION;VALUE=URI;X-ADDRESS=Lambda Center Houston West Clay Street Houston TX 77019 United States;X-APPLE-RADIUS=500;X-TITLE=West Clay Street:geo:-95.3940619,29.7551684
END:VEVENT
BEGIN:VEVENT
DTSTART;TZID=America/Chicago:20251220T083000
DTEND;TZID=America/Chicago:20251220T093000
DTSTAMP:20260425T193015
CREATED:20240715T024602Z
LAST-MODIFIED:20240715T024602Z
UID:10017431-1766219400-1766223000@lambdahouston.org
SUMMARY:Early Bird
DESCRIPTION:
URL:https://lambdahouston.org/events/early-bird/2025-12-20
LOCATION:Lambda Center Houston\, West Clay Street\, Houston\, TX\, 77019\, United States
CATEGORIES:AA
GEO:29.7551684;-95.3940619
X-APPLE-STRUCTURED-LOCATION;VALUE=URI;X-ADDRESS=Lambda Center Houston West Clay Street Houston TX 77019 United States;X-APPLE-RADIUS=500;X-TITLE=West Clay Street:geo:-95.3940619,29.7551684
END:VEVENT
BEGIN:VEVENT
DTSTART;TZID=America/Chicago:20251220T100000
DTEND;TZID=America/Chicago:20251220T110000
DTSTAMP:20260425T193015
CREATED:20240715T024855Z
LAST-MODIFIED:20240715T024855Z
UID:10017692-1766224800-1766228400@lambdahouston.org
SUMMARY:The 11th Step Group
DESCRIPTION:
URL:https://lambdahouston.org/events/the-11th-step-group/2025-12-20
LOCATION:Lambda Center Houston\, West Clay Street\, Houston\, TX\, 77019\, United States
CATEGORIES:AA
GEO:29.7551684;-95.3940619
X-APPLE-STRUCTURED-LOCATION;VALUE=URI;X-ADDRESS=Lambda Center Houston West Clay Street Houston TX 77019 United States;X-APPLE-RADIUS=500;X-TITLE=West Clay Street:geo:-95.3940619,29.7551684
END:VEVENT
BEGIN:VEVENT
DTSTART;TZID=America/Chicago:20251220T100000
DTEND;TZID=America/Chicago:20251220T110000
DTSTAMP:20260425T193015
CREATED:20240715T025304Z
LAST-MODIFIED:20240715T025304Z
UID:10017953-1766224800-1766228400@lambdahouston.org
SUMMARY:4th Dimension (Women's Discussion)
DESCRIPTION:
URL:https://lambdahouston.org/events/4th-dimension-womens-discussion/2025-12-20
LOCATION:Lambda Center Houston\, West Clay Street\, Houston\, TX\, 77019\, United States
CATEGORIES:AA
GEO:29.7551684;-95.3940619
X-APPLE-STRUCTURED-LOCATION;VALUE=URI;X-ADDRESS=Lambda Center Houston West Clay Street Houston TX 77019 United States;X-APPLE-RADIUS=500;X-TITLE=West Clay Street:geo:-95.3940619,29.7551684
END:VEVENT
BEGIN:VEVENT
DTSTART;TZID=America/Chicago:20251220T113000
DTEND;TZID=America/Chicago:20251220T123000
DTSTAMP:20260425T193015
CREATED:20240715T025611Z
LAST-MODIFIED:20240715T025611Z
UID:10018214-1766230200-1766233800@lambdahouston.org
SUMMARY:Eye Opener
DESCRIPTION:
URL:https://lambdahouston.org/events/eye-opener/2025-12-20
LOCATION:Lambda Center Houston\, West Clay Street\, Houston\, TX\, 77019\, United States
CATEGORIES:AA
GEO:29.7551684;-95.3940619
X-APPLE-STRUCTURED-LOCATION;VALUE=URI;X-ADDRESS=Lambda Center Houston West Clay Street Houston TX 77019 United States;X-APPLE-RADIUS=500;X-TITLE=West Clay Street:geo:-95.3940619,29.7551684
END:VEVENT
BEGIN:VEVENT
DTSTART;TZID=America/Chicago:20251220T113000
DTEND;TZID=America/Chicago:20251220T130000
DTSTAMP:20260425T193015
CREATED:20240715T030301Z
LAST-MODIFIED:20240715T030301Z
UID:10018475-1766230200-1766235600@lambdahouston.org
SUMMARY:Loving Parent Guidebook (90 mins)
DESCRIPTION:
URL:https://lambdahouston.org/events/loving-parent-guidebook-90-mins/2025-12-20
LOCATION:Lambda Center Houston\, West Clay Street\, Houston\, TX\, 77019\, United States
CATEGORIES:ACA
GEO:29.7551684;-95.3940619
X-APPLE-STRUCTURED-LOCATION;VALUE=URI;X-ADDRESS=Lambda Center Houston West Clay Street Houston TX 77019 United States;X-APPLE-RADIUS=500;X-TITLE=West Clay Street:geo:-95.3940619,29.7551684
END:VEVENT
BEGIN:VEVENT
DTSTART;TZID=America/Chicago:20251220T150000
DTEND;TZID=America/Chicago:20251220T160000
DTSTAMP:20260425T193015
CREATED:20240715T030647Z
LAST-MODIFIED:20240715T030647Z
UID:10018736-1766242800-1766246400@lambdahouston.org
SUMMARY:Meditate & Create
DESCRIPTION:
URL:https://lambdahouston.org/events/meditate-create/2025-12-20
LOCATION:Lambda Center Houston\, West Clay Street\, Houston\, TX\, 77019\, United States
CATEGORIES:AA
GEO:29.7551684;-95.3940619
X-APPLE-STRUCTURED-LOCATION;VALUE=URI;X-ADDRESS=Lambda Center Houston West Clay Street Houston TX 77019 United States;X-APPLE-RADIUS=500;X-TITLE=West Clay Street:geo:-95.3940619,29.7551684
END:VEVENT
BEGIN:VEVENT
DTSTART;TZID=America/Chicago:20251220T190000
DTEND;TZID=America/Chicago:20251220T200000
DTSTAMP:20260425T193015
CREATED:20240715T031101Z
LAST-MODIFIED:20240715T031135Z
UID:10018980-1766257200-1766260800@lambdahouston.org
SUMMARY:Saturday Night Live
DESCRIPTION:Every Saturday except for the last Saturday of the month.
URL:https://lambdahouston.org/events/saturday-night-live/2025-12-20
LOCATION:Lambda Center Houston\, West Clay Street\, Houston\, TX\, 77019\, United States
CATEGORIES:AA
GEO:29.7551684;-95.3940619
X-APPLE-STRUCTURED-LOCATION;VALUE=URI;X-ADDRESS=Lambda Center Houston West Clay Street Houston TX 77019 United States;X-APPLE-RADIUS=500;X-TITLE=West Clay Street:geo:-95.3940619,29.7551684
END:VEVENT
BEGIN:VEVENT
DTSTART;TZID=America/Chicago:20251220T203000
DTEND;TZID=America/Chicago:20251220T213000
DTSTAMP:20260425T193015
CREATED:20240715T032739Z
LAST-MODIFIED:20250601T152213Z
UID:10028841-1766262600-1766266200@lambdahouston.org
SUMMARY:Candlelight Meeting
DESCRIPTION:
URL:https://lambdahouston.org/events/candlelight-meeting/2025-12-20
LOCATION:Lambda Center Houston\, West Clay Street\, Houston\, TX\, 77019\, United States
CATEGORIES:CMA
GEO:29.7551684;-95.3940619
X-APPLE-STRUCTURED-LOCATION;VALUE=URI;X-ADDRESS=Lambda Center Houston West Clay Street Houston TX 77019 United States;X-APPLE-RADIUS=500;X-TITLE=West Clay Street:geo:-95.3940619,29.7551684
END:VEVENT
BEGIN:VEVENT
DTSTART;TZID=America/Chicago:20251220T230000
DTEND;TZID=America/Chicago:20251220T230000
DTSTAMP:20260425T193015
CREATED:20240715T034712Z
LAST-MODIFIED:20240715T135633Z
UID:10022390-1766271600-1766271600@lambdahouston.org
SUMMARY:Lambda Center Closes
DESCRIPTION:
URL:https://lambdahouston.org/events/lambda-center-closes-2/2025-12-20
LOCATION:Lambda Center Houston\, West Clay Street\, Houston\, TX\, 77019\, United States
GEO:29.7551684;-95.3940619
X-APPLE-STRUCTURED-LOCATION;VALUE=URI;X-ADDRESS=Lambda Center Houston West Clay Street Houston TX 77019 United States;X-APPLE-RADIUS=500;X-TITLE=West Clay Street:geo:-95.3940619,29.7551684
END:VEVENT
BEGIN:VEVENT
DTSTART;TZID=America/Chicago:20251221T090000
DTEND;TZID=America/Chicago:20251221T090000
DTSTAMP:20260425T193015
CREATED:20240715T034904Z
LAST-MODIFIED:20240715T135258Z
UID:10022651-1766307600-1766307600@lambdahouston.org
SUMMARY:Lambda Center Opens
DESCRIPTION:
URL:https://lambdahouston.org/events/lambda-center-opens-3/2025-12-21
LOCATION:Lambda Center Houston\, West Clay Street\, Houston\, TX\, 77019\, United States
GEO:29.7551684;-95.3940619
X-APPLE-STRUCTURED-LOCATION;VALUE=URI;X-ADDRESS=Lambda Center Houston West Clay Street Houston TX 77019 United States;X-APPLE-RADIUS=500;X-TITLE=West Clay Street:geo:-95.3940619,29.7551684
END:VEVENT
BEGIN:VEVENT
DTSTART;TZID=America/Chicago:20251221T093000
DTEND;TZID=America/Chicago:20251221T100000
DTSTAMP:20260425T193015
CREATED:20240714T150551Z
LAST-MODIFIED:20240714T150711Z
UID:10000726-1766309400-1766311200@lambdahouston.org
SUMMARY:Came to Believe
DESCRIPTION:
URL:https://lambdahouston.org/events/came-to-believe/2025-12-21
LOCATION:Lambda Center Houston\, West Clay Street\, Houston\, TX\, 77019\, United States
CATEGORIES:AA
GEO:29.7551684;-95.3940619
X-APPLE-STRUCTURED-LOCATION;VALUE=URI;X-ADDRESS=Lambda Center Houston West Clay Street Houston TX 77019 United States;X-APPLE-RADIUS=500;X-TITLE=West Clay Street:geo:-95.3940619,29.7551684
END:VEVENT
BEGIN:VEVENT
DTSTART;TZID=America/Chicago:20251221T093000
DTEND;TZID=America/Chicago:20251221T103000
DTSTAMP:20260425T193015
CREATED:20240719T141047Z
LAST-MODIFIED:20240719T141047Z
UID:10025000-1766309400-1766313000@lambdahouston.org
SUMMARY:Virtual Came to Believe
DESCRIPTION:Sunday 9:30 AM\nOpen AA Discussion\nbit.ly/lambdasun930\nMeeting ID: 236-304-186 | Passcode: 878696 \nJOIN MEETING
URL:https://lambdahouston.org/events/virtual-came-to-believe/2025-12-21
LOCATION:Zoom
CATEGORIES:AA
END:VEVENT
BEGIN:VEVENT
DTSTART;TZID=America/Chicago:20251221T104500
DTEND;TZID=America/Chicago:20251221T114500
DTSTAMP:20260425T193015
CREATED:20240719T141309Z
LAST-MODIFIED:20240719T141309Z
UID:10025261-1766313900-1766317500@lambdahouston.org
SUMMARY:Virtual Sunday ACA
DESCRIPTION:Sunday 10:45 PM\nOpen ACA Discussion\nbit.ly/lambdaaca\nMeeting ID: 898-5987-2968 | Passcode: None (Waiting Room) \nJOIN MEETING
URL:https://lambdahouston.org/events/virtual-sunday-aca/2025-12-21
LOCATION:Zoom
CATEGORIES:ACA
END:VEVENT
BEGIN:VEVENT
DTSTART;TZID=America/Chicago:20251221T104500
DTEND;TZID=America/Chicago:20251221T121500
DTSTAMP:20260425T193015
CREATED:20240714T151926Z
LAST-MODIFIED:20240714T151926Z
UID:10000988-1766313900-1766319300@lambdahouston.org
SUMMARY:The Yellow Workbook (90 mins)
DESCRIPTION:
URL:https://lambdahouston.org/events/the-yellow-workbook-90-mins/2025-12-21
LOCATION:Lambda Center Houston\, West Clay Street\, Houston\, TX\, 77019\, United States
CATEGORIES:ACA
GEO:29.7551684;-95.3940619
X-APPLE-STRUCTURED-LOCATION;VALUE=URI;X-ADDRESS=Lambda Center Houston West Clay Street Houston TX 77019 United States;X-APPLE-RADIUS=500;X-TITLE=West Clay Street:geo:-95.3940619,29.7551684
END:VEVENT
BEGIN:VEVENT
DTSTART;TZID=America/Chicago:20251221T110000
DTEND;TZID=America/Chicago:20251221T120000
DTSTAMP:20260425T193015
CREATED:20240714T195040Z
LAST-MODIFIED:20240714T195040Z
UID:10001249-1766314800-1766318400@lambdahouston.org
SUMMARY:Hang Loose Grapevine
DESCRIPTION:
URL:https://lambdahouston.org/events/hang-loose-grapevine/2025-12-21
LOCATION:Lambda Center Houston\, West Clay Street\, Houston\, TX\, 77019\, United States
CATEGORIES:AA
GEO:29.7551684;-95.3940619
X-APPLE-STRUCTURED-LOCATION;VALUE=URI;X-ADDRESS=Lambda Center Houston West Clay Street Houston TX 77019 United States;X-APPLE-RADIUS=500;X-TITLE=West Clay Street:geo:-95.3940619,29.7551684
END:VEVENT
BEGIN:VEVENT
DTSTART;TZID=America/Chicago:20251221T130000
DTEND;TZID=America/Chicago:20251221T140000
DTSTAMP:20260425T193015
CREATED:20250308T235628Z
LAST-MODIFIED:20260114T214204Z
UID:10027976-1766322000-1766325600@lambdahouston.org
SUMMARY:Turning Over a New Leaf
DESCRIPTION:
URL:https://lambdahouston.org/events/turning-over-a-new-leaf/2025-12-21
LOCATION:Lambda Center Houston\, West Clay Street\, Houston\, TX\, 77019\, United States
CATEGORIES:MA
GEO:29.7551684;-95.3940619
X-APPLE-STRUCTURED-LOCATION;VALUE=URI;X-ADDRESS=Lambda Center Houston West Clay Street Houston TX 77019 United States;X-APPLE-RADIUS=500;X-TITLE=West Clay Street:geo:-95.3940619,29.7551684
END:VEVENT
BEGIN:VEVENT
DTSTART;TZID=America/Chicago:20251221T150000
DTEND;TZID=America/Chicago:20251221T160000
DTSTAMP:20260425T193015
CREATED:20250506T003927Z
LAST-MODIFIED:20250506T003927Z
UID:10028492-1766329200-1766332800@lambdahouston.org
SUMMARY:Internet & Technology Addicts Anonymous
DESCRIPTION:
URL:https://lambdahouston.org/events/internet-technology-addicts-anonymous/2025-12-21
LOCATION:Lambda Center Houston\, West Clay Street\, Houston\, TX\, 77019\, United States
CATEGORIES:ITAA
GEO:29.7551684;-95.3940619
X-APPLE-STRUCTURED-LOCATION;VALUE=URI;X-ADDRESS=Lambda Center Houston West Clay Street Houston TX 77019 United States;X-APPLE-RADIUS=500;X-TITLE=West Clay Street:geo:-95.3940619,29.7551684
END:VEVENT
BEGIN:VEVENT
DTSTART;TZID=America/Chicago:20251221T170000
DTEND;TZID=America/Chicago:20251221T180000
DTSTAMP:20260425T193015
CREATED:20240714T230656Z
LAST-MODIFIED:20240714T230656Z
UID:10001510-1766336400-1766340000@lambdahouston.org
SUMMARY:Stretch & Surrender (Yoga & Discussion)
DESCRIPTION:
URL:https://lambdahouston.org/events/stretch-surrender-yoga-discussion/2025-12-21
LOCATION:Lambda Center Houston\, West Clay Street\, Houston\, TX\, 77019\, United States
CATEGORIES:AA
GEO:29.7551684;-95.3940619
X-APPLE-STRUCTURED-LOCATION;VALUE=URI;X-ADDRESS=Lambda Center Houston West Clay Street Houston TX 77019 United States;X-APPLE-RADIUS=500;X-TITLE=West Clay Street:geo:-95.3940619,29.7551684
END:VEVENT
BEGIN:VEVENT
DTSTART;TZID=America/Chicago:20251221T170000
DTEND;TZID=America/Chicago:20251221T180000
DTSTAMP:20260425T193015
CREATED:20250105T191631Z
LAST-MODIFIED:20250623T195737Z
UID:10029124-1766336400-1766340000@lambdahouston.org
SUMMARY:Laundry List
DESCRIPTION:
URL:https://lambdahouston.org/events/laundry-list/2025-12-21
LOCATION:Lambda Center Houston\, West Clay Street\, Houston\, TX\, 77019\, United States
CATEGORIES:ACA
GEO:29.7551684;-95.3940619
X-APPLE-STRUCTURED-LOCATION;VALUE=URI;X-ADDRESS=Lambda Center Houston West Clay Street Houston TX 77019 United States;X-APPLE-RADIUS=500;X-TITLE=West Clay Street:geo:-95.3940619,29.7551684
END:VEVENT
END:VCALENDAR