BEGIN:VCALENDAR
VERSION:2.0
PRODID:-//Lambda Center Houston - ECPv6.15.16//NONSGML v1.0//EN
CALSCALE:GREGORIAN
METHOD:PUBLISH
X-ORIGINAL-URL:https://lambdahouston.org
X-WR-CALDESC:Events for Lambda Center Houston
REFRESH-INTERVAL;VALUE=DURATION:PT1H
X-Robots-Tag:noindex
X-PUBLISHED-TTL:PT1H
BEGIN:VTIMEZONE
TZID:America/Chicago
BEGIN:DAYLIGHT
TZOFFSETFROM:-0600
TZOFFSETTO:-0500
TZNAME:CDT
DTSTART:20250309T080000
END:DAYLIGHT
BEGIN:STANDARD
TZOFFSETFROM:-0500
TZOFFSETTO:-0600
TZNAME:CST
DTSTART:20251102T070000
END:STANDARD
BEGIN:DAYLIGHT
TZOFFSETFROM:-0600
TZOFFSETTO:-0500
TZNAME:CDT
DTSTART:20260308T080000
END:DAYLIGHT
BEGIN:STANDARD
TZOFFSETFROM:-0500
TZOFFSETTO:-0600
TZNAME:CST
DTSTART:20261101T070000
END:STANDARD
BEGIN:DAYLIGHT
TZOFFSETFROM:-0600
TZOFFSETTO:-0500
TZNAME:CDT
DTSTART:20270314T080000
END:DAYLIGHT
BEGIN:STANDARD
TZOFFSETFROM:-0500
TZOFFSETTO:-0600
TZNAME:CST
DTSTART:20271107T070000
END:STANDARD
END:VTIMEZONE
BEGIN:VEVENT
DTSTART;TZID=America/Chicago:20260117T113000
DTEND;TZID=America/Chicago:20260117T123000
DTSTAMP:20260425T083433
CREATED:20240715T025611Z
LAST-MODIFIED:20240715T025611Z
UID:10018218-1768649400-1768653000@lambdahouston.org
SUMMARY:Eye Opener
DESCRIPTION:
URL:https://lambdahouston.org/events/eye-opener/2026-01-17
LOCATION:Lambda Center Houston\, West Clay Street\, Houston\, TX\, 77019\, United States
CATEGORIES:AA
GEO:29.7551684;-95.3940619
X-APPLE-STRUCTURED-LOCATION;VALUE=URI;X-ADDRESS=Lambda Center Houston West Clay Street Houston TX 77019 United States;X-APPLE-RADIUS=500;X-TITLE=West Clay Street:geo:-95.3940619,29.7551684
END:VEVENT
BEGIN:VEVENT
DTSTART;TZID=America/Chicago:20260117T113000
DTEND;TZID=America/Chicago:20260117T130000
DTSTAMP:20260425T083433
CREATED:20240715T030301Z
LAST-MODIFIED:20240715T030301Z
UID:10018479-1768649400-1768654800@lambdahouston.org
SUMMARY:Loving Parent Guidebook (90 mins)
DESCRIPTION:
URL:https://lambdahouston.org/events/loving-parent-guidebook-90-mins/2026-01-17
LOCATION:Lambda Center Houston\, West Clay Street\, Houston\, TX\, 77019\, United States
CATEGORIES:ACA
GEO:29.7551684;-95.3940619
X-APPLE-STRUCTURED-LOCATION;VALUE=URI;X-ADDRESS=Lambda Center Houston West Clay Street Houston TX 77019 United States;X-APPLE-RADIUS=500;X-TITLE=West Clay Street:geo:-95.3940619,29.7551684
END:VEVENT
BEGIN:VEVENT
DTSTART;TZID=America/Chicago:20260117T150000
DTEND;TZID=America/Chicago:20260117T160000
DTSTAMP:20260425T083433
CREATED:20240715T030647Z
LAST-MODIFIED:20240715T030647Z
UID:10018740-1768662000-1768665600@lambdahouston.org
SUMMARY:Meditate & Create
DESCRIPTION:
URL:https://lambdahouston.org/events/meditate-create/2026-01-17
LOCATION:Lambda Center Houston\, West Clay Street\, Houston\, TX\, 77019\, United States
CATEGORIES:AA
GEO:29.7551684;-95.3940619
X-APPLE-STRUCTURED-LOCATION;VALUE=URI;X-ADDRESS=Lambda Center Houston West Clay Street Houston TX 77019 United States;X-APPLE-RADIUS=500;X-TITLE=West Clay Street:geo:-95.3940619,29.7551684
END:VEVENT
BEGIN:VEVENT
DTSTART;TZID=America/Chicago:20260117T190000
DTEND;TZID=America/Chicago:20260117T200000
DTSTAMP:20260425T083433
CREATED:20240715T031101Z
LAST-MODIFIED:20240715T031135Z
UID:10018983-1768676400-1768680000@lambdahouston.org
SUMMARY:Saturday Night Live
DESCRIPTION:Every Saturday except for the last Saturday of the month.
URL:https://lambdahouston.org/events/saturday-night-live/2026-01-17
LOCATION:Lambda Center Houston\, West Clay Street\, Houston\, TX\, 77019\, United States
CATEGORIES:AA
GEO:29.7551684;-95.3940619
X-APPLE-STRUCTURED-LOCATION;VALUE=URI;X-ADDRESS=Lambda Center Houston West Clay Street Houston TX 77019 United States;X-APPLE-RADIUS=500;X-TITLE=West Clay Street:geo:-95.3940619,29.7551684
END:VEVENT
BEGIN:VEVENT
DTSTART;TZID=America/Chicago:20260117T203000
DTEND;TZID=America/Chicago:20260117T213000
DTSTAMP:20260425T083433
CREATED:20240715T032739Z
LAST-MODIFIED:20250601T152213Z
UID:10028845-1768681800-1768685400@lambdahouston.org
SUMMARY:Candlelight Meeting
DESCRIPTION:
URL:https://lambdahouston.org/events/candlelight-meeting/2026-01-17
LOCATION:Lambda Center Houston\, West Clay Street\, Houston\, TX\, 77019\, United States
CATEGORIES:CMA
GEO:29.7551684;-95.3940619
X-APPLE-STRUCTURED-LOCATION;VALUE=URI;X-ADDRESS=Lambda Center Houston West Clay Street Houston TX 77019 United States;X-APPLE-RADIUS=500;X-TITLE=West Clay Street:geo:-95.3940619,29.7551684
END:VEVENT
BEGIN:VEVENT
DTSTART;TZID=America/Chicago:20260117T230000
DTEND;TZID=America/Chicago:20260117T230000
DTSTAMP:20260425T083433
CREATED:20240715T034712Z
LAST-MODIFIED:20240715T135633Z
UID:10022394-1768690800-1768690800@lambdahouston.org
SUMMARY:Lambda Center Closes
DESCRIPTION:
URL:https://lambdahouston.org/events/lambda-center-closes-2/2026-01-17
LOCATION:Lambda Center Houston\, West Clay Street\, Houston\, TX\, 77019\, United States
GEO:29.7551684;-95.3940619
X-APPLE-STRUCTURED-LOCATION;VALUE=URI;X-ADDRESS=Lambda Center Houston West Clay Street Houston TX 77019 United States;X-APPLE-RADIUS=500;X-TITLE=West Clay Street:geo:-95.3940619,29.7551684
END:VEVENT
BEGIN:VEVENT
DTSTART;TZID=America/Chicago:20260118T090000
DTEND;TZID=America/Chicago:20260118T090000
DTSTAMP:20260425T083433
CREATED:20240715T034904Z
LAST-MODIFIED:20240715T135258Z
UID:10022655-1768726800-1768726800@lambdahouston.org
SUMMARY:Lambda Center Opens
DESCRIPTION:
URL:https://lambdahouston.org/events/lambda-center-opens-3/2026-01-18
LOCATION:Lambda Center Houston\, West Clay Street\, Houston\, TX\, 77019\, United States
GEO:29.7551684;-95.3940619
X-APPLE-STRUCTURED-LOCATION;VALUE=URI;X-ADDRESS=Lambda Center Houston West Clay Street Houston TX 77019 United States;X-APPLE-RADIUS=500;X-TITLE=West Clay Street:geo:-95.3940619,29.7551684
END:VEVENT
BEGIN:VEVENT
DTSTART;TZID=America/Chicago:20260118T093000
DTEND;TZID=America/Chicago:20260118T100000
DTSTAMP:20260425T083433
CREATED:20240714T150551Z
LAST-MODIFIED:20240714T150711Z
UID:10000730-1768728600-1768730400@lambdahouston.org
SUMMARY:Came to Believe
DESCRIPTION:
URL:https://lambdahouston.org/events/came-to-believe/2026-01-18
LOCATION:Lambda Center Houston\, West Clay Street\, Houston\, TX\, 77019\, United States
CATEGORIES:AA
GEO:29.7551684;-95.3940619
X-APPLE-STRUCTURED-LOCATION;VALUE=URI;X-ADDRESS=Lambda Center Houston West Clay Street Houston TX 77019 United States;X-APPLE-RADIUS=500;X-TITLE=West Clay Street:geo:-95.3940619,29.7551684
END:VEVENT
BEGIN:VEVENT
DTSTART;TZID=America/Chicago:20260118T093000
DTEND;TZID=America/Chicago:20260118T103000
DTSTAMP:20260425T083433
CREATED:20240719T141047Z
LAST-MODIFIED:20240719T141047Z
UID:10025004-1768728600-1768732200@lambdahouston.org
SUMMARY:Virtual Came to Believe
DESCRIPTION:Sunday 9:30 AM\nOpen AA Discussion\nbit.ly/lambdasun930\nMeeting ID: 236-304-186 | Passcode: 878696 \nJOIN MEETING
URL:https://lambdahouston.org/events/virtual-came-to-believe/2026-01-18
LOCATION:Zoom
CATEGORIES:AA
END:VEVENT
BEGIN:VEVENT
DTSTART;TZID=America/Chicago:20260118T104500
DTEND;TZID=America/Chicago:20260118T114500
DTSTAMP:20260425T083433
CREATED:20240719T141309Z
LAST-MODIFIED:20240719T141309Z
UID:10025265-1768733100-1768736700@lambdahouston.org
SUMMARY:Virtual Sunday ACA
DESCRIPTION:Sunday 10:45 PM\nOpen ACA Discussion\nbit.ly/lambdaaca\nMeeting ID: 898-5987-2968 | Passcode: None (Waiting Room) \nJOIN MEETING
URL:https://lambdahouston.org/events/virtual-sunday-aca/2026-01-18
LOCATION:Zoom
CATEGORIES:ACA
END:VEVENT
BEGIN:VEVENT
DTSTART;TZID=America/Chicago:20260118T104500
DTEND;TZID=America/Chicago:20260118T121500
DTSTAMP:20260425T083433
CREATED:20240714T151926Z
LAST-MODIFIED:20240714T151926Z
UID:10000992-1768733100-1768738500@lambdahouston.org
SUMMARY:The Yellow Workbook (90 mins)
DESCRIPTION:
URL:https://lambdahouston.org/events/the-yellow-workbook-90-mins/2026-01-18
LOCATION:Lambda Center Houston\, West Clay Street\, Houston\, TX\, 77019\, United States
CATEGORIES:ACA
GEO:29.7551684;-95.3940619
X-APPLE-STRUCTURED-LOCATION;VALUE=URI;X-ADDRESS=Lambda Center Houston West Clay Street Houston TX 77019 United States;X-APPLE-RADIUS=500;X-TITLE=West Clay Street:geo:-95.3940619,29.7551684
END:VEVENT
BEGIN:VEVENT
DTSTART;TZID=America/Chicago:20260118T110000
DTEND;TZID=America/Chicago:20260118T120000
DTSTAMP:20260425T083433
CREATED:20240714T195040Z
LAST-MODIFIED:20240714T195040Z
UID:10001253-1768734000-1768737600@lambdahouston.org
SUMMARY:Hang Loose Grapevine
DESCRIPTION:
URL:https://lambdahouston.org/events/hang-loose-grapevine/2026-01-18
LOCATION:Lambda Center Houston\, West Clay Street\, Houston\, TX\, 77019\, United States
CATEGORIES:AA
GEO:29.7551684;-95.3940619
X-APPLE-STRUCTURED-LOCATION;VALUE=URI;X-ADDRESS=Lambda Center Houston West Clay Street Houston TX 77019 United States;X-APPLE-RADIUS=500;X-TITLE=West Clay Street:geo:-95.3940619,29.7551684
END:VEVENT
BEGIN:VEVENT
DTSTART;TZID=America/Chicago:20260118T123000
DTEND;TZID=America/Chicago:20260118T133000
DTSTAMP:20260425T083433
CREATED:20260114T214642Z
LAST-MODIFIED:20260114T214642Z
UID:10033368-1768739400-1768743000@lambdahouston.org
SUMMARY:The Principles in Practice
DESCRIPTION:
URL:https://lambdahouston.org/events/the-principles-in-practice/2026-01-18
LOCATION:Lambda Center Houston\, West Clay Street\, Houston\, TX\, 77019\, United States
CATEGORIES:AA
GEO:29.7551684;-95.3940619
X-APPLE-STRUCTURED-LOCATION;VALUE=URI;X-ADDRESS=Lambda Center Houston West Clay Street Houston TX 77019 United States;X-APPLE-RADIUS=500;X-TITLE=West Clay Street:geo:-95.3940619,29.7551684
END:VEVENT
BEGIN:VEVENT
DTSTART;TZID=America/Chicago:20260118T130000
DTEND;TZID=America/Chicago:20260118T140000
DTSTAMP:20260425T083433
CREATED:20250308T235628Z
LAST-MODIFIED:20260114T214204Z
UID:10027980-1768741200-1768744800@lambdahouston.org
SUMMARY:Turning Over a New Leaf
DESCRIPTION:
URL:https://lambdahouston.org/events/turning-over-a-new-leaf/2026-01-18
LOCATION:Lambda Center Houston\, West Clay Street\, Houston\, TX\, 77019\, United States
CATEGORIES:MA
GEO:29.7551684;-95.3940619
X-APPLE-STRUCTURED-LOCATION;VALUE=URI;X-ADDRESS=Lambda Center Houston West Clay Street Houston TX 77019 United States;X-APPLE-RADIUS=500;X-TITLE=West Clay Street:geo:-95.3940619,29.7551684
END:VEVENT
BEGIN:VEVENT
DTSTART;TZID=America/Chicago:20260118T150000
DTEND;TZID=America/Chicago:20260118T160000
DTSTAMP:20260425T083433
CREATED:20250506T003927Z
LAST-MODIFIED:20250506T003927Z
UID:10028496-1768748400-1768752000@lambdahouston.org
SUMMARY:Internet & Technology Addicts Anonymous
DESCRIPTION:
URL:https://lambdahouston.org/events/internet-technology-addicts-anonymous/2026-01-18
LOCATION:Lambda Center Houston\, West Clay Street\, Houston\, TX\, 77019\, United States
CATEGORIES:ITAA
GEO:29.7551684;-95.3940619
X-APPLE-STRUCTURED-LOCATION;VALUE=URI;X-ADDRESS=Lambda Center Houston West Clay Street Houston TX 77019 United States;X-APPLE-RADIUS=500;X-TITLE=West Clay Street:geo:-95.3940619,29.7551684
END:VEVENT
BEGIN:VEVENT
DTSTART;TZID=America/Chicago:20260118T170000
DTEND;TZID=America/Chicago:20260118T180000
DTSTAMP:20260425T083433
CREATED:20240714T230656Z
LAST-MODIFIED:20240714T230656Z
UID:10001514-1768755600-1768759200@lambdahouston.org
SUMMARY:Stretch & Surrender (Yoga & Discussion)
DESCRIPTION:
URL:https://lambdahouston.org/events/stretch-surrender-yoga-discussion/2026-01-18
LOCATION:Lambda Center Houston\, West Clay Street\, Houston\, TX\, 77019\, United States
CATEGORIES:AA
GEO:29.7551684;-95.3940619
X-APPLE-STRUCTURED-LOCATION;VALUE=URI;X-ADDRESS=Lambda Center Houston West Clay Street Houston TX 77019 United States;X-APPLE-RADIUS=500;X-TITLE=West Clay Street:geo:-95.3940619,29.7551684
END:VEVENT
BEGIN:VEVENT
DTSTART;TZID=America/Chicago:20260118T170000
DTEND;TZID=America/Chicago:20260118T180000
DTSTAMP:20260425T083433
CREATED:20250105T191631Z
LAST-MODIFIED:20250623T195737Z
UID:10029128-1768755600-1768759200@lambdahouston.org
SUMMARY:Laundry List
DESCRIPTION:
URL:https://lambdahouston.org/events/laundry-list/2026-01-18
LOCATION:Lambda Center Houston\, West Clay Street\, Houston\, TX\, 77019\, United States
CATEGORIES:ACA
GEO:29.7551684;-95.3940619
X-APPLE-STRUCTURED-LOCATION;VALUE=URI;X-ADDRESS=Lambda Center Houston West Clay Street Houston TX 77019 United States;X-APPLE-RADIUS=500;X-TITLE=West Clay Street:geo:-95.3940619,29.7551684
END:VEVENT
BEGIN:VEVENT
DTSTART;TZID=America/Chicago:20260118T173000
DTEND;TZID=America/Chicago:20260118T183000
DTSTAMP:20260425T083433
CREATED:20240714T231133Z
LAST-MODIFIED:20240714T231133Z
UID:10001775-1768757400-1768761000@lambdahouston.org
SUMMARY:Breaking Free
DESCRIPTION:
URL:https://lambdahouston.org/events/breaking-free/2026-01-18
LOCATION:Lambda Center Houston\, West Clay Street\, Houston\, TX\, 77019\, United States
CATEGORIES:CMA
GEO:29.7551684;-95.3940619
X-APPLE-STRUCTURED-LOCATION;VALUE=URI;X-ADDRESS=Lambda Center Houston West Clay Street Houston TX 77019 United States;X-APPLE-RADIUS=500;X-TITLE=West Clay Street:geo:-95.3940619,29.7551684
END:VEVENT
BEGIN:VEVENT
DTSTART;TZID=America/Chicago:20260118T190000
DTEND;TZID=America/Chicago:20260118T200000
DTSTAMP:20260425T083433
CREATED:20240714T231512Z
LAST-MODIFIED:20240714T232212Z
UID:10002036-1768762800-1768766400@lambdahouston.org
SUMMARY:Sunday Evening
DESCRIPTION:
URL:https://lambdahouston.org/events/sunday-evening/2026-01-18
LOCATION:Lambda Center Houston\, West Clay Street\, Houston\, TX\, 77019\, United States
CATEGORIES:AA
GEO:29.7551684;-95.3940619
X-APPLE-STRUCTURED-LOCATION;VALUE=URI;X-ADDRESS=Lambda Center Houston West Clay Street Houston TX 77019 United States;X-APPLE-RADIUS=500;X-TITLE=West Clay Street:geo:-95.3940619,29.7551684
END:VEVENT
BEGIN:VEVENT
DTSTART;TZID=America/Chicago:20260118T190000
DTEND;TZID=America/Chicago:20260118T200000
DTSTAMP:20260425T083433
CREATED:20240714T232711Z
LAST-MODIFIED:20240714T232724Z
UID:10002298-1768762800-1768766400@lambdahouston.org
SUMMARY:PA Solutions
DESCRIPTION:
URL:https://lambdahouston.org/events/pa-solutions/2026-01-18
LOCATION:Lambda Center Houston\, West Clay Street\, Houston\, TX\, 77019\, United States
CATEGORIES:PA
GEO:29.7551684;-95.3940619
X-APPLE-STRUCTURED-LOCATION;VALUE=URI;X-ADDRESS=Lambda Center Houston West Clay Street Houston TX 77019 United States;X-APPLE-RADIUS=500;X-TITLE=West Clay Street:geo:-95.3940619,29.7551684
END:VEVENT
BEGIN:VEVENT
DTSTART;TZID=America/Chicago:20260118T190000
DTEND;TZID=America/Chicago:20260118T200000
DTSTAMP:20260425T083433
CREATED:20250506T003549Z
LAST-MODIFIED:20250506T003549Z
UID:10028234-1768762800-1768766400@lambdahouston.org
SUMMARY:Lambda Al-Anon
DESCRIPTION:
URL:https://lambdahouston.org/events/lambda-al-anon/2026-01-18
LOCATION:Lambda Center Houston\, West Clay Street\, Houston\, TX\, 77019\, United States
CATEGORIES:Al-Anon
GEO:29.7551684;-95.3940619
X-APPLE-STRUCTURED-LOCATION;VALUE=URI;X-ADDRESS=Lambda Center Houston West Clay Street Houston TX 77019 United States;X-APPLE-RADIUS=500;X-TITLE=West Clay Street:geo:-95.3940619,29.7551684
END:VEVENT
BEGIN:VEVENT
DTSTART;TZID=America/Chicago:20260118T203000
DTEND;TZID=America/Chicago:20260118T213000
DTSTAMP:20260425T083433
CREATED:20250623T201137Z
LAST-MODIFIED:20250623T205043Z
UID:10031658-1768768200-1768771800@lambdahouston.org
SUMMARY:Last Call for Serenity Sunday
DESCRIPTION:
URL:https://lambdahouston.org/events/last-call-for-serenity-sunday-2/2026-01-18
LOCATION:Lambda Center Houston\, West Clay Street\, Houston\, TX\, 77019\, United States
CATEGORIES:AA
GEO:29.7551684;-95.3940619
X-APPLE-STRUCTURED-LOCATION;VALUE=URI;X-ADDRESS=Lambda Center Houston West Clay Street Houston TX 77019 United States;X-APPLE-RADIUS=500;X-TITLE=West Clay Street:geo:-95.3940619,29.7551684
END:VEVENT
BEGIN:VEVENT
DTSTART;TZID=America/Chicago:20260118T220000
DTEND;TZID=America/Chicago:20260118T220000
DTSTAMP:20260425T083433
CREATED:20240715T035412Z
LAST-MODIFIED:20240715T135616Z
UID:10022915-1768773600-1768773600@lambdahouston.org
SUMMARY:Lambda Center Closes
DESCRIPTION:
URL:https://lambdahouston.org/events/lambda-center-closes-3/2026-01-18
LOCATION:Lambda Center Houston\, West Clay Street\, Houston\, TX\, 77019\, United States
GEO:29.7551684;-95.3940619
X-APPLE-STRUCTURED-LOCATION;VALUE=URI;X-ADDRESS=Lambda Center Houston West Clay Street Houston TX 77019 United States;X-APPLE-RADIUS=500;X-TITLE=West Clay Street:geo:-95.3940619,29.7551684
END:VEVENT
BEGIN:VEVENT
DTSTART;TZID=America/Chicago:20260119T060000
DTEND;TZID=America/Chicago:20260119T060000
DTSTAMP:20260425T083433
CREATED:20240715T033236Z
LAST-MODIFIED:20240715T135504Z
UID:10019840-1768802400-1768802400@lambdahouston.org
SUMMARY:Lambda Center Opens
DESCRIPTION:
URL:https://lambdahouston.org/events/lambda-center-opens/2026-01-19
LOCATION:Lambda Center Houston\, West Clay Street\, Houston\, TX\, 77019\, United States
GEO:29.7551684;-95.3940619
X-APPLE-STRUCTURED-LOCATION;VALUE=URI;X-ADDRESS=Lambda Center Houston West Clay Street Houston TX 77019 United States;X-APPLE-RADIUS=500;X-TITLE=West Clay Street:geo:-95.3940619,29.7551684
END:VEVENT
BEGIN:VEVENT
DTSTART;TZID=America/Chicago:20260119T063000
DTEND;TZID=America/Chicago:20260119T073000
DTSTAMP:20260425T083433
CREATED:20240714T233421Z
LAST-MODIFIED:20240714T233729Z
UID:10002820-1768804200-1768807800@lambdahouston.org
SUMMARY:Eyes Wide Shut
DESCRIPTION:
URL:https://lambdahouston.org/events/eyes-wide-shut/2026-01-19
LOCATION:Lambda Center Houston\, West Clay Street\, Houston\, TX\, 77019\, United States
CATEGORIES:AA
GEO:29.7551684;-95.3940619
X-APPLE-STRUCTURED-LOCATION;VALUE=URI;X-ADDRESS=Lambda Center Houston West Clay Street Houston TX 77019 United States;X-APPLE-RADIUS=500;X-TITLE=West Clay Street:geo:-95.3940619,29.7551684
END:VEVENT
BEGIN:VEVENT
DTSTART;TZID=America/Chicago:20260119T063000
DTEND;TZID=America/Chicago:20260119T073000
DTSTAMP:20260425T083433
CREATED:20240719T140125Z
LAST-MODIFIED:20240719T140125Z
UID:10023490-1768804200-1768807800@lambdahouston.org
SUMMARY:Virtual Eyes Wide Shut
DESCRIPTION:Monday-Friday 6:30 AM\nOpen AA Discussion\nbit.ly/lambdavirtualews\nMeeting ID: 199-058-948 | Passcode: 364724 \n  \nJOIN 6:30 AM MEETING
URL:https://lambdahouston.org/events/virtual-eyes-wide-shut/2026-01-19
LOCATION:Lambda Center Houston\, West Clay Street\, Houston\, TX\, 77019\, United States
CATEGORIES:AA
GEO:29.7551684;-95.3940619
X-APPLE-STRUCTURED-LOCATION;VALUE=URI;X-ADDRESS=Lambda Center Houston West Clay Street Houston TX 77019 United States;X-APPLE-RADIUS=500;X-TITLE=West Clay Street:geo:-95.3940619,29.7551684
END:VEVENT
BEGIN:VEVENT
DTSTART;TZID=America/Chicago:20260119T121500
DTEND;TZID=America/Chicago:20260119T131500
DTSTAMP:20260425T083433
CREATED:20240714T234923Z
LAST-MODIFIED:20240714T234923Z
UID:10009084-1768824900-1768828500@lambdahouston.org
SUMMARY:The 12:15 Group (Step Study)
DESCRIPTION:
URL:https://lambdahouston.org/events/the-1215-group-step-study/2026-01-19
LOCATION:Lambda Center Houston\, West Clay Street\, Houston\, TX\, 77019\, United States
CATEGORIES:AA
GEO:29.7551684;-95.3940619
X-APPLE-STRUCTURED-LOCATION;VALUE=URI;X-ADDRESS=Lambda Center Houston West Clay Street Houston TX 77019 United States;X-APPLE-RADIUS=500;X-TITLE=West Clay Street:geo:-95.3940619,29.7551684
END:VEVENT
BEGIN:VEVENT
DTSTART;TZID=America/Chicago:20260119T171500
DTEND;TZID=America/Chicago:20260119T181500
DTSTAMP:20260425T083433
CREATED:20240715T000011Z
LAST-MODIFIED:20240715T011758Z
UID:10009345-1768842900-1768846500@lambdahouston.org
SUMMARY:Keep Coming Back
DESCRIPTION:
URL:https://lambdahouston.org/events/keep-coming-back/2026-01-19
LOCATION:Lambda Center Houston\, West Clay Street\, Houston\, TX\, 77019\, United States
CATEGORIES:AA
GEO:29.7551684;-95.3940619
X-APPLE-STRUCTURED-LOCATION;VALUE=URI;X-ADDRESS=Lambda Center Houston West Clay Street Houston TX 77019 United States;X-APPLE-RADIUS=500;X-TITLE=West Clay Street:geo:-95.3940619,29.7551684
END:VEVENT
BEGIN:VEVENT
DTSTART;TZID=America/Chicago:20260119T183000
DTEND;TZID=America/Chicago:20260119T193000
DTSTAMP:20260425T083433
CREATED:20240715T003558Z
LAST-MODIFIED:20240715T003558Z
UID:10009606-1768847400-1768851000@lambdahouston.org
SUMMARY:Back to Basics (Women's Discussion)
DESCRIPTION:
URL:https://lambdahouston.org/events/back-to-basics-womens-discussion/2026-01-19
LOCATION:Lambda Center Houston\, West Clay Street\, Houston\, TX\, 77019\, United States
CATEGORIES:AA
GEO:29.7551684;-95.3940619
X-APPLE-STRUCTURED-LOCATION;VALUE=URI;X-ADDRESS=Lambda Center Houston West Clay Street Houston TX 77019 United States;X-APPLE-RADIUS=500;X-TITLE=West Clay Street:geo:-95.3940619,29.7551684
END:VEVENT
BEGIN:VEVENT
DTSTART;TZID=America/Chicago:20260119T183000
DTEND;TZID=America/Chicago:20260119T193000
DTSTAMP:20260425T083433
CREATED:20250909T170902Z
LAST-MODIFIED:20250909T174723Z
UID:10033001-1768847400-1768851000@lambdahouston.org
SUMMARY:Miss Amphetamine
DESCRIPTION:
URL:https://lambdahouston.org/events/miss-amphetamine/2026-01-19
LOCATION:Lambda Center Houston\, West Clay Street\, Houston\, TX\, 77019\, United States
CATEGORIES:CMA,Meetings
GEO:29.7551684;-95.3940619
X-APPLE-STRUCTURED-LOCATION;VALUE=URI;X-ADDRESS=Lambda Center Houston West Clay Street Houston TX 77019 United States;X-APPLE-RADIUS=500;X-TITLE=West Clay Street:geo:-95.3940619,29.7551684
END:VEVENT
END:VCALENDAR